BEGIN:VCALENDAR
VERSION:2.0
METHOD:PUBLISH
PRODID:-//hacksw/handcal//NONSGML v1.0//EN
BEGIN:VEVENT
DTSTAMP:20260419T165316Z
DTSTART:20100424T090000Z
DTEND:20100424T120000Z
UID:20100424T090000Z-20100424T120000Z-10@www.runningsocks.de
SUMMARY:Rothenberg-Bikemarathon
DESCRIPTION:Erstmals 2010\, zum 75 jährigen Vereinsjubiläum\,  wird de
 r Rothenberg-Bikemarathon ausgetragen.\nDie Strecke geht rund um Rothe
 nberg und  Glatzenstein.\nZur Auswahl stehen zwei Strecken: 37km (2 Ru
 nden)  und  55km (3 Runden) mit 680 Hm bzw 1020 Hm. Wir bieten euch an
 spruchsvolle  Anstiege und entsprechende Abfahrten gepaart mit erstkla
 ssigen  Singletrails. Zu über 90% verläuft die Strecke aber über breit
 e Forst-  und Schotterwege so daß es viele Möglichkeiten zum überholen
  gibt.\nDer Start ist am Samstag\, 24. April um 11 Uhr.\nEs wird eine 
 Kurzstrecke mit 37km und 680 Hm (2  Runden) und eine Langstrecke mit 5
 5 km und 1020 Hm (3 Runden) angeboten.\nAlle vorab angemeldeten Teilne
 hmer  bekommen das  Rothenberg-Bikemarathon-Trikot.\nWeitere Infos nd 
 Anmeldung auf der Seite des Veranstalters: Ski-Club-Rothenberg\, Schna
 ittach (SCR)  e.V.\nAusschreibung: Bike_marathon_2010
X-ALT-DESC;FMTTYPE=text/html:<p style=text-align: justify\;>Erstmals 2
 010\, zum 75 jährigen Vereinsjubiläum\,  wird der Rothenberg-Bikemarat
 hon ausgetragen.</p>\n<p style=text-align: justify\;>Die Strecke geht 
 rund um Rothenberg und  Glatzenstein.<br>\nZur Auswahl stehen zwei Str
 ecken: 37km (2 Runden)  und  55km (3 Runden) mit 680 Hm bzw 1020 Hm. W
 ir bieten euch anspruchsvolle  Anstiege und entsprechende Abfahrten ge
 paart mit erstklassigen  Singletrails. Zu über 90% verläuft die Streck
 e aber über breite Forst-  und Schotterwege so daß es viele Möglichkei
 ten zum überholen gibt.</p>\n<p style=text-align: justify\;>Der Start 
 ist am Samstag\, 24. April um 11 Uhr.</p>\n<p style=text-align: justif
 y\;>Es wird eine Kurzstrecke mit 37km und 680 Hm (2  Runden) und eine 
 Langstrecke mit 55 km und 1020 Hm (3 Runden) angeboten.</p>\n<p style=
 text-align: justify\;>Alle vorab angemeldeten Teilnehmer  bekommen das
   Rothenberg-Bikemarathon-Trikot.</p>\n<p style=text-align: justify\;>
 Weitere Infos nd Anmeldung auf der Seite des Veranstalters: <a href=ht
 tp://www.scrschnaittach.de/t3/index.php?id=212&amp\;type=1 target=_bla
 nk>Ski-Club-Rothenberg\, Schnaittach (SCR)  e.V.</a></p>\n<p style=tex
 t-align: justify\;>Ausschreibung: <a href=https://www.runningsocks.de/
 wordpress/wp-content/uploads/2010/02/Bike_marathon_2010.pdf>Bike_marat
 hon_2010</a></p>\n
URL:https://www.runningsocks.de/wordpress/terminkalender/eventsinglepa
 ge/?event_id=10&lang=de
ATTACH:https://www.runningsocks.de/wordpress/terminkalender/eventsingl
 epage/?event_id=10&lang=de
LOCATION:Schlittenhang am Fuße des Rothenberges\, Rabenshofer Weg\, Sc
 hnaittach
END:VEVENT
END:VCALENDAR
