BEGIN:VCALENDAR
VERSION:2.0
METHOD:PUBLISH
PRODID:-//hacksw/handcal//NONSGML v1.0//EN
BEGIN:VEVENT
DTSTAMP:20260419T165139Z
DTSTART:20110813T110000Z
DTEND:20110813T150000Z
UID:20110813T110000Z-20110813T150000Z-100@www.runningsocks.de
SUMMARY:3. Main-Post Mainfrankentriathlon
DESCRIPTION:Der Triathlon im Kitzinger und Würzburger Land\nFür Jeden!
  Volkstriathlon ohne Lizenz\n\nStrecken:\n\n\n\nWettkampfstrecken:\nOl
 ympische Distanz 1650m – 41\,5km – 10km\nVolkstriathlon Distanz 600m –
  20km – 5km\n\n\nOlympisch Start: \n13:00 Uhr Start Schwimmen 1750 m i
 n Gruppen Sandbank am Main Richtung Mainstockheim (Bustransfer)\n\n\nV
 olkstriathlon / Staffel Start:\n13:30 Uhr Start Bootshaus 700 m\n\n\n 
 \nDie Veranstaltung wird nach der gültigen VAO-”Veranstalter- und Ausr
 ichterordnung” durchgeführt.\n\n\nStart Radfahren\nOlympisch: 41\,5 km
  (1 Runde)\nVolkstriathlon / Staffel: 20 km (1 Runde) Wiese hinter der
  Synagoge (Wechselzone)\n\n\nOlympisch Laufen: \nStart Laufen 10 km (2
  Runden\, Asphalt) Wiese hinter der Synagoge (Wechselzone)\n\n\nVolkst
 riathlon / Staffel Laufen: \nStart Laufen 5 km (1 Runde\, Asphalt) Wie
 se hinter der Synagoge (Wechselzone)\n\n\nTeilnehmerlimit:\n500 Starte
 r\n\n\n\n\n\n\nNachmeldung:\nStarttag 10 – 12:00 Uhr\n\n\nStartunterla
 genausgabe:\n10 – 12:00 Uhr am Renntag an der Wechselzone \n\n\n Tages
 lizenz:\nBei  der Abholung der Startunterlagen ist der DTU-Startpass v
 orzulegen\,  somit werden die 10\,-- € Tageslizenz zurückerstattet. Wi
 rd der  DTU-Startpass nicht vorgelegt\, werden die 10\,-- € Tageslizen
 z  einbehalten.\nGruppeneinteilung wird bekannt gegeben!\n\n\nCheckIn:
 \nin der Wechselzone 10:00 – 12:00 Uhr (Wiese hinter der Synagoge)\n\n
 \nWettkampfbesprechung:\nin der Wechselzone 12:00 Uhr\nTeilnahme ist P
 flicht\n\n\nStart Olympisch:\n13:00 Uhr\n\n\nStart Volkstriathlon / St
 affel:\n13:30 Uhr \n\n\nTeilnehmerklassen:\nOlympisch: ab AK 1 (20 – 2
 4 Jahre) in 5-Jahresschritten gem. SpO Abs. C.1\nVolkstriathlon / Staf
 fel: ab JA (16/17 J.)\, JUN (18/19 J.)\, AK1 (20/24 J.) in 5-Jahressch
 ritten gem. SpO Abs. C.1\nWeiter gem. DTU-Sportordnung für beide Klass
 en.\n\n\n\n\n\n\nWertung und Ehrung:\naller Altersklassen\, unabhängig
  von der Teilnehmerzahl.\n\n\nStrafzeiten:\nDurch aufaddieren zur Radz
 eit. Olympische Distanz = 2 Min. /\nVolkstriathlon / Staffel = 1 Min.\
 n\n\nStaffelwertung:\n3 Teilnehmer /-innen egal ob Frauen-\, Männer- o
 der Mixed-Staffel\nBitte beachten Sie bei der Anmeldung auf die genaue
  Schreibweise der Staffelbezeichnung\n\n\nPreise:\nJeder Finisher erhä
 lt ein Erinnerungsgeschenk.\nDie  ersten 3 jeder Altersklasse erhalten
  bei der Siegerehrung am  Veranstaltungstag eine Urkunde\, alle andere
 n können diese im Internet  herunter laden.\nErgebnislistenaushang nac
 h der Siegerehrung.\nDer Erste jeder Altersklasse erhält einen Pokal!\
 n\n\nVerpflegung :\nAn der Rad- und Laufstrecke: Mineraldrink\, Minera
 lwasser\n\n\nIm Zielbereich:\nObst- und Kuchenbuffet\n\n\n\nAusschreib
 ung:\n\nAlle weiteren Infos und Online Anmeldung direkt beim Veranstal
 ter: Main-Post Frankentriathlon
X-ALT-DESC;FMTTYPE=text/html:<p style=text-align: center\;><span style
 =text-decoration: underline\;><span style=font-family: Arial\,Helvetic
 a\,Geneva\,Sans-serif\,sans-serif\;>Der Triathlon im Kitzinger und Wür
 zburger Land</span></span></p>\n<p style=text-align: center\;><span st
 yle=font-family: Arial\,Helvetica\,Geneva\,Sans-serif\,sans-serif\;>Fü
 r Jeden! Volkstriathlon ohne Lizenz</span></p>\n<h3>Strecken:</h3>\n<t
 able id=Tabelle9 border=1 cellspacing=1 cellpadding=1 width=100%>\n<tb
 ody>\n<tr height=28><td align=LEFT valign=TOP><span>Wettkampfstrecken:
 </span></td>\n<td align=LEFT valign=TOP><span>Olympische Distanz 1650m
  – 41\,5km – 10km<br>\nVolkstriathlon Distanz 600m – 20km – 5km</span>
 </td></tr>\n<tr><td align=LEFT valign=TOP><span>Olympisch Start: </spa
 n></td>\n<td align=LEFT valign=TOP><span>13:00 Uhr Start Schwimmen 175
 0 m in Gruppen Sandbank am Main Richtung Mainstockheim (Bustransfer)</
 span></td></tr>\n<tr><td align=LEFT valign=TOP><span>Volkstriathlon / 
 Staffel Start:</span></td>\n<td align=LEFT valign=TOP><span>13:30 Uhr 
 Start Bootshaus 700 m</span></td></tr>\n<tr><td><span style=font-famil
 y: Arial\,Helvetica\,Geneva\,Sans-serif\,sans-serif\;> </span></td>\n<
 td><span style=font-family: Arial\,Helvetica\,Geneva\,Sans-serif\,sans
 -serif\;>Die Veranstaltung wird nach der gültigen VAO-”Veranstalter- u
 nd Ausrichterordnung” durchgeführt.</span></td></tr>\n<tr><td align=LE
 FT valign=TOP><span>Start Radfahren</span></td>\n<td align=LEFT valign
 =TOP><span>Olympisch: 41\,5 km (1 Runde)<br>\nVolkstriathlon / Staffel
 : 20 km (1 Runde) Wiese hinter der Synagoge (Wechselzone)</span></td><
 /tr>\n<tr><td align=LEFT valign=TOP><span>Olympisch Laufen: </span></t
 d>\n<td align=LEFT valign=TOP><span>Start Laufen 10 km (2 Runden\, Asp
 halt) Wiese hinter der Synagoge (Wechselzone)</span></td></tr>\n<tr><t
 d align=LEFT valign=TOP><span>Volkstriathlon / Staffel Laufen: </span>
 </td>\n<td align=LEFT valign=TOP><span>Start Laufen 5 km (1 Runde\, As
 phalt) Wiese hinter der Synagoge (Wechselzone)</span></td></tr>\n<tr><
 td align=LEFT valign=TOP><span><strong>Teilnehmerlimit:</strong></span
 ></td>\n<td align=LEFT valign=TOP><span><strong>500 Starter</strong></
 span></td></tr>\n</tbody>\n</table>\n<table id=Tabelle9 border=1 cells
 pacing=1 cellpadding=1 width=100%>\n<tbody>\n<tr><td align=LEFT valign
 =TOP><span>Nachmeldung:</span></td>\n<td align=LEFT valign=TOP><span>S
 tarttag 10 – 12:00 Uhr</span></td></tr>\n<tr><td align=LEFT valign=TOP
 ><span>Startunterlagenausgabe:</span></td>\n<td align=LEFT valign=TOP>
 <span>10 – 12:00 Uhr am Renntag an der Wechselzone </span></td></tr>\n
 <tr><td align=LEFT valign=TOP><span style=font-family: Arial\,Helvetic
 a\,Geneva\,Sans-serif\,sans-serif\;> Tageslizenz:</span></td>\n<td ali
 gn=LEFT valign=TOP><span>Bei  der Abholung der Startunterlagen ist der
  DTU-Startpass vorzulegen\,  somit werden die 10\,&#8211\; € Tageslize
 nz zurückerstattet. Wird der  DTU-Startpass nicht vorgelegt\, werden d
 ie 10\,&#8211\; € Tageslizenz  einbehalten.<br>\nGruppeneinteilung wir
 d bekannt gegeben!</span></td></tr>\n<tr><td align=LEFT valign=TOP><sp
 an>CheckIn:</span></td>\n<td align=LEFT valign=TOP><span>in der Wechse
 lzone 10:00 – 12:00 Uhr (Wiese hinter der Synagoge)</span></td></tr>\n
 <tr><td align=LEFT valign=TOP><span>Wettkampfbesprechung:</span></td>\
 n<td align=LEFT valign=TOP><span>in der Wechselzone 12:00 Uhr<br>\nTei
 lnahme ist Pflicht</span></td></tr>\n<tr><td align=LEFT valign=TOP><sp
 an>Start Olympisch:</span></td>\n<td align=LEFT valign=TOP><span>13:00
  Uhr</span></td></tr>\n<tr><td align=LEFT valign=TOP><span>Start Volks
 triathlon / Staffel:</span></td>\n<td align=LEFT valign=TOP><span>13:3
 0 Uhr </span></td></tr>\n<tr><td align=LEFT valign=TOP><span>Teilnehme
 rklassen:</span></td>\n<td align=LEFT valign=TOP><span>Olympisch: ab A
 K 1 (20 – 24 Jahre) in 5-Jahresschritten gem. SpO Abs. C.1<br>\nVolkst
 riathlon / Staffel: ab JA (16/17 J.)\, JUN (18/19 J.)\, AK1 (20/24 J.)
  in 5-Jahresschritten gem. SpO Abs. C.1<br>\nWeiter gem. DTU-Sportordn
 ung für beide Klassen.</span></td></tr>\n</tbody>\n</table>\n<table id
 =Tabelle9 border=1 cellspacing=1 cellpadding=1 width=100%>\n<tbody>\n<
 tr><td align=LEFT valign=TOP><span>Wertung und Ehrung:</span></td>\n<t
 d align=LEFT valign=TOP><span>aller Altersklassen\, unabhängig von der
  Teilnehmerzahl.</span></td></tr>\n<tr><td align=LEFT valign=TOP><span
 >Strafzeiten:</span></td>\n<td align=LEFT valign=TOP><span>Durch aufad
 dieren zur Radzeit. Olympische Distanz = 2 Min. /<br>\nVolkstriathlon 
 / Staffel = 1 Min.</span></td></tr>\n<tr><td align=LEFT valign=TOP><sp
 an>Staffelwertung:</span></td>\n<td align=LEFT valign=TOP><span>3 Teil
 nehmer /-innen egal ob Frauen-\, Männer- oder Mixed-Staffel<br>\nBitte
  beachten Sie bei der Anmeldung auf die genaue Schreibweise der Staffe
 lbezeichnung</span></td></tr>\n<tr><td align=LEFT valign=TOP><span>Pre
 ise:</span></td>\n<td align=LEFT valign=TOP><span>Jeder Finisher erhäl
 t ein Erinnerungsgeschenk.<br>\nDie  ersten 3 jeder Altersklasse erhal
 ten bei der Siegerehrung am  Veranstaltungstag eine Urkunde\, alle and
 eren können diese im Internet  herunter laden.<br>\nErgebnislistenaush
 ang nach der Siegerehrung.<br>\nDer Erste jeder Altersklasse erhält ei
 nen Pokal!</span></td></tr>\n<tr><td align=LEFT valign=TOP><span>Verpf
 legung :</span></td>\n<td align=LEFT valign=TOP><span>An der Rad- und 
 Laufstrecke: Mineraldrink\, Mineralwasser</span></td></tr>\n<tr><td al
 ign=LEFT valign=TOP><span>Im Zielbereich:</span></td>\n<td align=LEFT 
 valign=TOP><span>Obst- und Kuchenbuffet</span></td></tr>\n</tbody>\n</
 table>\n<p>Ausschreibung:</p>\n<p>Alle weiteren Infos und Online Anmel
 dung direkt beim Veranstalter: <a href=http://www.mainfrankentriathlon
 .de/index.html>Main-Post Frankentriathlon</a></p>\n
URL:https://www.runningsocks.de/wordpress/terminkalender/eventsinglepa
 ge/?event_id=100&lang=de
ATTACH:https://www.runningsocks.de/wordpress/terminkalender/eventsingl
 epage/?event_id=100&lang=de
LOCATION:Alte Synagoge\, Kitzingen\, Landwehrstraße 1\, Kitzingen
END:VEVENT
END:VCALENDAR
