BEGIN:VCALENDAR
VERSION:2.0
METHOD:PUBLISH
PRODID:-//hacksw/handcal//NONSGML v1.0//EN
BEGIN:VEVENT
DTSTAMP:20260419T165411Z
DTSTART:20110814T080000Z
DTEND:20110814T130000Z
UID:20110814T080000Z-20110814T130000Z-101@www.runningsocks.de
SUMMARY:22. Regensburg-Triathlon
DESCRIPTION:Distanzen:\n\nOlympisch / Staffel (1\,5Km / 40Km / 10Km)\n
 \nSprint (0\,5K / 20Km / 5Km )\n\nStartgebühren:\n\nOlympische Distanz
  mit DTU Startpass:  €38\, ab 01.06.2011 €45\n\nOlympische Distanz ohn
 e DTU Startpass: €48\, ab 01.06.2011 €55\n\nSprintdistanz (kein Startp
 ass erforderlich): €30\, ab 01.06.2011 €35\n\nStaffel Olympische Dista
 nz:  €60\, ab 01.06.2011 €70\n\nZeitnahme:\n\nTransponder-Zeitmessung.
  Der Transponder wird vom Veranstalter gestellt.\n\nTeilnehmerlimit: \
 n\n700 Einzelstarter\n\n30 Staffeln\n\nNachmeldungen:\n\nSind gegen ei
 ne zusätzliche Gebühr von 10 Euro bis 8:00 Uhr am Wettkampftag möglich
  [nur Barzahlung]\, sofern noch Startplätze zur Verfügung stehen.\n\nA
 nmeldeschluss: \n\n06.08.2011\n\nDetails:\n\nAlle weiteren Infos sowie
  Online Anmeldung auf der Seite des Veranstalters: Tristar Regensburg
X-ALT-DESC;FMTTYPE=text/html:<p><strong>Distanzen:</strong><br>\n<br>\
 nOlympisch / Staffel (1\,5Km / 40Km / 10Km)</p>\n<p>Sprint (0\,5K / 20
 Km / 5Km )</p>\n<p><strong>Startgebühren:</strong><br>\n<br>\nOlympisc
 he Distanz mit DTU Startpass:  €38\, ab <strong>01.06.2011 </strong>€4
 5</p>\n<p>Olympische Distanz ohne DTU Startpass: €48\, ab <strong>01.0
 6.2011</strong> €55</p>\n<p>Sprintdistanz (kein Startpass erforderlich
 ): €30\, ab <strong>01.06.2011</strong> €35</p>\n<p>Staffel Olympische
  Distanz:  €60\, ab <strong>01.06.2011 </strong>€70</p>\n<p><strong>Ze
 itnahme:</strong><br>\n<br>\nTransponder-Zeitmessung.<strong> </strong
 >Der Transponder wird vom Veranstalter gestellt.</p>\n<p><strong>Teiln
 ehmerlimit: </strong><br>\n<br>\n700 Einzelstarter</p>\n<p>30 Staffeln
 </p>\n<p><strong>Nachmeldungen:</strong><br>\n<br>\nSind gegen eine zu
 sätzliche Gebühr von 10 Euro bis 8:00 Uhr am Wettkampftag möglich [nur
  Barzahlung]\, sofern noch Startplätze zur Verfügung stehen.</p>\n<p><
 strong>Anmeldeschluss: </strong><br>\n<br>\n06.08.2011</p>\n<p><strong
 >Details:</strong><br>\n<br>\nAlle weiteren Infos sowie Online Anmeldu
 ng auf der Seite des Veranstalters: <a href=http://tristar-regensburg.
 de/triathlon target=_blank>Tristar Regensburg</a></p>\n
URL:https://www.runningsocks.de/wordpress/terminkalender/eventsinglepa
 ge/?event_id=101&lang=de
ATTACH:https://www.runningsocks.de/wordpress/terminkalender/eventsingl
 epage/?event_id=101&lang=de
LOCATION:Dultplatz / Stadtamhof\, Regensburg / Dultplatz\, Stadtamhof\
 , Regensburg
END:VEVENT
END:VCALENDAR
