BEGIN:VCALENDAR
VERSION:2.0
METHOD:PUBLISH
PRODID:-//hacksw/handcal//NONSGML v1.0//EN
BEGIN:VEVENT
DTSTAMP:20260419T165719Z
DTSTART:20111101T173000Z
DTEND:20111101T183000Z
UID:20111101T173000Z-20111101T183000Z-102@www.runningsocks.de
SUMMARY:8. Sparkassen-Nachtlauf Neustadt / Aisch
DESCRIPTION:Volkslauf für alle\n\n\n\n	Kids 1\,4 km\n	Hobbylauf 4\,3 k
 m\n	Hauptlauf 10 km\n\nOrt:\n\nNeustadt/Aisch\nAm Marktplatz - Stadtze
 ntrum\n\nMeldeschluss\n\n30. Oktober 2011 17:00 h\n\nNachmeldungen:\n\
 nam Wettkampftag bis 16:30 h\n\nStartgebühr:\n\nLauf 1: Kinderlauf € 3
 \,--\nLauf 2: Hobbylauf € 5\,--\nLauf 3 Hauptlauf:  € 7\,--\n\nNachmel
 degebühr: \n\nLauf 1:        € 2\,--\nLauf 2 + 3 : € 3\,--\n\nZeitplan
 :\n\nab 16.00 Uhr Ausgabe der Startunterlagen im Rathaus\n\nStart Kind
 erlauf: 17.15 h\n\nStart Hobbylauf: 17.45 h\n\nStart Hauptlauf: 18.30 
 h\n\n \n\nWeiter Infos auf der Seite des Veranstalters\, www.sport-nea
 .de\n\nOnlineanmeldung:  Anmeldung
X-ALT-DESC;FMTTYPE=text/html:<p style=text-align: center\;><strong><sp
 an style=text-decoration: underline\;><span style=font-size: large\;>V
 olkslauf für alle</span></span><br>\n</strong></p>\n<ul>\n<li><strong>
 Kids 1\,4 km</strong></li>\n<li><strong>Hobbylauf 4\,3 km</strong></li
 >\n<li><strong>Hauptlauf 10 km</strong></li>\n</ul>\n<p><strong>Ort:</
 strong><br>\n<br>\nNeustadt/Aisch<br>\nAm Marktplatz &#8211\; Stadtzen
 trum</p>\n<p><strong>Meldeschluss</strong><br>\n<br>\n30. Oktober 2011
  17:00 h</p>\n<p><strong>Nachmeldungen:</strong><br>\n<br>\nam Wettkam
 pftag bis 16:30 h</p>\n<p><strong>Startgebühr:</strong><br>\n<br>\nLau
 f 1: Kinderlauf € 3\,&#8211\;<br>\nLauf 2: Hobbylauf € 5\,&#8211\;<br>
 \nLauf 3 Hauptlauf:  € 7\,&#8211\;</p>\n<p><strong>Nachmeldegebühr: </
 strong><br>\n<br>\nLauf 1:        € 2\,&#8211\;<br>\nLauf 2 + 3 : € 3\
 ,&#8211\;</p>\n<p><strong>Zeitplan:</strong><br>\n<br>\nab 16.00 Uhr A
 usgabe der Startunterlagen im Rathaus</p>\n<p>Start Kinderlauf: 17.15 
 h</p>\n<p>Start Hobbylauf: 17.45 h</p>\n<p>Start Hauptlauf: 18.30 h</p
 >\n<p>&nbsp\;</p>\n<p>Weiter Infos auf der Seite des Veranstalters\,<a
  href=http://www.sport-nea.de/html/nachtlauf.html target=_blank> www.s
 port-nea.de</a></p>\n<p>Onlineanmeldung:  <a href=http://www.sport-nea
 .de/html/anmeldung1.html target=_blank>Anmeldung</a></p>\n
URL:https://www.runningsocks.de/wordpress/terminkalender/eventsinglepa
 ge/?event_id=102&lang=de
ATTACH:https://www.runningsocks.de/wordpress/terminkalender/eventsingl
 epage/?event_id=102&lang=de
LOCATION:Neustadt Aisch\, Am Marktplatz\, Am Marktplatz\, Neustadt an 
 der Aisch
END:VEVENT
END:VCALENDAR
