BEGIN:VCALENDAR
VERSION:2.0
METHOD:PUBLISH
PRODID:-//hacksw/handcal//NONSGML v1.0//EN
BEGIN:VEVENT
DTSTAMP:20260419T165138Z
DTSTART:20111126T130000Z
DTEND:20111126T160000Z
UID:20111126T130000Z-20111126T160000Z-103@www.runningsocks.de
SUMMARY:9. Run & Bike Ungerthal
DESCRIPTION: \n\nZwei Läufer teilen sich ein Fahrrad. Dabei darf der A
 bstand zwischen dem Läufer und dem Radfahrer niemals mehr als 10 Meter
  betragen. Das “Paar” kann sich beliebig jederzeit abwechseln.\n\n\n\n
 Start:\n14.00 Uhr\, Waldparkplatz im Ungerthal\n\n\nStrecke:\nWellige\
 , vom öffentlichen Verkehr\ngeschlossene Waldwege\, ca. 17 km\n\n\nKla
 sseneinteilung:\nMänner\, Frauen und gemischte Paare\n\n\nOrganisation
 sbeitrag:\n15\,00€ pro Paar\n\n\nAnmeldung:\nHier klicken\n\n\nNachmel
 dung:\nVor Ort\, ab 13 Uhr\, 20\,00€ pro Paar\n\n\nSontiges:\nKuchenbu
 ffet und Getränke im\nZielraum\, sowie ein Lagerfeuer.\n(leider keine 
 Duschmöglichkeiten)\n\n\nSiegerehrung:\nCa. 1/2 Std. nach dem letzten\
 nZieleinlauf\n\n\nOrganisation:\nfun-race.org\n\n\n\nQuelle: www.fun-r
 ace.org
X-ALT-DESC;FMTTYPE=text/html:<p>&nbsp\;</p>\n<p>Zwei Läufer teilen sic
 h ein Fahrrad. Dabei darf der Abstand zwischen dem Läufer und dem Radf
 ahrer niemals mehr als 10 Meter betragen. Das “Paar” kann sich beliebi
 g jederzeit abwechseln.</p>\n<table style=border: 1px solid #b0c4de\; 
 width: 384px\; height: 236px\; border=1 frame=void rules=all align=cen
 ter>\n<tbody>\n<tr><td><span style=font-size: small\;>Start:</span></t
 d>\n<td><span style=font-size: small\;>14.00 Uhr\, Waldparkplatz im Un
 gerthal</span></td></tr>\n<tr><td><span style=font-size: small\;>Strec
 ke:</span></td>\n<td><span style=font-size: small\;>Wellige\, vom öffe
 ntlichen Verkehr<br>\ngeschlossene Waldwege\, ca. 17 km</span></td></t
 r>\n<tr><td><span style=font-size: small\;>Klasseneinteilung:</span></
 td>\n<td><span style=font-size: small\;>Männer\, Frauen und gemischte 
 Paare</span></td></tr>\n<tr><td><span style=font-size: small\;>Organis
 ationsbeitrag:</span></td>\n<td><span style=font-size: small\;>15\,00€
  pro Paar</span></td></tr>\n<tr><td><span style=font-size: small\;>Anm
 eldung:</span></td>\n<td><span style=font-size: small\;><a href=http:/
 /www.fun-race.org/termine-ausschreibungen/run-bike-2010/online-anmeldu
 ng/>Hier klicken</a></span></td></tr>\n<tr><td><span style=font-size: 
 small\;>Nachmeldung:</span></td>\n<td><span style=font-size: small\;>V
 or Ort\, ab 13 Uhr\, 20\,00€ pro Paar</span></td></tr>\n<tr><td><span 
 style=font-size: small\;>Sontiges:</span></td>\n<td><span style=font-s
 ize: small\;>Kuchenbuffet und Getränke im<br>\nZielraum\, sowie ein La
 gerfeuer.<br>\n(leider keine Duschmöglichkeiten)</span></td></tr>\n<tr
 ><td><span style=font-size: small\;>Siegerehrung:</span></td>\n<td><sp
 an style=font-size: small\;>Ca. 1/2 Std. nach dem letzten<br>\nZielein
 lauf</span></td></tr>\n<tr><td><span style=font-size: small\;>Organisa
 tion:</span></td>\n<td><a href=http://www.fun-race.org/willkommen/ tar
 get=_blank><span style=font-size: small\;>fun-race.org</span></a></td>
 </tr>\n</tbody>\n</table>\n<p>Quelle: <a href=http://www.fun-race.org/
  target=_blank>www.fun-race.org</a></p>\n
URL:https://www.runningsocks.de/wordpress/terminkalender/eventsinglepa
 ge/?event_id=103&lang=de
ATTACH:https://www.runningsocks.de/wordpress/terminkalender/eventsingl
 epage/?event_id=103&lang=de
LOCATION:Waldparkplatz im Ungerthal\, Ungerthaler Straße\, Büchenbach
END:VEVENT
END:VCALENDAR
