BEGIN:VCALENDAR
VERSION:2.0
METHOD:PUBLISH
PRODID:-//hacksw/handcal//NONSGML v1.0//EN
BEGIN:VEVENT
DTSTAMP:20260419T165530Z
DTSTART:20120415T070000Z
DTEND:20120415T100000Z
UID:20120415T070000Z-20120415T100000Z-104@www.runningsocks.de
SUMMARY:2. IFB HiRo Run 21.1
DESCRIPTION:Ein zauberhafter Halbmarathon - von Hilpoltstein über den 
 Main-Donau-Kanal zum Rothsee und wieder zurück.\n\nInfos :\n\n\n\nAuss
 chreibung:\n2. IFB HiRo Run 21.1\n\n\nTermin:\nSonntag\, 15.04.2012\n\
 n\nVeranstalter:\nLa Carrera TriTeam Rothsee 09 e.V.\n\n\nStartzeit:\n
 9:00 Uhr\n\n\nZielschluss:\n12:00 Uhr\n\n\nStart / Ziel:\nInnenstadt v
 on Hilpoltstein - Marktstraße\n\n\nGrußworte:\nBürgermeister Markus Ma
 hl\n\n\n\nLandrat Herbert Eckstein\n\n\n\nLeichathletik Kreisvorsitzen
 den Ralph Edelhäußer\n\n\nTeilnahme:\nTeilnahmeberechtigt am Halbmarat
 hon sind nur die Jahrgänge ab 1995 (16 Jahre und älter). Startberechti
 gt sind mit der offiziellen Startnummer alle\, die trainiert haben und
  gegen deren Teilnahme keine ärztlichen Bedenken bestehen. Eine Verein
 szugehörigkeit ist nicht erforderlich.\n\n\nTeilnehmerlimit:\n1000 Sta
 rter\n\n\nMeldeschluss:\nEntweder wenn das Teilnehmerlimit erreicht is
 t oder der 10.04.2012\n\n\nMeldegebühr:\nbis 31. November 2011:\n19 Eu
 ro\n\n\n\nvon 01.12.2011 bis 31.01.2012:\n22 Euro\n\n\n\nvon 01.02.201
 2 bis 12.04.2012:\n25 Euro\n\n\n\nNachmeldungen\n30 Euro oder keine Na
 chmeldung möglich wenn Teilnehmerlimit erreicht\n\n\n\nEs wird bei Nic
 htstart keine Meldegebühr zurückerstattet!\n\n\nFunktionsshirt\nJeder 
 Teilnehmer erhält für den Aufpreis von nur 5 Euro (Angabe bei Anmeldun
 g) beim Start ein HiRo Run Funktionsshirt.Bestellung eines Funktionssh
 irt bei einer Meldung bis zum 31.12.2011 möglich\n\n\nStartnummern-aus
 gabe\nGeschäftsräume IFB\, INNOVATIVE FINANZBERATUNGS AG\, Christoph-S
 turm-Str. 20 in Hilpoltstein\n\n\nZugläufer\nEs gibt sogenannte Zug- o
 der Luftballon Läufer für 1:30 Stunden\, 1:45 Stunden\, 2:00 Stunden u
 nd 2:15 Stunden Zielzeit\n\n\nZeitmessung\nErfolg über Chipmessung - H
 inweis dazu hier\n\n\nVerpflegung\nEs werden Versorgungsstellen mit Wa
 sser und Mineraldrinks aufgebaut\n\n\nUmkleidung und Duschen\nStadthal
 le Hilpoltstein\n\n\nOrganisations-leitung:\nIna Schuhmann\, Jennifer 
 Bürner und Ralf Schuhmann\n\n\nInternet mit Ausschreibung\, Meldung un
 d Ergebnissen:\nhttp://www.hiro-run.de\n\n\nWertungen:\nEine Klassente
 ilung erfolgt in nachstehenden Schritten: 16-19\, 20-29\, 30-34\, 35-3
 9\, 40-44\, 45-49\, 50-54\, 55-59\, 60-64\, 65-69\, 70 Jahre und älter
 . Maßgebend für die Einteilung in die Altersklassen ist das Geburtsjah
 r.Frauen und Männer werden lt. Leichtathletikordnung (LAO) des DLV get
 rennt voneinander gewertet.\n\n\nZeitplan:\nSamstag\, 14.04.2012\n\n\n
 \n\n\n\n	Startnummernausgabe\n\n\n14:00 - 17:00 Uhr Geschäftsräume IFB
 \, INNOVATIVE FINANZBERATUNGS AG\, Christoph-Sturm-Str. 20 in Hilpolts
 tein\n\n\n\nSonntag\, 15.04.2012\n\n\n\n\n\n\n	Startnummernausgabe\n\n
 \n7:00 - 8:45 Uhr GeschäftsräumeIFB\, INNOVATIVE FINANZBERATUNGS AG\, 
 Christoph-Sturm-Str. 20 in Hilpoltstein\n\n\n\n\n\n	Start Halbmarathon
 \n\n\n09:00 Uhr - Marktstr.\n\n\n\n\n\n	Zielschluss\n\n\n12:00 Uhr - M
 arktstr.\n\n\n\n\n\n	Siegerehrung\n\n\nca. 12:15 Uhr - Marktstraße bei
  jedem Wetter\n\n\nHaftung:\nDie Teilnahme erfolgt auf eigenes Risiko.
  Der Veranstalter übernimmt keine Haftung bei Unfällen auf der Strecke
  und gegen Dritte.\n\n\nHinweis zur Zeitmessung\nDie Zeitmessung erfol
 gt ausschließlich mit einem vom Veranstalter gestellten und am Schuh z
 u tragenden Easychip von Davengo.\nEine Teilnahme ist nur mit einem Ea
 sychip möglich – ohne Chip kein Start!Es können keine eigenen Chip ver
 wenden werden.Es handelt sich dabei um einen Einwegchip - es entfällt 
 dadurch die Leihgebühr.\n\nBitte befestigt Euren Easychip\, den ihr zu
 sammen mit euerer Startnummer bekommt\, sicher in der Schnürung Eures 
 Schuhs\, um die Zeitmessung zu gewährleisten.\n\n\nDisqualifikation:\n
 Unsere Veranstaltung wird nach den Richtlinien des DLV bzw. nach Vorga
 be des Veranstalters ausgerichtet.\nEin Verletzen führt unweigerlich z
 u einer Disqualifikation\, hierzu zählen insbesondere:\n\n	der Start o
 hne Startnummer\n	das Unkenntlichmachen\, Abdecken oder Entfernen der 
 Sponsorenlogos etc. an der Startnummer.\n	der Start ohne ZeitmessChip\
 n	die Überschreitung des vorgegebenen Zeitlimits\n	das Verlassen und/o
 der Abkürzen der Strecke\n	die Unterschreitung des vorgegebenen Alters
 \n\nBabyjogger dürfen mitgeführt werden\, bitte beim Start jedoch hint
 er dem Starterfeld einordnen. Das selbe gilt auch für Nordic Walker mi
 t Stecken - ACHTUNG Zeitlimit von 3 Stunden beachten.\n\n\n\n(Quelle: 
 http://www.hiro-run.de/)\n\nAlle weiteren\, aktuellen Infos auf der Se
 ite des Veranstalters:  IFB HiRo Run 21.1
X-ALT-DESC;FMTTYPE=text/html:<p>Ein zauberhafter Halbmarathon &#8211\;
  von Hilpoltstein über den Main-Donau-Kanal zum Rothsee und wieder zur
 ück.</p>\n<p><span style=text-decoration: underline\;><strong>Infos :<
 /strong></span></p>\n<table id=table4 style=width: 700px\; border=1>\n
 <tbody>\n<tr><td align=left valign=top width=150><strong>Ausschreibung
 :</strong></td>\n<td colspan=2 align=left valign=top width=650><strong
 >2. IFB HiRo Run 21.1</strong></td></tr>\n<tr><td align=left valign=to
 p width=150><strong>Termin:</strong></td>\n<td colspan=2 align=left va
 lign=top width=650><strong>Sonntag\, 15.04.2012</strong></td></tr>\n<t
 r><td align=left valign=top width=150>Veranstalter:</td>\n<td colspan=
 2 align=left valign=top width=650><a href=http://www.lacarrera-triteam
 .de/ target=_blank>La Carrera TriTeam Rothsee 09 e.V.</a></td></tr>\n<
 tr><td align=left valign=top width=150>Startzeit:</td>\n<td colspan=2 
 align=left valign=top width=650>9:00 Uhr</td></tr>\n<tr><td align=left
  valign=top width=150>Zielschluss:</td>\n<td colspan=2 align=left vali
 gn=top width=650>12:00 Uhr</td></tr>\n<tr><td align=left valign=top wi
 dth=150>Start / Ziel:</td>\n<td colspan=2 align=left valign=top width=
 650>Innenstadt von Hilpoltstein &#8211\; Marktstraße</td></tr>\n<tr><t
 d align=left valign=top width=150>Grußworte:</td>\n<td colspan=2 align
 =left valign=top width=600><a href=http://www.lacarrera-triteam.de/HiR
 oRun/mahl.pdf target=_blank>Bürgermeister Markus Mahl</a></td></tr>\n<
 tr><td align=left valign=top width=150></td>\n<td colspan=2 align=left
  valign=top width=650><a href=http://www.lacarrera-triteam.de/HiRoRun/
 eckstein.pdf target=_blank>Landrat Herbert Eckstein</a></td></tr>\n<tr
 ><td align=left valign=top width=150></td>\n<td colspan=2 align=left v
 align=top width=650><a href=http://www.lacarrera-triteam.de/HiRoRun/ed
 elhaeusser.pdf target=_blank>Leichathletik Kreisvorsitzenden Ralph Ede
 lhäußer</a></td></tr>\n<tr><td align=left valign=top width=150>Teilnah
 me:</td>\n<td colspan=2 align=left valign=top width=650>Teilnahmeberec
 htigt am Halbmarathon sind nur die Jahrgänge ab 1995 (16 Jahre und ält
 er). Startberechtigt sind mit der offiziellen Startnummer alle\, die t
 rainiert haben und gegen deren Teilnahme keine ärztlichen Bedenken bes
 tehen. Eine Vereinszugehörigkeit ist nicht erforderlich.</td></tr>\n<t
 r><td align=left valign=top width=150>Teilnehmerlimit:</td>\n<td colsp
 an=2 align=left valign=top width=650>1000 Starter</td></tr>\n<tr><td a
 lign=left valign=top width=150>Meldeschluss:</td>\n<td colspan=2 align
 =left valign=top width=650>Entweder wenn das Teilnehmerlimit erreicht 
 ist oder der 10.04.2012</td></tr>\n<tr><td align=left valign=top width
 =150>Meldegebühr:</td>\n<td align=left valign=top width=325>bis 31. No
 vember 2011:</td>\n<td align=left valign=top width=325>19 Euro</td></t
 r>\n<tr><td align=left valign=top width=150></td>\n<td align=left vali
 gn=top width=325>von 01.12.2011 bis 31.01.2012:</td>\n<td align=left v
 align=top width=325>22 Euro</td></tr>\n<tr><td align=left valign=top w
 idth=150></td>\n<td align=left valign=top width=325>von 01.02.2012 bis
  12.04.2012:</td>\n<td align=left valign=top width=325>25 Euro</td></t
 r>\n<tr><td align=left valign=top width=150></td>\n<td align=left vali
 gn=top width=325>Nachmeldungen</td>\n<td align=left valign=top width=3
 25>30 Euro oder keine Nachmeldung möglich wenn Teilnehmerlimit erreich
 t</td></tr>\n<tr><td align=left valign=top width=150></td>\n<td colspa
 n=2 align=left valign=top width=650>Es wird bei Nichtstart keine Melde
 gebühr zurückerstattet!</td></tr>\n<tr><td align=left valign=top width
 =150>Funktionsshirt</td>\n<td colspan=2 align=left valign=top width=65
 0>Jeder Teilnehmer erhält für den Aufpreis von nur 5 Euro (Angabe bei 
 Anmeldung) beim Start ein <strong>HiRo Run Funktionsshirt.</strong>Bes
 tellung eines Funktionsshirt bei einer Meldung bis zum 31.12.2011 mögl
 ich</td></tr>\n<tr><td align=left valign=top width=150>Startnummern-au
 sgabe</td>\n<td colspan=2 align=left valign=top width=650>Geschäftsräu
 me IFB\, INNOVATIVE FINANZBERATUNGS AG\, Christoph-Sturm-Str. 20 in Hi
 lpoltstein</td></tr>\n<tr><td align=left valign=top width=150>Zugläufe
 r</td>\n<td colspan=2 align=left valign=top width=650>Es gibt sogenann
 te Zug- oder Luftballon Läufer für 1:30 Stunden\, 1:45 Stunden\, 2:00 
 Stunden und 2:15 Stunden Zielzeit</td></tr>\n<tr><td align=left valign
 =top width=150>Zeitmessung</td>\n<td colspan=2 align=left valign=top w
 idth=650>Erfolg über Chipmessung &#8211\; <a href=http://www.hiro-run.
 de/ausschr.htm#chip0>Hinweis dazu hier</a></td></tr>\n<tr><td align=le
 ft valign=top width=150>Verpflegung</td>\n<td colspan=2 align=left val
 ign=top width=650>Es werden Versorgungsstellen mit Wasser und Minerald
 rinks aufgebaut</td></tr>\n<tr><td align=left valign=top width=150>Umk
 leidung und Duschen</td>\n<td colspan=2 align=left valign=top width=65
 0>Stadthalle Hilpoltstein</td></tr>\n<tr><td align=left valign=top wid
 th=150>Organisations-leitung:</td>\n<td colspan=2 align=left valign=to
 p width=650>Ina Schuhmann\, Jennifer Bürner und Ralf Schuhmann</td></t
 r>\n<tr><td align=left valign=top width=150>Internet mit Ausschreibung
 \, Meldung und Ergebnissen:</td>\n<td colspan=2 align=left valign=top 
 width=650><a href=http://www.hiro-run.de/>http://www.hiro-run.de</a></
 td></tr>\n<tr><td align=left valign=top width=150>Wertungen:</td>\n<td
  colspan=2 align=left valign=top width=650>Eine Klassenteilung erfolgt
  in nachstehenden Schritten: 16-19\, 20-29\, 30-34\, 35-39\, 40-44\, 4
 5-49\, 50-54\, 55-59\, 60-64\, 65-69\, 70 Jahre und älter. Maßgebend f
 ür die Einteilung in die Altersklassen ist das Geburtsjahr.Frauen und 
 Männer werden lt. Leichtathletikordnung (LAO) des DLV getrennt voneina
 nder gewertet.</td></tr>\n<tr><td align=left valign=top width=150>Zeit
 plan:</td>\n<td align=left valign=top width=325>Samstag\, 14.04.2012</
 td>\n<td align=left valign=top width=325></td></tr>\n<tr><td align=lef
 t valign=top width=150></td>\n<td align=left valign=top width=325><ul>
 \n<li>Startnummernausgabe</li>\n</ul></td>\n<td align=left valign=top 
 width=325><span style=color: #000000\;>14:00 &#8211\; 17:00 Uhr Geschä
 ftsräume IFB\, INNOVATIVE FINANZBERATUNGS AG\, Christoph-Sturm-Str. 20
  in Hilpoltstein</span></td></tr>\n<tr><td align=left valign=top width
 =150></td>\n<td align=left valign=top width=325>Sonntag\, 15.04.2012</
 td>\n<td align=left valign=top width=325></td></tr>\n<tr><td align=lef
 t valign=top width=150></td>\n<td align=left valign=top width=325><ul>
 \n<li>Startnummernausgabe</li>\n</ul></td>\n<td align=left valign=top 
 width=325>7:00 &#8211\; 8:45 Uhr GeschäftsräumeIFB\, INNOVATIVE FINANZ
 BERATUNGS AG\, Christoph-Sturm-Str. 20 in Hilpoltstein</td></tr>\n<tr>
 <td align=left valign=top width=150></td>\n<td align=left valign=top w
 idth=325><ul>\n<li>Start Halbmarathon</li>\n</ul></td>\n<td align=left
  valign=top width=325>09:00 Uhr &#8211\; Marktstr.</td></tr>\n<tr><td 
 align=left valign=top width=150></td>\n<td align=left valign=top width
 =325><ul>\n<li>Zielschluss</li>\n</ul></td>\n<td align=left valign=top
  width=325>12:00 Uhr &#8211\; Marktstr.</td></tr>\n<tr><td align=left 
 valign=top width=150></td>\n<td align=left valign=top width=325><ul>\n
 <li>Siegerehrung</li>\n</ul></td>\n<td align=left valign=top width=325
 >ca. 12:15 Uhr &#8211\; Marktstraße bei jedem Wetter</td></tr>\n<tr><t
 d align=left valign=top width=150>Haftung:</td>\n<td colspan=2 align=l
 eft valign=top width=650>Die Teilnahme erfolgt auf eigenes Risiko. Der
  Veranstalter übernimmt keine Haftung bei Unfällen auf der Strecke und
  gegen Dritte.</td></tr>\n<tr><td align=left valign=top width=150>Hinw
 eis zur Zeitmessung</td>\n<td colspan=2 align=left valign=top width=65
 0>Die Zeitmessung erfolgt ausschließlich mit einem vom Veranstalter ge
 stellten und am Schuh zu tragenden Easychip von <a href=http://www.dav
 engo.com/ target=_blank>Davengo</a>.<br>\nEine Teilnahme ist nur mit e
 inem Easychip möglich – ohne Chip kein Start!Es können keine eigenen C
 hip verwenden werden.Es handelt sich dabei um einen Einwegchip &#8211\
 ; es entfällt dadurch die Leihgebühr.</p>\n<p>Bitte befestigt Euren Ea
 sychip\, den ihr zusammen mit euerer Startnummer bekommt\, sicher in d
 er Schnürung Eures Schuhs\, um die Zeitmessung zu gewährleisten.</td><
 /tr>\n<tr><td align=left valign=top width=150>Disqualifikation:</td>\n
 <td colspan=2 align=left valign=top width=650>Unsere Veranstaltung wir
 d nach den Richtlinien des DLV bzw. nach Vorgabe des Veranstalters aus
 gerichtet.<br>\nEin Verletzen führt unweigerlich zu einer Disqualifika
 tion\, hierzu zählen insbesondere:</p>\n<ul>\n<li>der Start ohne Start
 nummer</li>\n<li>das Unkenntlichmachen\, Abdecken oder Entfernen der S
 ponsorenlogos etc. an der Startnummer.</li>\n<li>der Start ohne Zeitme
 ssChip</li>\n<li>die Überschreitung des vorgegebenen Zeitlimits</li>\n
 <li>das Verlassen und/oder Abkürzen der Strecke</li>\n<li>die Untersch
 reitung des vorgegebenen Alters</li>\n</ul>\n<p>Babyjogger dürfen mitg
 eführt werden\, bitte beim Start jedoch hinter dem Starterfeld einordn
 en. Das selbe gilt auch für Nordic Walker mit Stecken &#8211\; ACHTUNG
  Zeitlimit von 3 Stunden beachten.</td></tr>\n</tbody>\n</table>\n<p><
 strong>(Quelle: http://www.hiro-run.de/)</strong></p>\n<p><strong>Alle
  weiteren\, aktuellen Infos auf der Seite des Veranstalters:  <a href=
 http://www.hiro-run.de/>IFB HiRo Run 21.1</a></strong></p>\n
URL:https://www.runningsocks.de/wordpress/terminkalender/eventsinglepa
 ge/?event_id=104&lang=de
ATTACH:https://www.runningsocks.de/wordpress/terminkalender/eventsingl
 epage/?event_id=104&lang=de
LOCATION:Marktstrasse Hilpoltstein\, Marktstrasse 16\, Hilpoltstein
END:VEVENT
END:VCALENDAR
