BEGIN:VCALENDAR
VERSION:2.0
METHOD:PUBLISH
PRODID:-//hacksw/handcal//NONSGML v1.0//EN
BEGIN:VEVENT
DTSTAMP:20260419T165211Z
DTSTART:20120826T080000Z
DTEND:20120826T130000Z
UID:20120826T080000Z-20120826T130000Z-105@www.runningsocks.de
SUMMARY:26. Neustädter Volkstriathlon
DESCRIPTION:Zeitplan:\n08:00 bis 09:00 Uhr\nStartnummernausgabe\n\n\n\
 n\n09:15 Uhr\nWettkampfbesprechung (Teilnahmepflicht)\n\n\n\n\n10:00 U
 hr\n1. Start zu Gruppen von 40 Teilnehmern | 8 Starter pro Bahn | 5 Ba
 hnen. Weitere Starts im Abstand von je 15 Minuten\n\n\n\n\nca. 14:30 U
 hr\nSiegerehrung (Terrasse am Schwimmerbecken)\n\n\n\nDistanzen:\nSchw
 immen\n400 m (5 Bahnen)\n\n\n\n\nRadfahren\n20 000 m (NEA-Neuschauerbe
 rg–NEA)\n\n\n\n\nLaufen\n5 000 m (Stadtpark\, südlich Freibad)\n\n\n\n
 Teilnahme:\nStartberechtigt sind Personen ab 16 Jahre (Jhg. 1994)\n\n\
 n\nStartgeld:\n25\,00 € über Lastschrifteinzug bei online-Anmeldung so
 nst siehe Bankverbindung\n\n\nAnmeldung:\nhier geht's zum Meldeformula
 r\n\n\nMeldeschluss:\n21. August 2012 - 23:55\n\n\nNachmeldungen:\n30\
 ,00 € bei Nachmeldung bzw. Zahlung nach Meldeschluss\n\n\nQuelle:\nAll
 en Infos von: http://www.dlrg-nea.de\n\n\n\n \n\n \n\n \n\n \n\n \n\n 
 \n\n \n\n \n\n \n\n \n\n \n\n \n\n \n\nWeitere Info's und Onlineanmeld
 ung beim Veranstalter: DLRG OV Neustadt a.d. Aisch
X-ALT-DESC;FMTTYPE=text/html:<p><strong><span style=text-decoration: u
 nderline\; color: #ff0000\;><br>\n</span></strong></p>\n<table style=w
 idth: 700px\; border=0 cellspacing=5 cellpadding=5 align=left>\n<tbody
 >\n<tr><td valign=top><span style=font-size: small\;>Zeitplan:</span><
 /td>\n<td><span style=font-size: small\;>08:00 bis 09:00 Uhr</span></t
 d>\n<td colspan=2 valign=top><span style=font-size: small\;>Startnumme
 rnausgabe</span></td>\n<td></td></tr>\n<tr><td valign=top></td>\n<td><
 span style=font-size: small\;>09:15 Uhr</span></td>\n<td colspan=2><sp
 an style=font-size: small\;>Wettkampfbesprechung (Teilnahmepflicht)</s
 pan></td>\n<td></td></tr>\n<tr><td valign=top></td>\n<td valign=top><s
 pan style=font-size: small\;>10:00 Uhr</span></td>\n<td colspan=2><spa
 n style=font-size: small\;>1. Start zu Gruppen von 40 Teilnehmern | 8 
 Starter pro Bahn | 5 Bahnen. Weitere Starts im Abstand von je 15 Minut
 en</span></td>\n<td></td></tr>\n<tr><td valign=top></td>\n<td><span st
 yle=font-size: small\;>ca. 14:30 Uhr</span></td>\n<td colspan=2><span 
 style=font-size: small\;>Siegerehrung (Terrasse am Schwimmerbecken)</s
 pan></td>\n<td></td></tr>\n<tr><td valign=top><span style=font-size: s
 mall\;>Distanzen:</span></td>\n<td><span style=font-size: small\;>Schw
 immen</span></td>\n<td colspan=2><span style=font-size: small\;>400 m 
 (5 Bahnen)</span></td>\n<td></td></tr>\n<tr><td valign=top></td>\n<td>
 <span style=font-size: small\;>Radfahren</span></td>\n<td colspan=2><s
 pan style=font-size: small\;>20 000 m (NEA-Neuschauerberg–NEA)</span><
 /td>\n<td></td></tr>\n<tr><td valign=top></td>\n<td><span style=font-s
 ize: small\;>Laufen</span></td>\n<td colspan=2><span style=font-size: 
 small\;>5 000 m (Stadtpark\, südlich Freibad)</span></td>\n<td></td></
 tr>\n<tr><td valign=top><span style=font-size: small\;>Teilnahme:</spa
 n></td>\n<td colspan=3><span style=font-size: small\;>Startberechtigt 
 sind Personen ab 16 Jahre (Jhg. 1994)</span></td>\n<td></td></tr>\n<tr
 ><td valign=top><span style=font-size: small\;>Startgeld:</span></td>\
 n<td colspan=4><span style=font-size: small\;>25\,00 € über Lastschrif
 teinzug bei online-Anmeldung sonst siehe Bankverbindung</span></td></t
 r>\n<tr><td valign=top><span style=font-size: small\;>Anmeldung:</span
 ></td>\n<td colspan=4><span style=font-size: small\;>hier geht&#8217\;
 s zum <a href=http://www.dlrg-nea.de/index.php?option=com_seminar targ
 et=_blank>Meldeformular</a></span></td></tr>\n<tr><td valign=top><span
  style=font-size: small\;>Meldeschluss:</span></td>\n<td colspan=4><sp
 an style=font-size: small\;>21. August 2012 &#8211\; 23:55</span></td>
 </tr>\n<tr><td valign=top><span style=font-size: small\;>Nachmeldungen
 :</span></td>\n<td colspan=4><span style=font-size: small\;>30\,00 € b
 ei Nachmeldung bzw. Zahlung nach Meldeschluss</span></td></tr>\n<tr><t
 d valign=top><span style=font-size: small\;>Quelle:</span></td>\n<td c
 olspan=4><span style=font-size: small\;>Allen Infos von: http://www.dl
 rg-nea.de</span></td></tr>\n</tbody>\n</table>\n<p>&nbsp\;</p>\n<p>&nb
 sp\;</p>\n<p>&nbsp\;</p>\n<p>&nbsp\;</p>\n<p>&nbsp\;</p>\n<p>&nbsp\;</
 p>\n<p>&nbsp\;</p>\n<p>&nbsp\;</p>\n<p>&nbsp\;</p>\n<p>&nbsp\;</p>\n<p
 >&nbsp\;</p>\n<p>&nbsp\;</p>\n<p>&nbsp\;</p>\n<p>Weitere Info&#8217\;s
  und Onlineanmeldung beim Veranstalter: <a href=http://www.dlrg-nea.de
 /ausschreibung-2012 target=_blank>DLRG OV Neustadt a.d. Aisch</a></p>\
 n
URL:https://www.runningsocks.de/wordpress/terminkalender/eventsinglepa
 ge/?event_id=105&lang=de
ATTACH:https://www.runningsocks.de/wordpress/terminkalender/eventsingl
 epage/?event_id=105&lang=de
LOCATION:Neustädter Waldbad\, Eilersweg 5\, Neustadt a. d. Aisch
END:VEVENT
END:VCALENDAR
