BEGIN:VCALENDAR
VERSION:2.0
METHOD:PUBLISH
PRODID:-//hacksw/handcal//NONSGML v1.0//EN
BEGIN:VEVENT
DTSTAMP:20260419T165633Z
DTSTART:20111127T090000Z
DTEND:20111127T160000Z
UID:20111127T090000Z-20111127T160000Z-107@www.runningsocks.de
SUMMARY:2. Advent-Biathlon
DESCRIPTION:Am 26.11.2011 wir nun zum zweiten Male ein Fun-Sportevent 
 der ganz besonderen Art durchgeführt. In der winterlichen Umgebung des
  wunderschönen\, abgelegenen Ungerthals (Sitz des Hubert-Schwarz-Zentr
 ums) erlebt man gemeinsam mit Ihren Partnern\, Kollegen einen Biathlon
  den man nie mehr vergessen wird. Im weihnachtlichen Ambienté wurde de
 r Ungerthaler Advent-Biathlon im Jahre 2010 das erste Mal ausgetragen.
 \n\nDie Erlöse durch Startgelder fließen zu 100 Prozent in das Projekt
  „Menschen bewegen“.\n\nAusschreibung:\n\n[wpfilebase tag=file path='b
 iathlon/advent-biathlon/20111127/Ausschreibung_Ungerthaler-Adventbiath
 lon_2011.pdf']\n\nWeitere Info's sowie Anmeldung beim Veranstalter: Hu
 bert Schwarz\, Power of Mind
X-ALT-DESC;FMTTYPE=text/html:<p>Am 26.11.2011 wir nun zum zweiten Male
  ein Fun-Sportevent der ganz besonderen Art durchgeführt. In der winte
 rlichen Umgebung des wunderschönen\, abgelegenen Ungerthals (Sitz des 
 Hubert-Schwarz-Zentrums) erlebt man gemeinsam mit Ihren Partnern\, Kol
 legen einen Biathlon den man nie mehr vergessen wird. Im weihnachtlich
 en Ambienté wurde der Ungerthaler Advent-Biathlon im Jahre 2010 das er
 ste Mal ausgetragen.</p>\n<p>Die Erlöse durch Startgelder fließen zu 1
 00 Prozent in das Projekt <a title=Opens internal link in current wind
 ow href=http://www.hubert-schwarz.com/menschen-bewegen/>„Menschen bewe
 gen“</a>.</p>\n<p>Ausschreibung:</p>\n<p>[wpfilebase tag=file path=&#8
 217\;biathlon/advent-biathlon/20111127/Ausschreibung_Ungerthaler-Adven
 tbiathlon_2011.pdf&#8216\;]</p>\n<p>Weitere Info&#8217\;s sowie Anmeld
 ung beim Veranstalter: <a href=http://www.hubert-schwarz.com/event/adv
 ent-biathlon/ target=_blank>Hubert Schwarz\, Power of Mind</a></p>\n
URL:https://www.runningsocks.de/wordpress/terminkalender/eventsinglepa
 ge/?event_id=107&lang=de
ATTACH:https://www.runningsocks.de/wordpress/terminkalender/eventsingl
 epage/?event_id=107&lang=de
LOCATION:Hubert Schwarz Zentrum\, Ungerthal 2 1/2\, Büchenbach
END:VEVENT
END:VCALENDAR
