BEGIN:VCALENDAR
VERSION:2.0
METHOD:PUBLISH
PRODID:-//hacksw/handcal//NONSGML v1.0//EN
BEGIN:VEVENT
DTSTAMP:20260419T165410Z
DTSTART:20111231T120000Z
DTEND:20111231T140000Z
UID:20111231T120000Z-20111231T140000Z-108@www.runningsocks.de
SUMMARY:9. Nürnberger Silvesterlauf
DESCRIPTION:Liebe Läuferinnen und Läufer des letztjährigen Silvesterla
 ufs\,\n\nes ist wieder soweit. Seit 4. Oktober hat die Online-Anmeldun
 g zum 9. Nürnberger Silvesterlauf geöffnet.\n\nWir würden uns freuen\,
  wenn Sie/Du auch dieses Jahr den Beginn des Jahresausklangs 2011 mit 
 unserem Lauf rund um den Wöhrder See beginnen würden.\n\nWie jedes Jah
 r gibt es auch heuer einige kleinere Verbesserungen zum Vorjahr. Das W
 ichtigste ist sicherlich der neue Startbereich. Durch die Verlegung de
 r Startlinie auf die gegenüberliegende Seite der Wöhrder Wiese sind je
 tzt die ersten 800 Meter nach dem Start ohne Kurven. So können wir das
  Gedränge am Start noch weiter reduzieren. Bereits mit der Einführung 
 der individuellen Nettozeitmessung vor zwei Jahren konnten wir die Sta
 rtsituation deutlich entspannen.\n\nTrotzdem werden wir die Gesamtstar
 ter-Zahl im Hauptlauf weiterhin auf 1111 Starter/innen begrenzen\, da 
 wir unseren Teilnehmer/innen einen reibungslosen Ablauf bieten wollen.
  Erfahrungsgemäß lohnt sich also eine frühzeitige Anmeldung\, da der H
 auptlauf über 10km sicherlich spätestens Ende November ausgebucht ist.
 \n\nAktuelle Meldedaten:\n\n	26.11.2011:  10Km Hauptlauf 1059 Teilnehm
 er\n	26.11.2011:  5Km Hobbylauf 114 Teilnehmer\n	26.11.2011:  1600m Sc
 hüler 28 Teilnehmer\n	26.11.2011:  400m Bambini 17 Teilnehmer\n\nGutma
 nn Team Cup:\n\nMit dem diesjährigen Silvesterlauf 2010 haben wir die 
 neue Mannschaftswertung\, den „Gutmann-Team-Cup“ eingeführt. Beim 10-k
 m-Hauptlauf werden alle Teams gewertet\, die mit gleichem Vereins- ode
 r Gruppennamen (bitte bei der Online-Anmeldung unbedingt auf gleiche B
 ezeichnung achten!) eingetragen sind.\n\nAusschreibung\, Veranstalter\
 , Anmeldung:\n\nAusschreibung\, Flyer:\n\n[wpfilebase tag=file path='l
 auf/silvesterlauf-nuernberg/20111231/20111231_Ausschreibung_Nuernberge
 rSilvesterlauf.pdf']\n\nWeitere Info und Anmeldung beim Veranstalter: 
 Team Klinikum Nürnberg e. V.\n\nZur Online-Anmeldung: Anmeldung
X-ALT-DESC;FMTTYPE=text/html:<p>Liebe Läuferinnen und Läufer des letzt
 jährigen Silvesterlaufs\,</p>\n<p>es ist wieder soweit. Seit 4. Oktobe
 r hat die Online-Anmeldung zum 9. Nürnberger Silvesterlauf geöffnet.</
 p>\n<p>Wir würden uns freuen\, wenn Sie/Du auch dieses Jahr den Beginn
  des Jahresausklangs 2011 mit unserem Lauf rund um den Wöhrder See beg
 innen würden.</p>\n<p>Wie jedes Jahr gibt es auch heuer einige kleiner
 e Verbesserungen zum Vorjahr. Das Wichtigste ist sicherlich der neue S
 tartbereich. Durch die Verlegung der Startlinie auf die gegenüberliege
 nde Seite der Wöhrder Wiese sind jetzt die ersten 800 Meter nach dem S
 tart ohne Kurven. So können wir das Gedränge am Start noch weiter redu
 zieren. Bereits mit der Einführung der individuellen Nettozeitmessung 
 vor zwei Jahren konnten wir die Startsituation deutlich entspannen.</p
 >\n<p>Trotzdem werden wir die Gesamtstarter-Zahl im Hauptlauf weiterhi
 n auf 1111 Starter/innen begrenzen\, da wir unseren Teilnehmer/innen e
 inen reibungslosen Ablauf bieten wollen. Erfahrungsgemäß lohnt sich al
 so eine frühzeitige Anmeldung\, da der Hauptlauf über 10km sicherlich 
 spätestens Ende November ausgebucht ist.</p>\n<p>Aktuelle Meldedaten:<
 /p>\n<ul>\n<li>26.11.2011:  10Km Hauptlauf 1059 Teilnehmer</li>\n<li>2
 6.11.2011:  5Km Hobbylauf 114 Teilnehmer</li>\n<li>26.11.2011:  1600m 
 Schüler 28 Teilnehmer</li>\n<li>26.11.2011:  400m Bambini 17 Teilnehme
 r</li>\n</ul>\n<p><span style=text-decoration: underline\;><strong>Gut
 mann Team Cup:</strong></span><br>\n<br>\nMit dem diesjährigen Silvest
 erlauf 2010 haben wir die neue Mannschaftswertung\, den „Gutmann-Team-
 Cup“ eingeführt. Beim 10-km-Hauptlauf werden alle Teams gewertet\, die
  mit gleichem Vereins- oder Gruppennamen (bitte bei der Online-Anmeldu
 ng unbedingt auf gleiche Bezeichnung achten!) eingetragen sind.</p>\n<
 p><span style=text-decoration: underline\;>Ausschreibung\, Veranstalte
 r\, Anmeldung:</span><br>\n<br>\nAusschreibung\, Flyer:</p>\n<p>[wpfil
 ebase tag=file path=&#8217\;lauf/silvesterlauf-nuernberg/20111231/2011
 1231_Ausschreibung_NuernbergerSilvesterlauf.pdf&#8216\;]</p>\n<p>Weite
 re Info und Anmeldung beim Veranstalter: <a href=http://nuernberger-si
 lvesterlauf.de/ target=_blank>Team Klinikum Nürnberg e. V.</a></p>\n<p
 >Zur Online-Anmeldung: <a href=https://www.silvesterlauf-nuernberg.de/
 anmeldung.html target=_blank>Anmeldung</a></p>\n
URL:https://www.runningsocks.de/wordpress/terminkalender/eventsinglepa
 ge/?event_id=108&lang=de
ATTACH:https://www.runningsocks.de/wordpress/terminkalender/eventsingl
 epage/?event_id=108&lang=de
LOCATION:Wöhrder Wiese\, Wöhrder Wiese\, Nürnberg
END:VEVENT
END:VCALENDAR
