BEGIN:VCALENDAR
VERSION:2.0
METHOD:PUBLISH
PRODID:-//hacksw/handcal//NONSGML v1.0//EN
BEGIN:VEVENT
DTSTAMP:20260419T165504Z
DTSTART:20120129T090000Z
DTEND:20120129T140000Z
UID:20120129T090000Z-20120129T140000Z-109@www.runningsocks.de
SUMMARY:52. Prellsteinrennen
DESCRIPTION:Das Rennen:\nDas Prellsteinrennen ist ein Mannschaftslauf.
  Eine Mannschaft besteht aus 3 Läufern. Die zwei besten Zeiten werden 
 gewertet\, aber alle drei Läufer müssen das Ziel erreichen und die Kon
 trollstellen passieren.\n\nDas Prellsteinrennen wird als Crosslauf aus
 getragen. Bei guter Schneelage kann auch mit Langlaufski gelaufen werd
 en. Es können Mannschaften mit Cross- und Skiläufern gebildet werden. 
 Weiter können Damen und Herren eine Mannschaft bilden. Die Läufer mit 
 Skiern starten mit einer Zeitvorgabe vor den Crossläufern.\n\nDer Star
 t der Mannschaften erfolgt mit einem Zeitabstand von einer Minute.\nWe
 rtungen:\nSenioren-Wertung\n\nDie Wertung erfolgt nach Zeit. Das Minde
 stalter ist 40 Jahre. Jedoch muss das addierte Gesamtalter der Mannsch
 aft mind. 150 Jahre betragen.\n\nSeniorinnen-Wertung\n\nDie Wertung er
 folgt nach Zeit. Das Mindestalter ist 30 Jahre. Jedoch muss das addier
 te Gesamtalter der Mannschaft mind. 120 Jahre betragen.\n\nJugend-Wert
 ung\n\nDie Wertung erfolgt nach Zeit. Das Höchstalter ist 20 Jahre. Da
 s addierte Gesamtalter der Mannschaft darf somit nicht über 60 Jahre s
 ein.\nWeitere Info:\n\n\n\nOrt:\nHeuchling bei Pommelsbrunn\n\n\nStart
 zeit:\n10.00 Uhr\n\n\nMeldungen:\nAm Start in der Gaststätte Zum Schwa
 rzen Brand\n\n\nMeldeschluss:\n30 Minuten vor Mannschaftsstart\n\n\nSt
 artgebühr:\nEUR 8\,00 pro Teilnehmer zzgl. EUR 1\,00 für Transponder (
 zur Zeitnahme) pro Läufer\n\n\nStartnummern:\nAb 8.30 Uhr in der Gasts
 tätte Zum Schwarzen Brand\n\n\nSiegerehrung:\nca. 15.00 Uhr in der Gas
 tstätte Zum Schwarzen Brand\n\n\n\nAusschreibung 2012:\n\n[wpfilebase 
 tag=file path='lauf/prellstein/20120129/20120129_Ausschreibung Prellst
 ein-Rennen.pdf' /]\n\nAktuelle Info's wie immer auf der Seite des Vera
 nstalter: Arbeitsgemeinschaft Nürnberger Touristenvereine e.V.
X-ALT-DESC;FMTTYPE=text/html:<h3>Das Rennen:</h3>\n<p>Das Prellsteinre
 nnen ist ein Mannschaftslauf. Eine Mannschaft besteht aus 3 Läufern. D
 ie zwei besten Zeiten werden gewertet\, aber alle drei Läufer müssen d
 as Ziel erreichen und die Kontrollstellen passieren.</p>\n<p>Das Prell
 steinrennen wird als Crosslauf ausgetragen. Bei guter Schneelage kann 
 auch mit Langlaufski gelaufen werden. Es können Mannschaften mit Cross
 - und Skiläufern gebildet werden. Weiter können Damen und Herren eine 
 Mannschaft bilden. Die Läufer mit Skiern starten mit einer Zeitvorgabe
  vor den Crossläufern.</p>\n<p>Der Start der Mannschaften erfolgt mit 
 einem Zeitabstand von einer Minute.</p>\n<h3>Wertungen:</h3>\n<p>Senio
 ren-Wertung</p>\n<p>Die Wertung erfolgt nach Zeit. Das Mindestalter is
 t 40 Jahre. Jedoch muss das addierte Gesamtalter der Mannschaft mind. 
 150 Jahre betragen.</p>\n<p>Seniorinnen-Wertung</p>\n<p>Die Wertung er
 folgt nach Zeit. Das Mindestalter ist 30 Jahre. Jedoch muss das addier
 te Gesamtalter der Mannschaft mind. 120 Jahre betragen.</p>\n<p>Jugend
 -Wertung</p>\n<p>Die Wertung erfolgt nach Zeit. Das Höchstalter ist 20
  Jahre. Das addierte Gesamtalter der Mannschaft darf somit nicht über 
 60 Jahre sein.</p>\n<h3>Weitere Info:</h3>\n<table style=width: 535px\
 ; height: 194px\; border=0>\n<tbody>\n<tr><td><span style=font-size: s
 mall\;><span style=font-family: arial\,helvetica\,sans-serif\;>Ort:</s
 pan></span></td>\n<td><span style=font-size: small\;><span style=font-
 family: arial\,helvetica\,sans-serif\;>Heuchling bei Pommelsbrunn</spa
 n></span></td></tr>\n<tr><td><span style=font-size: small\;><span styl
 e=font-family: arial\,helvetica\,sans-serif\;>Startzeit:</span></span>
 </td>\n<td><span style=font-size: small\;><span style=font-family: ari
 al\,helvetica\,sans-serif\;>10.00 Uhr</span></span></td></tr>\n<tr><td
 ><span style=font-size: small\;><span style=font-family: arial\,helvet
 ica\,sans-serif\;>Meldungen:</span></span></td>\n<td><span style=font-
 size: small\;><span style=font-family: arial\,helvetica\,sans-serif\;>
 Am Start in der Gaststätte &#8222\;Zum Schwarzen Brand&#8220\;</span><
 /span></td></tr>\n<tr><td><span style=font-size: small\;><span style=f
 ont-family: arial\,helvetica\,sans-serif\;>Meldeschluss:</span></span>
 </td>\n<td><span style=font-size: small\;><span style=font-family: ari
 al\,helvetica\,sans-serif\;>30 Minuten vor Mannschaftsstart</span></sp
 an></td></tr>\n<tr><td><span style=font-size: small\;><span style=font
 -family: arial\,helvetica\,sans-serif\;>Startgebühr:</span></span></td
 >\n<td><span style=font-size: small\;><span style=font-family: arial\,
 helvetica\,sans-serif\;>EUR 8\,00 pro Teilnehmer zzgl. EUR 1\,00 für T
 ransponder (zur Zeitnahme) pro Läufer</span></span></td></tr>\n<tr><td
 ><span style=font-size: small\;><span style=font-family: arial\,helvet
 ica\,sans-serif\;>Startnummern:</span></span></td>\n<td><span style=fo
 nt-size: small\;><span style=font-family: arial\,helvetica\,sans-serif
 \;>Ab 8.30 Uhr in der Gaststätte &#8222\;Zum Schwarzen Brand&#8220\;</
 span></span></td></tr>\n<tr><td><span style=font-size: small\;><span s
 tyle=font-family: arial\,helvetica\,sans-serif\;>Siegerehrung:</span><
 /span></td>\n<td><span style=font-size: small\;><span style=font-famil
 y: arial\,helvetica\,sans-serif\;>ca. 15.00 Uhr in der Gaststätte &#82
 22\;Zum Schwarzen Brand&#8220\;</span></span></td></tr>\n</tbody>\n</t
 able>\n<p>Ausschreibung 2012:</p>\n<p>[wpfilebase tag=file path=&#8217
 \;lauf/prellstein/20120129/20120129_Ausschreibung Prellstein-Rennen.pd
 f&#8216\; /]</p>\n<p>Aktuelle Info&#8217\;s wie immer auf der Seite de
 s Veranstalter: <a href=http://www.vftn-online.de/Sport/Prellsteinrenn
 en/ target=_blank><strong>Arbeitsgemeinschaft Nürnberger Touristenvere
 ine e.V.</strong></a></p>\n
URL:https://www.runningsocks.de/wordpress/terminkalender/eventsinglepa
 ge/?event_id=109&lang=de
ATTACH:https://www.runningsocks.de/wordpress/terminkalender/eventsingl
 epage/?event_id=109&lang=de
LOCATION:Gasthaus Zum schwarzen Brand\, Heuchling 12\, Heuchling
END:VEVENT
END:VCALENDAR
