BEGIN:VCALENDAR
VERSION:2.0
METHOD:PUBLISH
PRODID:-//hacksw/handcal//NONSGML v1.0//EN
BEGIN:VEVENT
DTSTAMP:20260419T165313Z
DTSTART:20100418T060000Z
DTEND:20100418T130000Z
UID:20100418T060000Z-20100418T130000Z-11@www.runningsocks.de
SUMMARY:18. Mittelfrankencup - Ammerndorf
DESCRIPTION:Zum 18. Mal wird der Mittelfrankencup ausgetragen.\n\n2010
  organisieren wieder 8 Vereine aus Mittelfranken  für Sie 8 tolle Rad-
 Touren-Fahrten(RTF) und eine Mountainbike-Tour  (CTF) durch unsere her
 rliche mittelfränkische Landschaft.\n Innerhalb  der RTF/CTF werden wi
 e immer drei oder vier Radtouren mit Streckenlängen  zwischen 40 und 1
 60 km angeboten. Alle Touren des Mittelfrankencups  finden auf verkehr
 sarmen Straßen statt und sind keine Rennen.  Jedermann(frau) kann dort
  nach Lust und Laune radeln\, so schnell oder  langsam wie er (sie) wi
 ll.\n Wie gewohnt erhält jeder Teilnehmer auch  2010 nach sechs von ne
 un gefahrenen Touren eine Auszeichnung zusammen  mit einer Urkunde. Di
 esmal bieten wir eine kurze Radhose mit  oder ohne Träger der Firma Pr
 olog in schwarz\, farblich passend  zum Trikot des letzten Jahres an.\
 n Der Nachweis über die erfolgreiche  Teilnahme ist über die Wertungsk
 arte des Mittelfrankencups zu führen.  Die Auszeichnungen werden – wen
 n mindestens 6 Touren absolviert wurden –  ohne weitere Zuzahlung bei 
 der letzten Veranstaltung in Erlangen  ausgegeben.\n\nAuch 2010 sind d
 ie Veranstaltungen des  Mittelfrankencups offizielle Veranstaltungen z
 ur BDR-Jahreswertung.\n\nWeiter Infos und Anmeldung auf der Seite des 
 Veranstalters\, www.mfrc.de\n\nAusschreibung\, Flyer: Flyer_Mittelfran
 kenCup_2010 (3\,05MB)\n\nVoranmeldung: MFrCup_Voranmeldung_2010 (Hinwe
 ise auf der Seite des Veranstalters beachten !!)
X-ALT-DESC;FMTTYPE=text/html:<p style=text-align: justify\;>Zum 18. Ma
 l wird der Mittelfrankencup ausgetragen.</p>\n<p style=text-align: jus
 tify\;>2010 organisieren wieder 8 Vereine aus Mittelfranken  für Sie 8
  tolle Rad-Touren-Fahrten(RTF) und eine Mountainbike-Tour  (CTF) durch
  unsere herrliche mittelfränkische Landschaft.<br>\n Innerhalb  der RT
 F/CTF werden wie immer drei oder vier Radtouren mit Streckenlängen  zw
 ischen 40 und 160 km angeboten. Alle Touren des Mittelfrankencups  fin
 den auf verkehrsarmen Straßen statt und sind keine Rennen.  Jedermann(
 frau) kann dort nach Lust und Laune radeln\, so schnell oder  langsam 
 wie er (sie) will.<br>\n Wie gewohnt erhält jeder Teilnehmer auch  201
 0 nach sechs von neun gefahrenen Touren eine Auszeichnung zusammen  mi
 t einer Urkunde. Diesmal bieten wir eine <strong>kurze Radhose mit  od
 er ohne Träger der Firma Prolog in schwarz</strong>\, farblich passend
   zum Trikot des letzten Jahres an.<br>\n Der Nachweis über die erfolg
 reiche  Teilnahme ist über die Wertungskarte des Mittelfrankencups zu 
 führen.  Die Auszeichnungen werden – wenn mindestens 6 Touren absolvie
 rt wurden –  ohne weitere Zuzahlung bei der letzten Veranstaltung in E
 rlangen  ausgegeben.</p>\n<p style=text-align: justify\;>Auch 2010 sin
 d die Veranstaltungen des  Mittelfrankencups offizielle Veranstaltunge
 n zur BDR-Jahreswertung.</p>\n<p style=text-align: justify\;>Weiter In
 fos und Anmeldung auf der Seite des Veranstalters\,<a href=http://mfrc
 -online.de/main/22.0.html target=_blank> www.mfrc.de</a></p>\n<p style
 =text-align: justify\;>Ausschreibung\, Flyer: <a href=https://www.runn
 ingsocks.de/wordpress/wp-content/uploads/2010/03/FlyerMittelfrankenCup
 2010.pdf>Flyer_MittelfrankenCup_2010</a> (3\,05MB)</p>\n<p style=text-
 align: justify\;>Voranmeldung: <a href=https://www.runningsocks.de/wor
 dpress/wp-content/uploads/2010/03/MFrCup_Voranmeldung_2010.pdf>MFrCup_
 Voranmeldung_2010</a> (Hinweise auf der Seite des Veranstalters beacht
 en !!)</p>\n
URL:https://www.runningsocks.de/wordpress/terminkalender/eventsinglepa
 ge/?event_id=11&lang=de
ATTACH:https://www.runningsocks.de/wordpress/terminkalender/eventsingl
 epage/?event_id=11&lang=de
LOCATION:Ammerndorf\, \, Ammerndorf
END:VEVENT
END:VCALENDAR
