BEGIN:VCALENDAR
VERSION:2.0
METHOD:PUBLISH
PRODID:-//hacksw/handcal//NONSGML v1.0//EN
BEGIN:VEVENT
DTSTAMP:20260419T165413Z
DTSTART:20120811T110000Z
DTEND:20120811T150000Z
UID:20120811T110000Z-20120811T150000Z-110@www.runningsocks.de
SUMMARY:4. Main-Post Mainfrankentriathlon
DESCRIPTION:Der Triathlon im Kitzinger und Würzburger Land\nFür Jeden!
  Volkstriathlon ohne Lizenz\n\nStrecken:\n\n\n\nWettkampfstrecken:\nOl
 ympische Distanz: 1650m – 39km – 10km\nVolkstriathlon Distanz: 600m – 
 20km – 5km\n\n\nOlympisch Start: \n13:00 Uhr Start Schwimmen 1750 m in
  Gruppen Sandbank am Main Richtung Mainstockheim (Bustransfer)\n\n\nVo
 lkstriathlon / Staffel Start:\n13:15 Uhr Start Bootshaus 600 m\n\n\n\n
 Die Veranstaltung wird nach der gültigen VAO-”Veranstalter- und Ausric
 hterordnung” durchgeführt.\n\n\nStart Radfahren\nOlympisch: 39 km (2 R
 unden)\nVolkstriathlon / Staffel: 20 km (1 Runde) Wiese hinter der Syn
 agoge (Wechselzone)\n\n\nOlympisch Laufen: \nStart Laufen 10 km (2 Run
 den\, Asphalt) Wiese hinter der Synagoge (Wechselzone)\n\n\nVolkstriat
 hlon / Staffel Laufen: \nStart Laufen 5 km (1 Runde\, Asphalt) Wiese h
 inter der Synagoge (Wechselzone)\n\n\nTeilnehmerlimit:\n500 Starter\n\
 n\n\n\n\n\nNachmeldung:\nStarttag 10 – 12:00 Uhr\n\n\nStartunterlagena
 usgabe:\n10 – 12:00 Uhr am Renntag an der Wechselzone \n\n\n Tageslize
 nz:\nBei der Abholung der Startunterlagen ist der DTU-Startpass vorzul
 egen\, somit werden die 10\,-- € Tageslizenz zurückerstattet. Wird der
  DTU-Startpass nicht vorgelegt\, werden die 10\,-- € Tageslizenz einbe
 halten.\nGruppeneinteilung wird bekannt gegeben!\n\n\nCheckIn:\nin der
  Wechselzone 10:00 – 12:00 Uhr (Wiese hinter der Synagoge)\n\n\nWettka
 mpfbesprechung:\nin der Wechselzone 12:00 Uhr\nTeilnahme ist Pflicht\n
 \n\nStart Olympisch:\n13:00 Uhr\n\n\nStart Volkstriathlon / Staffel:\n
 13:30 Uhr \n\n\nTeilnehmerklassen:\nOlympisch: ab AK 1 (20 – 24 Jahre)
  in 5-Jahresschritten gem. SpO Abs. C.1\nVolkstriathlon / Staffel: ab 
 JA (16/17 J.)\, JUN (18/19 J.)\, AK1 (20/24 J.) in 5-Jahresschritten g
 em. SpO Abs. C.1\nWeiter gem. DTU-Sportordnung für beide Klassen.\n\n\
 n\n\n\n\nWertung und Ehrung:\naller Altersklassen\, unabhängig von der
  Teilnehmerzahl.\n\n\nStrafzeiten:\nDurch aufaddieren zur Radzeit. Oly
 mpische Distanz = 2 Min. /\nVolkstriathlon / Staffel = 1 Min.\n\n\nSta
 ffelwertung:\n3 Teilnehmer /-innen egal ob Frauen-\, Männer- oder Mixe
 d-Staffel\nBitte beachten Sie bei der Anmeldung auf die genaue Schreib
 weise der Staffelbezeichnung\n\n\nPreise:\nJeder Finisher erhält ein E
 rinnerungsgeschenk.\nDie ersten 3 jeder Altersklasse erhalten bei der 
 Siegerehrung am Veranstaltungstag eine Urkunde\, alle anderen können d
 iese im Internet herunter laden.\nErgebnislistenaushang nach der Siege
 rehrung.\nDer Erste jeder Altersklasse erhält einen Pokal!\n\n\nVerpfl
 egung :\nAn der Rad- und Laufstrecke: Mineraldrink\, Mineralwasser\n\n
 \nIm Zielbereich:\nObst- und Kuchenbuffet\n\n\n\nAusschreibung:\n\nAll
 e weiteren Infos und Online Anmeldung direkt beim Veranstalter: Main-P
 ost Frankentriathlon
X-ALT-DESC;FMTTYPE=text/html:<p style=text-align: center\;><span style
 =text-decoration: underline\;><span style=font-family: Arial\,Helvetic
 a\,Geneva\,Sans-serif\,sans-serif\;>Der Triathlon im Kitzinger und Wür
 zburger Land</span></span></p>\n<p style=text-align: center\;><span st
 yle=font-family: Arial\,Helvetica\,Geneva\,Sans-serif\,sans-serif\;>Fü
 r Jeden! Volkstriathlon ohne Lizenz</span></p>\n<h3>Strecken:</h3>\n<t
 able id=Tabelle9 style=width: 100%\; border=1 cellspacing=1 cellpaddin
 g=1>\n<tbody>\n<tr><td align=LEFT valign=TOP><span>Wettkampfstrecken:<
 /span></td>\n<td align=LEFT valign=TOP><span>Olympische Distanz: 1650m
  – 39km – 10km<br>\nVolkstriathlon Distanz: 600m – 20km – 5km</span></
 td></tr>\n<tr><td align=LEFT valign=TOP><span>Olympisch Start: </span>
 </td>\n<td align=LEFT valign=TOP><span>13:00 Uhr Start Schwimmen 1750 
 m in Gruppen Sandbank am Main Richtung Mainstockheim (Bustransfer)</sp
 an></td></tr>\n<tr><td align=LEFT valign=TOP><span>Volkstriathlon / St
 affel Start:</span></td>\n<td align=LEFT valign=TOP><span>13:15 Uhr St
 art Bootshaus 600 m</span></td></tr>\n<tr><td></td>\n<td><span style=f
 ont-family: Arial\,Helvetica\,Geneva\,Sans-serif\,sans-serif\;>Die Ver
 anstaltung wird nach der gültigen VAO-”Veranstalter- und Ausrichterord
 nung” durchgeführt.</span></td></tr>\n<tr><td align=LEFT valign=TOP><s
 pan>Start Radfahren</span></td>\n<td align=LEFT valign=TOP><span>Olymp
 isch: 39 km (2 Runden)<br>\nVolkstriathlon / Staffel: 20 km (1 Runde) 
 Wiese hinter der Synagoge (Wechselzone)</span></td></tr>\n<tr><td alig
 n=LEFT valign=TOP><span>Olympisch Laufen: </span></td>\n<td align=LEFT
  valign=TOP><span>Start Laufen 10 km (2 Runden\, Asphalt) Wiese hinter
  der Synagoge (Wechselzone)</span></td></tr>\n<tr><td align=LEFT valig
 n=TOP><span>Volkstriathlon / Staffel Laufen: </span></td>\n<td align=L
 EFT valign=TOP><span>Start Laufen 5 km (1 Runde\, Asphalt) Wiese hinte
 r der Synagoge (Wechselzone)</span></td></tr>\n<tr><td align=LEFT vali
 gn=TOP><span><strong>Teilnehmerlimit:</strong></span></td>\n<td align=
 LEFT valign=TOP><span><strong>500 Starter</strong></span></td></tr>\n<
 /tbody>\n</table>\n<table id=Tabelle9 style=width: 100%\; border=1 cel
 lspacing=1 cellpadding=1>\n<tbody>\n<tr><td align=LEFT valign=TOP><spa
 n>Nachmeldung:</span></td>\n<td align=LEFT valign=TOP><span>Starttag 1
 0 – 12:00 Uhr</span></td></tr>\n<tr><td align=LEFT valign=TOP><span>St
 artunterlagenausgabe:</span></td>\n<td align=LEFT valign=TOP><span>10 
 – 12:00 Uhr am Renntag an der Wechselzone </span></td></tr>\n<tr><td a
 lign=LEFT valign=TOP><span style=font-family: Arial\,Helvetica\,Geneva
 \,Sans-serif\,sans-serif\;> Tageslizenz:</span></td>\n<td align=LEFT v
 align=TOP><span>Bei der Abholung der Startunterlagen ist der DTU-Start
 pass vorzulegen\, somit werden die 10\,&#8211\; € Tageslizenz zurücker
 stattet. Wird der DTU-Startpass nicht vorgelegt\, werden die 10\,&#821
 1\; € Tageslizenz einbehalten.<br>\nGruppeneinteilung wird bekannt geg
 eben!</span></td></tr>\n<tr><td align=LEFT valign=TOP><span>CheckIn:</
 span></td>\n<td align=LEFT valign=TOP><span>in der Wechselzone 10:00 –
  12:00 Uhr (Wiese hinter der Synagoge)</span></td></tr>\n<tr><td align
 =LEFT valign=TOP><span>Wettkampfbesprechung:</span></td>\n<td align=LE
 FT valign=TOP><span>in der Wechselzone 12:00 Uhr<br>\nTeilnahme ist Pf
 licht</span></td></tr>\n<tr><td align=LEFT valign=TOP><span>Start Olym
 pisch:</span></td>\n<td align=LEFT valign=TOP><span>13:00 Uhr</span></
 td></tr>\n<tr><td align=LEFT valign=TOP><span>Start Volkstriathlon / S
 taffel:</span></td>\n<td align=LEFT valign=TOP><span>13:30 Uhr </span>
 </td></tr>\n<tr><td align=LEFT valign=TOP><span>Teilnehmerklassen:</sp
 an></td>\n<td align=LEFT valign=TOP><span>Olympisch: ab AK 1 (20 – 24 
 Jahre) in 5-Jahresschritten gem. SpO Abs. C.1<br>\nVolkstriathlon / St
 affel: ab JA (16/17 J.)\, JUN (18/19 J.)\, AK1 (20/24 J.) in 5-Jahress
 chritten gem. SpO Abs. C.1<br>\nWeiter gem. DTU-Sportordnung für beide
  Klassen.</span></td></tr>\n</tbody>\n</table>\n<table id=Tabelle9 sty
 le=width: 100%\; border=1 cellspacing=1 cellpadding=1>\n<tbody>\n<tr><
 td align=LEFT valign=TOP><span>Wertung und Ehrung:</span></td>\n<td al
 ign=LEFT valign=TOP><span>aller Altersklassen\, unabhängig von der Tei
 lnehmerzahl.</span></td></tr>\n<tr><td align=LEFT valign=TOP><span>Str
 afzeiten:</span></td>\n<td align=LEFT valign=TOP><span>Durch aufaddier
 en zur Radzeit. Olympische Distanz = 2 Min. /<br>\nVolkstriathlon / St
 affel = 1 Min.</span></td></tr>\n<tr><td align=LEFT valign=TOP><span>S
 taffelwertung:</span></td>\n<td align=LEFT valign=TOP><span>3 Teilnehm
 er /-innen egal ob Frauen-\, Männer- oder Mixed-Staffel<br>\nBitte bea
 chten Sie bei der Anmeldung auf die genaue Schreibweise der Staffelbez
 eichnung</span></td></tr>\n<tr><td align=LEFT valign=TOP><span>Preise:
 </span></td>\n<td align=LEFT valign=TOP><span>Jeder Finisher erhält ei
 n Erinnerungsgeschenk.<br>\nDie ersten 3 jeder Altersklasse erhalten b
 ei der Siegerehrung am Veranstaltungstag eine Urkunde\, alle anderen k
 önnen diese im Internet herunter laden.<br>\nErgebnislistenaushang nac
 h der Siegerehrung.<br>\nDer Erste jeder Altersklasse erhält einen Pok
 al!</span></td></tr>\n<tr><td align=LEFT valign=TOP><span>Verpflegung 
 :</span></td>\n<td align=LEFT valign=TOP><span>An der Rad- und Laufstr
 ecke: Mineraldrink\, Mineralwasser</span></td></tr>\n<tr><td align=LEF
 T valign=TOP><span>Im Zielbereich:</span></td>\n<td align=LEFT valign=
 TOP><span>Obst- und Kuchenbuffet</span></td></tr>\n</tbody>\n</table>\
 n<p>Ausschreibung:</p>\n<p>Alle weiteren Infos und Online Anmeldung di
 rekt beim Veranstalter: <a href=http://www.mainfrankentriathlon.de/ind
 ex.html>Main-Post Frankentriathlon</a></p>\n
URL:https://www.runningsocks.de/wordpress/terminkalender/eventsinglepa
 ge/?event_id=110&lang=de
ATTACH:https://www.runningsocks.de/wordpress/terminkalender/eventsingl
 epage/?event_id=110&lang=de
LOCATION:Alte Synagoge\, Kitzingen\, Landwehrstraße 1\, Kitzingen
END:VEVENT
END:VCALENDAR
