BEGIN:VCALENDAR
VERSION:2.0
METHOD:PUBLISH
PRODID:-//hacksw/handcal//NONSGML v1.0//EN
BEGIN:VEVENT
DTSTAMP:20260419T165138Z
DTSTART:20120805T080000Z
DTEND:20120805T130000Z
UID:20120805T080000Z-20120805T130000Z-111@www.runningsocks.de
SUMMARY:23. Regensburg-Triathlon
DESCRIPTION:!! Alle Daten bisher unbestätigt !!\nDistanzen:\n\nOlympis
 ch / Staffel (1\,5Km / 40Km / 10Km)\n\nSprint (0\,5K / 20Km / 5Km )\n\
 nStartgebühren:\n\nOlympische Distanz mit DTU Startpass:  €38\, ab 01.
 06.2011 €45\n\nOlympische Distanz ohne DTU Startpass: €48\, ab 01.06.2
 011 €55\n\nSprintdistanz (kein Startpass erforderlich): €30\, ab 01.06
 .2011 €35\n\nStaffel Olympische Distanz:  €60\, ab 01.06.2011 €70\n\nZ
 eitnahme:\n\nTransponder-Zeitmessung. Der Transponder wird vom Veranst
 alter gestellt.\n\nTeilnehmerlimit: \n\n700 Einzelstarter\n\n30 Staffe
 ln\n\nNachmeldungen:\n\nSind gegen eine zusätzliche Gebühr von 10 Euro
  bis 8:00 Uhr am Wettkampftag möglich [nur Barzahlung]\, sofern noch S
 tartplätze zur Verfügung stehen.\n\nAnmeldeschluss: \n\n28.07.2012\n\n
 Details:\n\nAlle weiteren Infos sowie Online Anmeldung auf der Seite d
 es Veranstalters: Tristar Regensburg
X-ALT-DESC;FMTTYPE=text/html:<p style=text-align: center\;><span style
 =text-decoration: underline\; font-size: medium\;><strong><span style=
 color: #ff0000\; text-decoration: underline\;>!! Alle Daten bisher unb
 estätigt !!</span></strong></span></p>\n<p><strong>Distanzen:</strong>
 <br>\n<br>\nOlympisch / Staffel (1\,5Km / 40Km / 10Km)</p>\n<p>Sprint 
 (0\,5K / 20Km / 5Km )</p>\n<p><strong>Startgebühren:</strong><br>\n<br
 >\nOlympische Distanz mit DTU Startpass:  €38\, ab <strong>01.06.2011 
 </strong>€45</p>\n<p>Olympische Distanz ohne DTU Startpass: €48\, ab <
 strong>01.06.2011</strong> €55</p>\n<p>Sprintdistanz (kein Startpass e
 rforderlich): €30\, ab <strong>01.06.2011</strong> €35</p>\n<p>Staffel
  Olympische Distanz:  €60\, ab <strong>01.06.2011 </strong>€70</p>\n<p
 ><strong>Zeitnahme:</strong><br>\n<br>\nTransponder-Zeitmessung.<stron
 g> </strong>Der Transponder wird vom Veranstalter gestellt.</p>\n<p><s
 trong>Teilnehmerlimit: </strong><br>\n<br>\n700 Einzelstarter</p>\n<p>
 30 Staffeln</p>\n<p><strong>Nachmeldungen:</strong><br>\n<br>\nSind ge
 gen eine zusätzliche Gebühr von 10 Euro bis 8:00 Uhr am Wettkampftag m
 öglich [nur Barzahlung]\, sofern noch Startplätze zur Verfügung stehen
 .</p>\n<p><strong>Anmeldeschluss: </strong><br>\n<br>\n28.07.2012</p>\
 n<p><strong>Details:</strong><br>\n<br>\nAlle weiteren Infos sowie Onl
 ine Anmeldung auf der Seite des Veranstalters: <a href=http://tristar-
 regensburg.de/triathlon target=_blank>Tristar Regensburg</a></p>\n
URL:https://www.runningsocks.de/wordpress/terminkalender/eventsinglepa
 ge/?event_id=111&lang=de
ATTACH:https://www.runningsocks.de/wordpress/terminkalender/eventsingl
 epage/?event_id=111&lang=de
LOCATION:Dultplatz / Stadtamhof\, Regensburg / Dultplatz\, Stadtamhof\
 , Regensburg
END:VEVENT
END:VCALENDAR
