BEGIN:VCALENDAR
VERSION:2.0
METHOD:PUBLISH
PRODID:-//hacksw/handcal//NONSGML v1.0//EN
BEGIN:VEVENT
DTSTAMP:20260419T165232Z
DTSTART:20120715T080000Z
DTEND:20120715T130000Z
UID:20120715T080000Z-20120715T130000Z-112@www.runningsocks.de
SUMMARY:6. LIFESTYLE Würzburg Triathlon
DESCRIPTION:Kurzinfo:\n\n- Abholung der Startnummern von 7.00 - 9.00 U
 hr im Start/Zielbereich\n(Nachmeldung nur bis 9.00 möglich + 5 Euro)\n
 - Bike Check in von 7.45 - 9.15 Uhr\n- es besteht Helmpflicht!\n- kein
  Windschattenfahren\n- Umziehen im Zelt oder am Radstellplatz\n- bitte
  Startnummerband oder Sicherheitsnadeln mitbringen- Duschmöglichkeiten
  am See (nur Kaltwasser)\n- die 10 € Tageslizenz müssen am Veranstaltu
 ngstag gezahlt werden\n( werden nicht mit abgebucht!)- am Veranstaltun
 gstag werden 10 € Pfand (bitte passend!) für den Zeitmesschip verlangt
 \nund bei Rückgabe des Chips wieder ausbezahlt\n- jede Staffel einzel 
 anmelden (auch bei gleicher Firma)\nangemeldet wird nur der Teamkapitä
 n.\nStartgebühr: \n\n	\nJedermann: 29 € + 10 € Tageslizenz / Staffel: 
 59 €\n	Olympisch: 39 € + 10 € Tageslizenz / Staffel: 59 €\n\nAusschrei
 bung:\n\n[wpfilebase tag=file path='triathlon/wuerzburg/_20120715/2012
 0715_WuerzburgTriathlon_Ausschreibung.pdf']\n\nAlle weiteren Infos und
  Online Anmeldung direkt beim Veranstalter: Würzburg Traithlon
X-ALT-DESC;FMTTYPE=text/html:<p style=text-align: left\;><strong><span
  style=font-family: Arial\,Helvetica\,Geneva\,Sans-serif\,sans-serif\;
  font-size: medium\;>Kurzinfo:</span></strong></p>\n<div>&#8211\; Abho
 lung der Startnummern von 7.00 &#8211\; 9.00 Uhr im Start/Zielbereich<
 br>\n(Nachmeldung nur bis 9.00 möglich + 5 Euro)</div>\n<div>&#8211\; 
 Bike Check in von 7.45 &#8211\; 9.15 Uhr</div>\n<div>&#8211\; es beste
 ht Helmpflicht!</div>\n<div>&#8211\; kein Windschattenfahren</div>\n<d
 iv>&#8211\; Umziehen im Zelt oder am Radstellplatz</div>\n<div>&#8211\
 ; bitte Startnummerband oder Sicherheitsnadeln mitbringen- Duschmöglic
 hkeiten am See (nur Kaltwasser)</div>\n<div>&#8211\; die 10 € Tagesliz
 enz müssen am Veranstaltungstag gezahlt werden<br>\n( werden nicht mit
  abgebucht!)<strong>&#8211\;</strong> am Veranstaltungstag werden 10 €
  Pfand (bitte passend!) für den Zeitmesschip verlangt<br>\nund bei Rüc
 kgabe des Chips wieder ausbezahlt</div>\n<div>&#8211\; jede Staffel ei
 nzel anmelden (auch bei gleicher Firma)<br>\nangemeldet wird nur der T
 eamkapitän.</div>\n<div><strong>Startgebühr: </strong></div>\n<ul>\n<l
 i>\n<div>Jedermann: 29 € + 10 € Tageslizenz / Staffel: 59 €</div>\n</l
 i>\n<li>Olympisch: 39 € + 10 € Tageslizenz / Staffel: 59 €</li>\n</ul>
 \n<p><strong>Ausschreibung:</strong><br>\n<br>\n[wpfilebase tag=file p
 ath=&#8217\;triathlon/wuerzburg/_20120715/20120715_WuerzburgTriathlon_
 Ausschreibung.pdf&#8216\;]</p>\n<p>Alle weiteren Infos und Online Anme
 ldung direkt beim Veranstalter: <a href=http://www.lifestyle-fitness.d
 e/wuerzburg-triathlon.html target=_blank>Würzburg Traithlon</a></p>\n
URL:https://www.runningsocks.de/wordpress/terminkalender/eventsinglepa
 ge/?event_id=112&lang=de
ATTACH:https://www.runningsocks.de/wordpress/terminkalender/eventsingl
 epage/?event_id=112&lang=de
LOCATION:Alte Synagoge\, Kitzingen\, Landwehrstraße 1\, Kitzingen
END:VEVENT
END:VCALENDAR
