BEGIN:VCALENDAR
VERSION:2.0
METHOD:PUBLISH
PRODID:-//hacksw/handcal//NONSGML v1.0//EN
BEGIN:VEVENT
DTSTAMP:20260419T165411Z
DTSTART:20120501T090000Z
DTEND:20120501T130000Z
UID:20120501T090000Z-20120501T130000Z-113@www.runningsocks.de
SUMMARY:25. City Triathlon Amberg
DESCRIPTION:Der Klassiker in der Vilsstadt: der Volks- und Raiffeisenb
 ank Citytriathlon Amberg (CTA). Zum 25. Mal wird in Amberg ein Triathl
 on-Wettkampf ausgetragen\, zum fünften Mal in Folge führt der CTA durc
 h die mittelalterliche Altstadt. Mit dem frühen Termin Anfang Mai zähl
 t die Kurzdistanz wieder zu den ersten Wettbewerben in Deutschland – u
 nd ist somit ein perfekter Einstieg in die Saison.\n\nKATEGORIEN\n\nKu
 rztriathlon Einzel + Staffel 1\,5/40/10 km\nVolktriathlon Einzel + Sta
 ffel 0\,5/20/5 km\nJugend A 0\,5/20/5 km\n\nWERTUNGEN UND MEISTERSCHAF
 TEN\n\nA:XUS Oberpfalz ASS\nStoapfalz (Wo)Man\nJugendtriathlon\nVerein
 scup\nKurztriathlon  Einzel und Staffel\nVolkstriathlon  Einzel und St
 affel\n\nWeitere Informationen und Onlienanmeldung beim Veranstalter: 
 Wechselszene
X-ALT-DESC;FMTTYPE=text/html:<p>Der Klassiker in der Vilsstadt: der Vo
 lks- und Raiffeisenbank Citytriathlon Amberg (CTA). Zum 25. Mal wird i
 n Amberg ein Triathlon-Wettkampf ausgetragen\, zum fünften Mal in Folg
 e führt der CTA durch die mittelalterliche Altstadt. Mit dem frühen Te
 rmin Anfang Mai zählt die Kurzdistanz wieder zu den ersten Wettbewerbe
 n in Deutschland – und ist somit ein perfekter Einstieg in die Saison.
 </p>\n<p><strong>KATEGORIEN</strong><br>\n<br>\nKurztriathlon Einzel +
  Staffel 1\,5/40/10 km<br>\nVolktriathlon Einzel + Staffel 0\,5/20/5 k
 m<br>\nJugend A 0\,5/20/5 km</p>\n<p><strong>WERTUNGEN UND MEISTERSCHA
 FTEN</strong><br>\n<br>\nA:XUS Oberpfalz ASS<br>\nStoapfalz (Wo)Man<br
 >\nJugendtriathlon<br>\nVereinscup<br>\nKurztriathlon  Einzel und Staf
 fel<br>\nVolkstriathlon  Einzel und Staffel</p>\n<p>Weitere Informatio
 nen und Onlienanmeldung beim Veranstalter: <a href=http://www.wechsels
 zene.com/wettkampfe/citytriathlon-amberg target=_blank>Wechselszene</a
 ></p>\n
URL:https://www.runningsocks.de/wordpress/terminkalender/eventsinglepa
 ge/?event_id=113&lang=de
ATTACH:https://www.runningsocks.de/wordpress/terminkalender/eventsingl
 epage/?event_id=113&lang=de
LOCATION:Freibad Amberg\, Hockermühlstr. 37-39\, Amberg
END:VEVENT
END:VCALENDAR
