BEGIN:VCALENDAR
VERSION:2.0
METHOD:PUBLISH
PRODID:-//hacksw/handcal//NONSGML v1.0//EN
BEGIN:VEVENT
DTSTAMP:20260419T165617Z
DTSTART:20120701T070000Z
DTEND:20120701T130000Z
UID:20120701T070000Z-20120701T130000Z-114@www.runningsocks.de
SUMMARY:1. Chiemsee Triathlon
DESCRIPTION:Kurzinfo:\nGlasklares Wasser\, majestätische Alpen\, das p
 runkvolle Schloss Herrenchiemsee – auf Bayerns schönstem Flecken Erde 
 wird im Sommer 2012 um Meter und Sekunden gekämpft: beim Chiemsee Tria
 thlon. Vor einer einzigartigen Kulisse erlebt der Megaortevent seine P
 remiere. Der Startschuss für den einzigen Triathlon über die Mitteldis
 tanz in Oberbayern fällt am Ostufer des Sees\, im malerischen Urlaubso
 rt Chieming. Die Herausforderung für die Teilnehmer: 2 Kilometer Schwi
 mmen\, 80 Kilometer Radfahren und 20  Kilometer Laufen.\nVon der Chiem
 inger Bucht aus stürzen sich die Sportlerinnen und Sportler in die Flu
 ten des bayerischen Meeres mit Kurs auf  die weltberühmte Herreninsel 
 inmitten des größten Sees in Bayern. Im Sattel wird die Jagd um die be
 ste Platzierung auf einem Rundkurs durch den idyllischen Chiemgau im S
 chatten der eindrucksvollen Chiemgauer Voralpen fortgesetzt. In den La
 ufschuhen geht es dann am Ufer des Chiemsees dem Ziel entgegen. Ein Ev
 ent zum Träumen. Die Startplätze sind im ersten Jahr streng limitiert!
 \n\nKATEGORIEN\n\nMitteldistanz Einzel + Staffel 2\,0/80/20 km\nKurztr
 iathlon Einzel + Staffel 1\,5/40/10 km\n\nWERTUNGEN UND MEISTERSCHAFTE
 N\n\nMitteldistanz Einzel + Staffel Triathlon\nKurzdistanz Einzel + St
 affel Triathlon\n\nAnmeldung ab 1. September 2011 bis zum 30. November
  2011\n\n	Kurztriathlon 60 Euro\n	Kurztriathlon Staffel 75 Euro\n	Mitt
 eldistanz Triathlon 125 Euro\n	Mitteldistanz Triathlon Staffel 145 Eur
 o\n\nAnmeldung ab 1. Dezember 2011 bis zum 17. Juni 2012\n\n\n	Kurztri
 athlon 75 Euro\n	Kurztriathlon Staffel 90Euro\n	Mitteldistanz Triathlo
 n 150 Euro\n	Mitteldistanz Triathlon Staffel 170 Euro\n\nAUSGABE DER S
 TARTUNTERLAGEN:\n\n	Chieming\n	Freitag\, 29. Juni 2012 · 17.30 – 19.00
  Uhr\n	Samstag\, 30. Juni 2012 · 11.00 – 14.00 Uhr\n\nWETTKAMPFBESPREC
 HUNG:\nTeilnahme Pflicht!\n\n\n	Kurztriathlon Einzel + Staffel - Samst
 ag\, 30. Juni 2012 um 18.00 Uhr\n	Mitteldistanz Triathlon Einzel + Sta
 ffel - Samstag\, 30. Juni 2012 um 18.00 Uhr\n\nSTART-ORT / ZEITEN / WE
 LLE:\nGemeinde Chieming\n\nMitteldistanz Triathlon – Einzel Damen / He
 rren und Staffeln\n9.00Uhr · Welle 1\n\nKurztriathlon – Einzel Damen /
  Herren und Staffeln\n9.30 Uhr · Welle 2\n\nZEITLIMIT:\n\n	Schwimmen  
 1500m  = 45min\n	Schwimmen  2000m  = 60min\n	Radfahren   40km  =   90m
 in\n	Radfahren   80km  = 180min\n	Laufen  10km  =   75min\n	Laufen  20
 km  = 150min\n	Kurztriathlon  Gesamt max. 205min\n	Mitteldistanz  Gesa
 mt max.  390min\n\n(Quelle: http://www.wechselszene.com)\n\nAusschreib
 ung:\n\n[wpfilebase tag=file path='triathlon/chiemsee/_20120701/201207
 01_ChiemseeTriathlon_Ausschreibung.pdf']\n\nAlle weiteren Infos und On
 line Anmeldung direkt beim Veranstalter: Chiemsee Triathlon
X-ALT-DESC;FMTTYPE=text/html:<p style=text-align: left\;><strong><span
  style=font-family: Arial\,Helvetica\,Geneva\,Sans-serif\,sans-serif\;
  font-size: medium\;>Kurzinfo:</span></strong></p>\n<p>Glasklares Wass
 er\, majestätische Alpen\, das prunkvolle Schloss Herrenchiemsee – auf
  Bayerns schönstem Flecken Erde wird im Sommer 2012 um Meter und Sekun
 den gekämpft: beim Chiemsee Triathlon. Vor einer einzigartigen Kulisse
  erlebt der Megaortevent seine Premiere. Der Startschuss für den einzi
 gen Triathlon über die Mitteldistanz in Oberbayern fällt am Ostufer de
 s Sees\, im malerischen Urlaubsort Chieming. Die Herausforderung für d
 ie Teilnehmer: 2 Kilometer Schwimmen\, 80 Kilometer Radfahren und 20  
 Kilometer Laufen.<br>\nVon der Chieminger Bucht aus stürzen sich die S
 portlerinnen und Sportler in die Fluten des bayerischen Meeres mit Kur
 s auf  die weltberühmte Herreninsel inmitten des größten Sees in Bayer
 n. Im Sattel wird die Jagd um die beste Platzierung auf einem Rundkurs
  durch den idyllischen Chiemgau im Schatten der eindrucksvollen Chiemg
 auer Voralpen fortgesetzt. In den Laufschuhen geht es dann am Ufer des
  Chiemsees dem Ziel entgegen. Ein Event zum Träumen. Die Startplätze s
 ind im ersten Jahr streng limitiert!</p>\n<p><strong>KATEGORIEN</stron
 g><br>\n<br>\nMitteldistanz Einzel + Staffel 2\,0/80/20 km<br>\nKurztr
 iathlon Einzel + Staffel 1\,5/40/10 km</p>\n<p><strong>WERTUNGEN UND M
 EISTERSCHAFTEN</strong><br>\n<br>\nMitteldistanz Einzel + Staffel Tria
 thlon<br>\nKurzdistanz Einzel + Staffel Triathlon</p>\n<p><em>Anmeldun
 g ab 1. September 2011 bis zum 30. November 2011</em></p>\n<ul>\n<li>K
 urztriathlon 60 Euro</li>\n<li>Kurztriathlon Staffel 75 Euro</li>\n<li
 >Mitteldistanz Triathlon 125 Euro</li>\n<li>Mitteldistanz Triathlon St
 affel 145 Euro</li>\n</ul>\n<p><em>Anmeldung ab 1. Dezember 2011 </em>
 <em>bis zum 17. Juni 2012<br>\n</em></p>\n<ul>\n<li>Kurztriathlon 75 E
 uro</li>\n<li>Kurztriathlon Staffel 90Euro</li>\n<li>Mitteldistanz Tri
 athlon 150 Euro</li>\n<li>Mitteldistanz Triathlon Staffel 170 Euro</li
 >\n</ul>\n<p><strong>AUSGABE DER STARTUNTERLAGEN:</strong></p>\n<ul>\n
 <li>Chieming</li>\n<li>Freitag\, 29. Juni 2012 · 17.30 – 19.00 Uhr</li
 >\n<li>Samstag\, 30. Juni 2012 · 11.00 – 14.00 Uhr</li>\n</ul>\n<p><st
 rong>WETTKAMPFBESPRECHUNG:</strong><br>\n<em>Teilnahme Pflicht!</em><e
 m><br>\n</em></p>\n<ul>\n<li>Kurztriathlon Einzel + Staffel<strong> </
 strong>&#8211\;<strong> </strong>Samstag\, 30. Juni 2012 um 18.00 Uhr<
 /li>\n<li>Mitteldistanz Triathlon Einzel + Staffel &#8211\;<strong> </
 strong>Samstag\, 30. Juni 2012 um 18.00 Uhr</li>\n</ul>\n<p><strong>ST
 ART-ORT / ZEITEN / WELLE:</strong><br>\nGemeinde Chieming</p>\n<p><em>
 Mitteldistanz Triathlon – Einzel Damen / Herren und Staffeln</em><br>\
 n9.00Uhr · Welle 1</p>\n<p><em>Kurztriathlon – Einzel Damen / Herren u
 nd Staffeln</em><br>\n9.30 Uhr · Welle 2</p>\n<p><strong>ZEITLIMIT:</s
 trong></p>\n<ul>\n<li>Schwimmen  1500m  = 45min</li>\n<li>Schwimmen  2
 000m  = 60min</li>\n<li>Radfahren   40km  =   90min</li>\n<li>Radfahre
 n   80km  = 180min</li>\n<li>Laufen  10km  =   75min</li>\n<li>Laufen 
  20km  = 150min</li>\n<li>Kurztriathlon  Gesamt max. 205min</li>\n<li>
 Mitteldistanz  Gesamt max.  390min</li>\n</ul>\n<p>(Quelle: http://www
 .wechselszene.com)</p>\n<p><strong>Ausschreibung:</strong><br>\n<br>\n
 [wpfilebase tag=file path=&#8217\;triathlon/chiemsee/_20120701/2012070
 1_ChiemseeTriathlon_Ausschreibung.pdf&#8216\;]</p>\n<p>Alle weiteren I
 nfos und Online Anmeldung direkt beim Veranstalter: <a href=http://www
 .wechselszene.com/wettkampfe/chiemsee-triathlon-3 target=_blank>Chiems
 ee Triathlon</a></p>\n
URL:https://www.runningsocks.de/wordpress/terminkalender/eventsinglepa
 ge/?event_id=114&lang=de
ATTACH:https://www.runningsocks.de/wordpress/terminkalender/eventsingl
 epage/?event_id=114&lang=de
LOCATION:Strandbad Chieming\, Bei den Bädern 1\, Chieming
END:VEVENT
END:VCALENDAR
