BEGIN:VCALENDAR
VERSION:2.0
METHOD:PUBLISH
PRODID:-//hacksw/handcal//NONSGML v1.0//EN
BEGIN:VEVENT
DTSTAMP:20260419T165633Z
DTSTART:20120722T080000Z
DTEND:20120722T130000Z
UID:20120722T080000Z-20120722T130000Z-115@www.runningsocks.de
SUMMARY:30. GEALAN Triathlon
DESCRIPTION:Ausschreibung und Online Anmeldung folgen\, sobald verfügb
 ar.\n\nAusschreibung:\n\n[wpfilebase tag=list id=142 /]\n\nAlle weiter
 en Infos und Online Anmeldung direkt beim Veranstalter: Gealan Triathl
 on Hof
X-ALT-DESC;FMTTYPE=text/html:<p>Ausschreibung und Online Anmeldung fol
 gen\, sobald verfügbar.</p>\n<p><strong>Ausschreibung:</strong><br>\n<
 br>\n[wpfilebase tag=list id=142 /]</p>\n<p>Alle weiteren Infos und On
 line Anmeldung direkt beim Veranstalter: <a href=http://www.triathlon-
 hof.com target=_blank>Gealan Triathlon Hof</a></p>\n
URL:https://www.runningsocks.de/wordpress/terminkalender/eventsinglepa
 ge/?event_id=115&lang=de
ATTACH:https://www.runningsocks.de/wordpress/terminkalender/eventsingl
 epage/?event_id=115&lang=de
LOCATION:Untreusee\, Untreusee\, Hof
END:VEVENT
END:VCALENDAR
