BEGIN:VCALENDAR
VERSION:2.0
METHOD:PUBLISH
PRODID:-//hacksw/handcal//NONSGML v1.0//EN
BEGIN:VEVENT
DTSTAMP:20260419T165349Z
DTSTART:20120429T140000Z
DTEND:20120429T160000Z
UID:20120429T140000Z-20120429T160000Z-116@www.runningsocks.de
SUMMARY:24. Würzburger Residenzlauf
DESCRIPTION:Laufstrecke:Leichter Rundkurs um die Würzburger Residenz u
 nd Parkanlagen (Asphalt). Laufstrecke offiziell vermessen\; IAFF - Roa
 d Race Course Measurement Certificate liegt vor! Hauptlauf\, Lauf 5:  
 10 km = 4 Runden\nMänner: 1982-1991 + Altersklasse\, Frauen: 1982-1991
  + Altersklasse\nLäufer bzw. Läuferinnen\, die die 10.000-m-Strecke na
 chweislich unter 34 Minuten bzw. 40 Minuten gelaufen sind\, gehören in
  den Lauf 7. Bitte zeigen Sie sportliche Fairness bereits bei der Anme
 ldung. Startgeld:Jugendliche (Läufe 1\, 2\, 3\, 6)\, inkl. T-Shirt ...
 .......... EUR 7\,-\nErwachsene (Läufe 3-7)\, inkl. T-Shirt ..........
 ............ EUR 15\,-\nDas Startgeld ist in Form eines Verrechnungssc
 hecks (zzgl. der Chipgebühr von EUR 28\,- = 25\,- EUR Pfand + 3\,- EUR
  Miete) dem Original-Anmeldeformular beizulegen und als normaler Brief
  – nicht per Einschreiben – an die Meldeadresse zu senden!\nBei der On
 lineanmeldung erfolgt die Zahlung per Überweisung. Voranmeldeschluss:M
 ontag\, 16. April 2012 (Zahlungseingang!) Nachmeldungen:von Dienstag\,
  17. April 2012 bis Sonntag\, 29. April 2012 –1 Stunde vor\nStartbegin
 n des jeweiligen Laufes\; bei Lauf 5 und 6: 2 Stunden vor Startbeginn\
 ; Nachmeldegebu?hr: EUR 3\,– fu?r Kinder und Jugendliche\;\nEUR 5\,– f
 u?r Erwachsene\; Ummeldungen sind nicht möglich! Startunterlagen:Ausga
 be von Startnummer\, Chip etc. im Organisationszelt – Nähe Start und Z
 iel – am 29.04.2012 ab 9.00 Uhr. Weitere\, aktuelle Infos und Online A
 nmeldung direkt beim Veranstalter: Residenzlauf Würzburg
X-ALT-DESC;FMTTYPE=text/html:<address><strong>Laufstrecke:</strong></a
 ddress>\n<address>Leichter Rundkurs um die Würzburger Residenz und Par
 kanlagen (Asphalt). Laufstrecke offiziell vermessen\; &#8222\;IAFF &#8
 211\; Road Race Course Measurement Certificate&#8220\; liegt vor!</add
 ress>\n<address> </address>\n<address><strong>Hauptlauf\, Lauf 5:  </s
 trong>10 km = 4 Runden<br>\nMänner: 1982-1991 + Altersklasse\, Frauen:
  1982-1991 + Altersklasse<br>\nLäufer bzw. Läuferinnen\, die die 10.00
 0-m-Strecke nachweislich unter 34 Minuten bzw. 40 Minuten gelaufen sin
 d\, gehören in den Lauf 7. Bitte zeigen Sie sportliche Fairness bereit
 s bei der Anmeldung.</address>\n<address> </address>\n<address><strong
 >Startgeld:</strong></address>\n<address><strong></strong>Jugendliche 
 (Läufe 1\, 2\, 3\, 6)\, inkl. T-Shirt &#8230\;&#8230\;&#8230\;&#8230\;
 . EUR 7\,-<br>\nErwachsene (Läufe 3-7)\, inkl. T-Shirt &#8230\;&#8230\
 ;&#8230\;&#8230\;&#8230\;&#8230\;&#8230\;. EUR 15\,-<br>\nDas Startgel
 d ist in Form eines Verrechnungsschecks (zzgl. der Chipgebühr von EUR 
 28\,- = 25\,- EUR Pfand + 3\,- EUR Miete) dem Original-Anmeldeformular
  beizulegen und als normaler Brief – nicht per Einschreiben – an die M
 eldeadresse zu senden!<br>\nBei der Onlineanmeldung erfolgt die Zahlun
 g per Überweisung.</address>\n<address> </address>\n<address><strong>V
 oranmeldeschluss:</strong></address>\n<address><strong></strong>Montag
 \, 16. April 2012 (Zahlungseingang!)</address>\n<address> </address>\n
 <address><strong>Nachmeldungen:</strong></address>\n<address>von Diens
 tag\, 17. April 2012 bis Sonntag\, 29. April 2012 –1 Stunde vor<br>\nS
 tartbeginn des jeweiligen Laufes\; bei Lauf 5 und 6: 2 Stunden vor Sta
 rtbeginn\; Nachmeldegebu?hr: EUR 3\,– fu?r Kinder und Jugendliche\;<br
 >\nEUR 5\,– fu?r Erwachsene\; Ummeldungen sind nicht möglich!</address
 >\n<address> </address>\n<address><strong>Startunterlagen:</strong></a
 ddress>\n<address>Ausgabe von Startnummer\, Chip etc. im Organisations
 zelt – Nähe Start und Ziel – am 29.04.2012 ab 9.00 Uhr.</address>\n<ad
 dress> </address>\n<p>Weitere\, aktuelle Infos und Online Anmeldung di
 rekt beim Veranstalter: <a href=http://www.residenzlauf.de/residenzlau
 f/laufinfos/allgemeines/ target=_blank>Residenzlauf Würzburg</a></p>\n
URL:https://www.runningsocks.de/wordpress/terminkalender/eventsinglepa
 ge/?event_id=116&lang=de
ATTACH:https://www.runningsocks.de/wordpress/terminkalender/eventsingl
 epage/?event_id=116&lang=de
LOCATION:Residenzplatz-Würzburg\, Residenzplatz\, Würzburg
END:VEVENT
END:VCALENDAR
