BEGIN:VCALENDAR
VERSION:2.0
METHOD:PUBLISH
PRODID:-//hacksw/handcal//NONSGML v1.0//EN
BEGIN:VEVENT
DTSTAMP:20260419T165618Z
DTSTART:20120603T070000Z
DTEND:20120603T140000Z
UID:20120603T070000Z-20120603T140000Z-117@www.runningsocks.de
SUMMARY:5. Oberpfälzer Seenland Triathlon
DESCRIPTION:Früher wurde dort Braunkohle abgebaut\, heute ist es Schau
 platz des einzigen Mitteldistanz-Triathlons in Ostbayern: das Oberpfäl
 zer Seenland. Bislang bekannt als “Steinberger See Triathlon”\, heißt 
 der Sportevent der Extraklasse künftig “Oberpfälzer Seenland Triathlon
 ” (OST). Der ist eine Herausforderung für Jung und Alt\, für Hobby-Spo
 rtler wie für Profi-Athleten. Zum Schwimmen geht es für direkt in den 
 größten See des bayerischen Bezirks. Nach einer Runde um die Insel in 
 der Mitte heißt es auch schon wieder: Raus aus den Wellen\, weiter auf
  die beiden Landetappen. Die schnellen und selektiven Rad- und Laufstr
 ecken führen um den Steinberger See und hinaus ins malerische Oberpfäl
 zer Seenland. Zeitgleich mit den Triathleten kämpft die Elite der Quad
 rathleten um die Deutsche Meisterschaft. Neben Schwimmen\, Radfahren u
 nd Laufen müssen sie noch Kajakfahren.\n\n(Quelle: www.wechselszene.co
 m)\n\nStrecken:\n\n	Mitteldistanz Einzel + Staffel 2\,0/80/20 km\n	Kur
 ztriathlon Einzel + Staffel 1\,5/40/10 km\n	Volkstriathlon Einzel + St
 affel 0\,5/16/5 km\n	Jugend A 0\,5/16/5 km\n	Quadrathlon Einzel + Staf
 fel 1\,5/40/8/10 km\n\nStartgebühren: (Anmeldung bis zum 31. Dezember 
  2011)\n\n	Jugend A 17 Euro\n	Volkstriathlon 27 Euro\n	Volkstriathlon 
 Staffel 42 Euro\n	Kurztriathlon 37 Euro\n	Quadrathlon 47 Euro\n	Quadra
 thlon Staffel 62Euro\n	Kurztriathlon Staffel 62 Euro\n	Mitteldistanz T
 riathlon 87 Euro\n	Mitteldistanz Triathlon Staffel 102 Euro\n\nab 01.0
 1.2012:\n\n	Jugend A 20 Euro\n	Volkstriathlon 32 Euro\n	Volkstriathlon
  Staffel 47 Euro\n	Kurztriathlon 42 Euro\n	Quadrathlon 52 Euro\n	Quadr
 athlon Staffel 67Euro\n	Kurztriathlon Staffel 67 Euro\n	Mitteldistanz 
 Triathlon 92 Euro\n	Mitteldistanz Triathlon Staffel 107 Euro\n\nStartz
 eiten:\nSteinberger See\n\nJugend A\, Volkstriathlon – Damen / Herren 
 und Staffeln\n9.00 Uhr · Welle 1\n\nKurztriathlon und Quadrathlon – Da
 men / Herren und Staffeln\n9.10Uhr · Welle 2\n\nMitteldistanz Triathlo
 n – Damen / Herren und Staffeln\n9.20 Uhr · Welle 3\n\nZeitlimits:\n\n
 	Schwimmen    500m  = 20min (nur Schwimmen ohne Wechsel)\n	Schwimmen  
 1500m  = 40min (nur Schwimmen ohne Wechsel)\n	Schwimmen  2000m  = 55mi
 n (nur Schwimmen ohne Wechsel)\n	Radfahren   20km  =   50min\n	Radfahr
 en   40km  =   90min\n	Radfahren   80km  = 150min\n	Laufen    5km  =  
  45min\n	Laufen  10km  =   60min\n	Laufen  20km  = 110min\n	Kajak     
 8km  = 60min\n	Volkstriathlon Gesamt max. 115min\n	Kurztriathlon  Gesa
 mt max. 190min\n	Mitteldistanz  Gesamt max.  315min\n	Quadrathlon  Ges
 amt max.  250min\n\nAlle weiteren Info's sowie Onlineanmeldung direkt 
 beim Veranstalter: www.wechselszene.com
X-ALT-DESC;FMTTYPE=text/html:<p>Früher wurde dort Braunkohle abgebaut\
 , heute ist es Schauplatz des einzigen Mitteldistanz-Triathlons in Ost
 bayern: das Oberpfälzer Seenland. Bislang bekannt als “Steinberger See
  Triathlon”\, heißt der Sportevent der Extraklasse künftig “Oberpfälze
 r Seenland Triathlon” (OST). Der ist eine Herausforderung für Jung und
  Alt\, für Hobby-Sportler wie für Profi-Athleten. Zum Schwimmen geht e
 s für direkt in den größten See des bayerischen Bezirks. Nach einer Ru
 nde um die Insel in der Mitte heißt es auch schon wieder: Raus aus den
  Wellen\, weiter auf die beiden Landetappen. Die schnellen und selekti
 ven Rad- und Laufstrecken führen um den Steinberger See und hinaus ins
  malerische Oberpfälzer Seenland. Zeitgleich mit den Triathleten kämpf
 t die Elite der Quadrathleten um die Deutsche Meisterschaft. Neben Sch
 wimmen\, Radfahren und Laufen müssen sie noch Kajakfahren.</p>\n<p>(Qu
 elle: www.wechselszene.com)</p>\n<p><span style=text-decoration: under
 line\;><strong>Strecken:</strong></span></p>\n<ul>\n<li>Mitteldistanz 
 Einzel + Staffel 2\,0/80/20 km</li>\n<li>Kurztriathlon Einzel + Staffe
 l 1\,5/40/10 km</li>\n<li>Volkstriathlon Einzel + Staffel 0\,5/16/5 km
 </li>\n<li>Jugend A 0\,5/16/5 km</li>\n<li>Quadrathlon Einzel + Staffe
 l 1\,5/40/8/10 km</li>\n</ul>\n<p><span style=text-decoration: underli
 ne\;><strong>Startgebühren:</strong></span> (<em>Anmeldung bis zum 31.
  Dezember  2011)</em></p>\n<ul>\n<li>Jugend A 17 Euro</li>\n<li>Volkst
 riathlon 27 Euro</li>\n<li>Volkstriathlon Staffel 42 Euro</li>\n<li>Ku
 rztriathlon 37 Euro</li>\n<li>Quadrathlon 47 Euro</li>\n<li>Quadrathlo
 n Staffel 62Euro</li>\n<li>Kurztriathlon Staffel 62 Euro</li>\n<li>Mit
 teldistanz Triathlon 87 Euro</li>\n<li>Mitteldistanz Triathlon Staffel
  102 Euro</li>\n</ul>\n<p>ab 01.01.2012:</p>\n<ul>\n<li>Jugend A 20 Eu
 ro</li>\n<li>Volkstriathlon 32 Euro</li>\n<li>Volkstriathlon Staffel 4
 7 Euro</li>\n<li>Kurztriathlon 42 Euro</li>\n<li>Quadrathlon 52 Euro</
 li>\n<li>Quadrathlon Staffel 67Euro</li>\n<li>Kurztriathlon Staffel 67
  Euro</li>\n<li>Mitteldistanz Triathlon 92 Euro</li>\n<li>Mitteldistan
 z Triathlon Staffel 107 Euro</li>\n</ul>\n<p><span style=text-decorati
 on: underline\;><strong>Startzeiten:</strong></span><strong></strong><
 br>\nSteinberger See</p>\n<p><em>Jugend A</em>\, <em>Volkstriathlon – 
 Damen / Herren und Staffeln</em><br>\n9.00 Uhr · Welle 1</p>\n<p><em>K
 urztriathlon und Quadrathlon – Damen / Herren und Staffeln</em><br>\n9
 .10Uhr · Welle 2</p>\n<p><em>Mitteldistanz Triathlon – Damen / Herren 
 und Staffeln</em><br>\n9.20 Uhr · Welle 3</p>\n<p><span style=text-dec
 oration: underline\;><strong>Zeitlimits:</strong></span></p>\n<ul>\n<l
 i>Schwimmen    500m  = 20min (nur Schwimmen ohne Wechsel)</li>\n<li>Sc
 hwimmen  1500m  = 40min (nur Schwimmen ohne Wechsel)</li>\n<li>Schwimm
 en  2000m  = 55min (nur Schwimmen ohne Wechsel)</li>\n<li>Radfahren   
 20km  =   50min</li>\n<li>Radfahren   40km  =   90min</li>\n<li>Radfah
 ren   80km  = 150min</li>\n<li>Laufen    5km  =   45min</li>\n<li>Lauf
 en  10km  =   60min</li>\n<li>Laufen  20km  = 110min</li>\n<li>Kajak  
    8km  = 60min</li>\n<li>Volkstriathlon Gesamt max. 115min</li>\n<li>
 Kurztriathlon  Gesamt max. 190min</li>\n<li>Mitteldistanz  Gesamt max.
   315min</li>\n<li>Quadrathlon  Gesamt max.  250min</li>\n</ul>\n<p>Al
 le weiteren Info&#8217\;s sowie Onlineanmeldung direkt beim Veranstalt
 er: <a href=http://www.wechselszene.com/wettkampfe/steinberger-see-tri
 athlon target=_blank>www.wechselszene.com</a></p>\n
URL:https://www.runningsocks.de/wordpress/terminkalender/eventsinglepa
 ge/?event_id=117&lang=de
ATTACH:https://www.runningsocks.de/wordpress/terminkalender/eventsingl
 epage/?event_id=117&lang=de
LOCATION:Steinberger See\, Steinberger See\, Steinberg am See
END:VEVENT
END:VCALENDAR
