BEGIN:VCALENDAR
VERSION:2.0
METHOD:PUBLISH
PRODID:-//hacksw/handcal//NONSGML v1.0//EN
BEGIN:VEVENT
DTSTAMP:20260419T165905Z
DTSTART:20120415T090000Z
DTEND:20120415T130000Z
UID:20120415T090000Z-20120415T130000Z-118@www.runningsocks.de
SUMMARY:1. Jechnerer GmbH Duathlon Ansbach
DESCRIPTION:Und wieder gibt es einen neuen Wettbewerb\, der einen zum 
 Testen der Frühjahrsform einlädt.\nDer neue Jechnerer GmbH Duathlon An
 sbach !!\nUnd hier ein paar Kurzinfo's:\n\nDie Strecken:\n\n	Kurzdista
 nz: 10 / 40 / 5\n	Sprintdistanz: 5 / 20 / 2\,5\n\nAblauf:\n\n	08:30 - 
 10:00 Uhr Ausgabe der Startunterlagen\n	09:00 - 10:45 Uhr Bike Check-i
 n\n	10:30 - 10:45 Uhr Wettkampfbesprechung (Pflicht)\n	11:00 Uhr  Star
 t Kurzdistanz\n	11:10 Uhr  Start Sprintdistanz\n\nStartgelder:\nSprint
 \n\n	bis 31.12.2011  EUR 17\,00\n	bis 28.02.2012 EUR 19\,00\n	bis 31.0
 3.2012 EUR 21\,00\n\nKurzdistanz\n\n	bis 31.12.2011  EUR 24\,00\n	bis 
 28.02.2012 EUR 26\,00\n	bis 31.03.2012 EUR 28\,00\n\n( zuzügl. 10 € Ta
 geslizenz für DTU Startpass)\n\nWas wird geboten ?\n\n	Die drei schnel
 lsten Frauen und Männer in der Gesamtwertung  jeweils Sach- und\nGeldp
 reise\n	Ergebnislisten werden im Zielbereich ausgehängt\n	Eine Startnu
 mmer\n	Armtransponder\n	Aufkleber für Rahmen und Helm\n	diverse Sponso
 rengeschenke\n	und ein hochwertiges Funktionsshirt der Marke CHOOZA\n(
 Vor Ort nicht abgeholte Preise werden nicht\nnachgesandt!)\n\nTeilnehm
 erlimit:\n\n	300\n\nMeldeschluß:\n\n	Bei Erreichen des Teilnehmerlimit
 's\n\nAlles weitere\, aktuelle Info's\, Onlineanmeldung\, Video der Ra
 d- und Laufstrecke\, Streckendarstellungen\,  erhaltet ihr beim Verans
 talter:  Duathlon Ansbach\n\nAusschreibung:\n\n[wpfilebase tag=file pa
 th='duathlon/ansbach/20120415/20120412_Duathlon-Ansbach_Ausschreibung.
 pdf']\n\n \n\n 
X-ALT-DESC;FMTTYPE=text/html:<p>Und wieder gibt es einen neuen Wettbew
 erb\, der einen zum Testen der Frühjahrsform einlädt.</p>\n<p style=te
 xt-align: center\;><strong><span style=font-size: medium\;>Der neue Je
 chnerer GmbH Duathlon Ansbach !!</span></strong></p>\n<p>Und hier ein 
 paar Kurzinfo&#8217\;s:</p>\n<p><span style=text-decoration: underline
 \;><strong>Die Strecken:</strong></span></p>\n<ul>\n<li>Kurzdistanz: 1
 0 / 40 / 5</li>\n<li>Sprintdistanz: 5 / 20 / 2\,5</li>\n</ul>\n<p><spa
 n style=text-decoration: underline\;><strong>Ablauf:</strong></span></
 p>\n<ul>\n<li>08:30 &#8211\; 10:00 Uhr Ausgabe der Startunterlagen</li
 >\n<li>09:00 &#8211\; 10:45 Uhr Bike Check-in</li>\n<li>10:30 &#8211\;
  10:45 Uhr Wettkampfbesprechung (Pflicht)</li>\n<li>11:00 Uhr  Start K
 urzdistanz</li>\n<li>11:10 Uhr  Start Sprintdistanz</li>\n</ul>\n<p><s
 pan style=text-decoration: underline\;><strong>Startgelder:</strong></
 span><br>\nSprint</p>\n<ul>\n<li>bis 31.12.2011  EUR 17\,00</li>\n<li>
 bis 28.02.2012 EUR 19\,00</li>\n<li>bis 31.03.2012 EUR 21\,00</li>\n</
 ul>\n<p>Kurzdistanz</p>\n<ul>\n<li>bis 31.12.2011  EUR 24\,00</li>\n<l
 i>bis 28.02.2012 EUR 26\,00</li>\n<li>bis 31.03.2012 EUR 28\,00</li>\n
 </ul>\n<p>( zuzügl. 10 € Tageslizenz für DTU Startpass)</p>\n<p><span 
 style=text-decoration: underline\;><strong>Was wird geboten ?</strong>
 </span></p>\n<ul>\n<li>Die drei schnellsten Frauen und Männer in der G
 esamtwertung  jeweils Sach- und<br>\nGeldpreise</li>\n<li>Ergebnislist
 en werden im Zielbereich ausgehängt</li>\n<li>Eine Startnummer</li>\n<
 li>Armtransponder</li>\n<li>Aufkleber für Rahmen und Helm</li>\n<li>di
 verse Sponsorengeschenke</li>\n<li>und ein hochwertiges Funktionsshirt
  der Marke CHOOZA<br>\n(Vor Ort nicht abgeholte Preise werden nicht<br
 >\nnachgesandt!)</li>\n</ul>\n<p><span style=text-decoration: underlin
 e\;><strong>Teilnehmerlimit:</strong></span></p>\n<ul>\n<li>300</li>\n
 </ul>\n<p><span style=text-decoration: underline\;><strong>Meldeschluß
 :</strong></span></p>\n<ul>\n<li>Bei Erreichen des Teilnehmerlimit&#82
 17\;s</li>\n</ul>\n<p>Alles weitere\, aktuelle Info&#8217\;s\, Onlinea
 nmeldung\, Video der Rad- und Laufstrecke\, Streckendarstellungen\,  e
 rhaltet ihr beim Veranstalter:  <a href=http://www.duathlon-ansbach.de
 / target=_blank>Duathlon Ansbach</a></p>\n<p><span style=text-decorati
 on: underline\;><strong>Ausschreibung:</strong></span><br>\n<br>\n[wpf
 ilebase tag=file path=&#8217\;duathlon/ansbach/20120415/20120412_Duath
 lon-Ansbach_Ausschreibung.pdf&#8216\;]</p>\n<p>&nbsp\;</p>\n<p>&nbsp\;
 </p>\n
URL:https://www.runningsocks.de/wordpress/terminkalender/eventsinglepa
 ge/?event_id=118&lang=de
ATTACH:https://www.runningsocks.de/wordpress/terminkalender/eventsingl
 epage/?event_id=118&lang=de
LOCATION:Theresien Gymnasium\, Schreibmüllerstraße 10\, Ansbach
END:VEVENT
END:VCALENDAR
