BEGIN:VCALENDAR
VERSION:2.0
METHOD:PUBLISH
PRODID:-//hacksw/handcal//NONSGML v1.0//EN
BEGIN:VEVENT
DTSTAMP:20260419T165733Z
DTSTART:20120506T064500Z
DTEND:20120506T130000Z
UID:20120506T064500Z-20120506T130000Z-119@www.runningsocks.de
SUMMARY:12. Heilbronner Trollinger Marathon / Halbmarathon
DESCRIPTION:Landschaftlich schöner Lauf  in den Hügeln rund um Heilbro
 nn.\nBeim Halbmarathon sind ca. 140Hm zu überwinden\, wobei der größte
  Anstieg bei Km 10 erfolgt\, ab dort geht es fast nur noch bergab.\n\n
 Beim Marathon gilt es immerhin schon 341Hm zu überwinden. Auch hier er
 folgt ein erster Anstieg bei Km10\, dann bergab und kurz darauf wieder
  in Wellen bergauf/bergab. Ab Km14 flach bis ca. Km20. Ab hier nun in 
 Wellen wieder bergauf bis Km 28\, dann wieder in Wellen bergab bis Km 
 35. Bei Km36 noch einmal ein Anstieg und in folge flach ins Ziel.\n\nM
 eldebühren:\n\nMarathon:\nEuro 35\,-- bis 31.01.2012\nEuro 40\,-- 01.0
 2.-31.03.2012\nEuro 45\,-- 01.04.-18.04.2012\n\nHalbmarathon (auch Wal
 king/Nordic-Walking):\nEuro 25\,-- bis 31.01.2012\nEuro 30\,-- 01.02.-
 31.03.2012\nEuro 35\,-- 01.04.-18.04.2012\n\nWer sich bis zu diesem Ze
 itpunkt anmeldet\, erhält ein atmungsaktives Funktionshirt des Heilbro
 nner Trollinger-Marathons 2012. Die Ausgabe des Shirts erfolgt ausschl
 ießlich bei Abholung der Startunterlagen.\n\n\nNachmeldung:\n\n\nIst a
 m Samstag 05. Mai 2012 von 12.00 - 19.00 Uhr und am Sonntag 06. Mai 20
 12 von 07.00 Uhr - 08.45 Uhr (Marathon bis 07.45 Uhr) am Nachmeldescha
 lter möglich.\n\nMarathon:           Euro 50\,--\nHalbmarathon:    Eur
 o 40\,--\n(Nachmeldungen nur gegen Barzahlung!)\n\nStartzeiten:\n\n07:
 00 Uhr - 09:15 Uhr  Ausgabe der Startunterlagen\n07:00 Uhr - 16:00 Uhr
   Marathonmarkt\n07:45 Uhr - 08:00 Uhr  Kurzandacht in der Nähe des St
 arts\n08:05 Uhr - 08:30 Uhr  Aufwärmprogramm\n08:45 Uhr               
      Start des Marathons\n09:15 Uhr                    Start Schüler-/
 Jugendlauf (ab 9 Jahren)\n09:20 Uhr - 09:35 Uhr  Kurzandacht in der Nä
 he des Starts\n09:35 Uhr                    Aufwärmprogramm\n10:20 Uhr
                     Start des Halbmarathons incl. Walker und Nordic Wa
 lker\n10:45 Uhr                    Start Mini-Marathon (6 - 9 Jahre)\n
 12:15 Uhr                    Siegerehrung Schüler-/Jugendlauf + Mini-M
 arathon\nab 13:30 Uhr               Siegerehrung Halb-/Marathon\n14:45
  Uhr                    Zielschluss\nab 14:45 Uhr               Sieger
 ehrung der Altersklassen im Foodcourt\n\nPreise:\n\nGeldpreise für die
  Plätze 1-3 Männer / Frauen im Marathon / Halbmarathon.\n\nGeldpreise 
 für die Plätze 1-3 Männer / Frauen in der Mannschaft Marathon / Halbma
 rathon\n\nSachpreise für für Plätze 1-3 Männer / Frauen in den Altersk
 lassen\n\nWeitere\, aktuelle Info's und Online Anmeldung beim Veransta
 lter: Trollinger Marathon\n\nAusschreibung:\n\n 
X-ALT-DESC;FMTTYPE=text/html:<p style=text-align: center\;><strong>Lan
 dschaftlich schöner Lauf  in den Hügeln rund um Heilbronn.</strong></p
 >\n<p>Beim Halbmarathon sind ca. 140Hm zu überwinden\, wobei der größt
 e Anstieg bei Km 10 erfolgt\, ab dort geht es fast nur noch bergab.</p
 >\n<p>Beim Marathon gilt es immerhin schon 341Hm zu überwinden. Auch h
 ier erfolgt ein erster Anstieg bei Km10\, dann bergab und kurz darauf 
 wieder in Wellen bergauf/bergab. Ab Km14 flach bis ca. Km20. Ab hier n
 un in Wellen wieder bergauf bis Km 28\, dann wieder in Wellen bergab b
 is Km 35. Bei Km36 noch einmal ein Anstieg und in folge flach ins Ziel
 .</p>\n<p><strong>Meldebühren:</strong><br>\n<br>\nMarathon:<strong><b
 r>\n</strong>Euro 35\,&#8211\; bis 31.01.2012<br>\nEuro 40\,&#8211\; 0
 1.02.-31.03.2012<br>\nEuro 45\,&#8211\; 01.04.-18.04.2012</p>\n<p>Halb
 marathon (auch Walking/Nordic-Walking):<br>\nEuro 25\,&#8211\; bis 31.
 01.2012<br>\nEuro 30\,&#8211\; 01.02.-31.03.2012<br>\nEuro 35\,&#8211\
 ; 01.04.-18.04.2012</p>\n<p>Wer sich bis zu diesem Zeitpunkt anmeldet\
 , erhält ein atmungsaktives Funktionshirt des Heilbronner Trollinger-M
 arathons 2012. Die Ausgabe des Shirts erfolgt ausschließlich bei Abhol
 ung der Startunterlagen.</p>\n<div>\n<p><strong>Nachmeldung:</strong><
 /p>\n</div>\n<p>Ist am Samstag 05. Mai 2012 von 12.00 &#8211\; 19.00 U
 hr und am Sonntag 06. Mai 2012 von 07.00 Uhr &#8211\; 08.45 Uhr (Marat
 hon bis 07.45 Uhr) am Nachmeldeschalter möglich.</p>\n<p>Marathon:    
        Euro 50\,&#8211\;<br>\nHalbmarathon:    Euro 40\,&#8211\;<br>\n
 (Nachmeldungen nur gegen Barzahlung!)</p>\n<p><strong>Startzeiten:</st
 rong><br>\n<br>\n07:00 Uhr &#8211\; 09:15 Uhr  Ausgabe der Startunterl
 agen<br>\n07:00 Uhr &#8211\; 16:00 Uhr  Marathonmarkt<br>\n07:45 Uhr &
 #8211\; 08:00 Uhr  Kurzandacht in der Nähe des Starts<br>\n08:05 Uhr &
 #8211\; 08:30 Uhr  Aufwärmprogramm<br>\n<strong>08:45 Uhr             
        Start des Marathons</strong><br>\n09:15 Uhr                    
 Start Schüler-/Jugendlauf (ab 9 Jahren)<br>\n09:20 Uhr &#8211\; 09:35 
 Uhr  Kurzandacht in der Nähe des Starts<br>\n09:35 Uhr                
     Aufwärmprogramm<br>\n<strong>10:20 Uhr                    Start de
 s Halbmarathons incl. Walker und Nordic Walker</strong><br>\n10:45 Uhr
                     Start Mini-Marathon (6 &#8211\; 9 Jahre)<br>\n12:1
 5 Uhr                    Siegerehrung Schüler-/Jugendlauf + Mini-Marat
 hon<br>\nab 13:30 Uhr               Siegerehrung Halb-/Marathon<br>\n1
 4:45 Uhr                    Zielschluss<br>\nab 14:45 Uhr             
   Siegerehrung der Altersklassen im Foodcourt</p>\n<p><strong>Preise:<
 /strong><br>\n<br>\nGeldpreise für die Plätze 1-3 Männer / Frauen im M
 arathon / Halbmarathon.</p>\n<p>Geldpreise für die Plätze 1-3 Männer /
  Frauen in der Mannschaft Marathon / Halbmarathon</p>\n<p>Sachpreise f
 ür für Plätze 1-3 Männer / Frauen in den Altersklassen</p>\n<p><strong
 >Weitere\, aktuelle Info&#8217\;s und Online Anmeldung beim Veranstalt
 er:</strong> <a href=http://www.trollinger-marathon.de target=_blank>T
 rollinger Marathon</a></p>\n<p><strong>Ausschreibung:</strong><br>\n<b
 r>\n&nbsp\;</p>\n
URL:https://www.runningsocks.de/wordpress/terminkalender/eventsinglepa
 ge/?event_id=119&lang=de
ATTACH:https://www.runningsocks.de/wordpress/terminkalender/eventsingl
 epage/?event_id=119&lang=de
LOCATION:Frankenstadion - Heilbronn\, Badstraße 100\, Heilbronn
END:VEVENT
END:VCALENDAR
