BEGIN:VCALENDAR
VERSION:2.0
METHOD:PUBLISH
PRODID:-//hacksw/handcal//NONSGML v1.0//EN
BEGIN:VEVENT
DTSTAMP:20260419T165352Z
DTSTART:20100321T090000Z
DTEND:20100321T110000Z
UID:20100321T090000Z-20100321T110000Z-12@www.runningsocks.de
SUMMARY:9. Pühlheimer Frühlingslauf
DESCRIPTION:Start: \n\n\n	10:00 Uhr    Läufer\n	10:00 Uhr    Walker / 
 Nordic Walker\n\n\nStrecken:\n\n\n	5\,6 Km mit langer Steigung\n	 12\,
 5 Km (nur für geübte Läufer\, stärkere  Steigung)\n\n\nWeitere Infos u
 nd Online Anmeldung auf der Seite des Veranstalters: www.manfred-hajek
 .de
X-ALT-DESC;FMTTYPE=text/html:<p style=text-align: justify\;><strong>St
 art: </strong></p>\n<ul>\n<li style=text-align: left\;>10:00 Uhr    Lä
 ufer</li>\n<li style=text-align: left\;>10:00 Uhr    Walker / Nordic W
 alker</li>\n</ul>\n<p style=text-align: justify\;><strong>Strecken:</s
 trong></p>\n<ul>\n<li style=text-align: left\;>5\,6 Km mit langer Stei
 gung</li>\n<li style=text-align: left\;> 12\,5 Km (nur für geübte Läuf
 er\, stärkere  Steigung)</li>\n</ul>\n<p style=text-align: left\;>Weit
 ere Infos und Online Anmeldung auf der Seite des Veranstalters: <a hre
 f=http://www.manfred-hajek.de/Lauftreff/Puehlheim/puehlheim.htm target
 =_blank>www.manfred-hajek.de</a></p>\n
URL:https://www.runningsocks.de/wordpress/terminkalender/eventsinglepa
 ge/?event_id=12&lang=de
ATTACH:https://www.runningsocks.de/wordpress/terminkalender/eventsingl
 epage/?event_id=12&lang=de
LOCATION:Feuerwehrhaus\, Pühlheim\, Pühlheim\, Pühlheim
END:VEVENT
END:VCALENDAR
