BEGIN:VCALENDAR
VERSION:2.0
METHOD:PUBLISH
PRODID:-//hacksw/handcal//NONSGML v1.0//EN
BEGIN:VEVENT
DTSTAMP:20260419T165531Z
DTSTART:20120304T093000Z
DTEND:20120304T113000Z
UID:20120304T093000Z-20120304T113000Z-120@www.runningsocks.de
SUMMARY:19. Finish Line Rothseelauf
DESCRIPTION:1 Runde  um den kleinen Rothsee (5\,2 Km - Hobbylauf)  auf
  flacher Strecke.\n2 Runden um den kleinen Rothsee (10\,4 Km - Hauptla
 uf) auf flacher Streck\nAusschreibung:\n[wpfilebase tag=file path='lau
 f/rothseelauf/20120304/Ausschreibung_Rothseelauf2012.pdf' /]\nWeitere 
 Info's und Online Anmeldung beim Veranstalter: Finish Line
X-ALT-DESC;FMTTYPE=text/html:<p style=text-align: justify\;>1 Runde  u
 m den kleinen Rothsee (5\,2 Km &#8211\; Hobbylauf)  auf flacher Streck
 e.</p>\n<p style=text-align: justify\;>2 Runden um den kleinen Rothsee
  (10\,4 Km &#8211\; Hauptlauf) auf flacher Streck</p>\n<p style=text-a
 lign: justify\;>Ausschreibung:</p>\n<p style=text-align: justify\;>[wp
 filebase tag=file path=&#8217\;lauf/rothseelauf/20120304/Ausschreibung
 _Rothseelauf2012.pdf&#8216\; /]</p>\n<p style=text-align: justify\;>We
 itere Info&#8217\;s und <a href=https://www.sas-online.net/sas_voranme
 ldungen/voranmeldungen.php?ID=100&amp\;start=1 target=_blank>Online An
 meldung</a> beim Veranstalter: <a href=http://www.finish-line.de/wettk
 aempfe-ausschreibungen.htm target=_blank>Finish Line</a></p>\n
URL:https://www.runningsocks.de/wordpress/terminkalender/eventsinglepa
 ge/?event_id=120&lang=de
ATTACH:https://www.runningsocks.de/wordpress/terminkalender/eventsingl
 epage/?event_id=120&lang=de
LOCATION:Strandhaus Birkach\, Birkacher Uferweg 2\, Roth
END:VEVENT
END:VCALENDAR
