BEGIN:VCALENDAR
VERSION:2.0
METHOD:PUBLISH
PRODID:-//hacksw/handcal//NONSGML v1.0//EN
BEGIN:VEVENT
DTSTAMP:20260419T165630Z
DTSTART:20120701T080000Z
DTEND:20120701T110000Z
UID:20120701T080000Z-20120701T110000Z-124@www.runningsocks.de
SUMMARY:25. Hersbrucker Volkstriathlon
DESCRIPTION:25. Hersbrucker Volkstriathlon\n300 m - 20 km - 5 km\n\n\n
 	Schwimmen: Hersbrucker Badesee\n	Rad: Hersbrucker Badesee über Föhren
 bach\, Alfeld nach Waller\n	Laufen: Waller - Gravenbuch - Waller\n\nab
  TM/TW 15 für Jedermann\, auch Vereinslose\, Hobby- und Freizeitsportl
 er\, Einzel- und Staffelmeldungen möglich\n\nZum 25. Hersbrucker Volks
 trriathlon gibt es diesmla etwas besonderes: Zusammen mit dem Duathlon
  in Gravenbuch (09.09.2012) wird dieses Jahr eine Cup Wertung durchgef
 ührt.\n\n„Zweimal starten – einmal Extrapreise sichern!“ \n\nDie schne
 llsten Starter und Starterinnen beider Veranstaltungen (Volkstriathlon
  am 1.7.2012 und Jedermannduathlon des DAV Triathlon Hersbruck am 9.9.
 2012) werden geehrt und erhalten wertvolle Sachpreise!\nAusschreibung:
 \n[wpfilebase tag=file path='triathlon/hersbruck/20120701/a_tri_25.pdf
 ' /]\n\nGruppenanmeldungen können wir bisher auch per Mail an Herrn St
 ocker gesandt werden.\nOrganisation: Heiner Stocker 09151/814680 oder 
 0151-58964477\nWeitere Info's und Anmeldung beim Veranstalter: DAV Her
 sbruck\, Online Anmeldung
X-ALT-DESC;FMTTYPE=text/html:<p style=text-align: justify\;>25. Hersbr
 ucker Volkstriathlon</p>\n<p style=text-align: justify\;>300 m &#8211\
 ; 20 km &#8211\; 5 km</p>\n<ul>\n<li style=text-align: justify\;>Schwi
 mmen: Hersbrucker Badesee</li>\n<li style=text-align: justify\;>Rad: H
 ersbrucker Badesee über Föhrenbach\, Alfeld nach Waller</li>\n<li styl
 e=text-align: justify\;>Laufen: Waller &#8211\; Gravenbuch &#8211\; Wa
 ller</li>\n</ul>\n<p>ab TM/TW 15 für Jedermann\, auch Vereinslose\, Ho
 bby- und Freizeitsportler\, Einzel- und Staffelmeldungen möglich</p>\n
 <p>Zum 25. Hersbrucker Volkstrriathlon gibt es diesmla etwas besondere
 s: Zusammen mit dem Duathlon in Gravenbuch (09.09.2012) wird dieses Ja
 hr eine Cup Wertung durchgeführt.</p>\n<p><strong><em>„Zweimal starten
  – einmal Extrapreise sichern!“ </em></strong></p>\n<p><strong>Die sch
 nellsten Starter und Starterinnen beider Veranstaltungen (Volkstriathl
 on am 1.7.2012 und Jedermannduathlon des DAV Triathlon Hersbruck am 9.
 9.2012) werden geehrt und erhalten wertvolle Sachpreise!</strong></p>\
 n<h3>Ausschreibung:</h3>\n<p>[wpfilebase tag=file path=&#8217\;triathl
 on/hersbruck/20120701/a_tri_25.pdf&#8216\; /]</p>\n<p>Gruppenanmeldung
 en können wir bisher auch per Mail an Herrn Stocker gesandt werden.</p
 >\n<p style=text-align: justify\;><span style=font-family: Verdana\,Ar
 ial\,Helvetica\,sans-serif\;>Organisation: <a title=Email an Heiner St
 ocker href=mailto:heiner@stockeronline.de>Heiner Stocker</a> 09151/814
 680 oder 0151-58964477</span></p>\n<p style=text-align: justify\;>Weit
 ere Info&#8217\;s und Anmeldung beim Veranstalter: <a href=http://www.
 dav-hersbruck.de/sites/triathlon/m_volkstriathlon.HTM target=_blank>DA
 V Hersbruck</a>\, <a href=http://www.dav-hersbruck.de/sites/triathlon/
 2011/m_tri_24_hin.HTM target=_blank>Online Anmeldung</a></p>\n
URL:https://www.runningsocks.de/wordpress/terminkalender/eventsinglepa
 ge/?event_id=124&lang=de
ATTACH:https://www.runningsocks.de/wordpress/terminkalender/eventsingl
 epage/?event_id=124&lang=de
LOCATION:Happurger Baggersee\, Bagger See\, Happurg
END:VEVENT
END:VCALENDAR
