BEGIN:VCALENDAR
VERSION:2.0
METHOD:PUBLISH
PRODID:-//hacksw/handcal//NONSGML v1.0//EN
BEGIN:VEVENT
DTSTAMP:20260419T165719Z
DTSTART:20120916T080000Z
DTEND:20120916T110000Z
UID:20120916T080000Z-20120916T110000Z-125@www.runningsocks.de
SUMMARY:13. Neumarkter Stadtlauf
DESCRIPTION:(Quelle: Neumarkter Stadtlauf )\n\nEs ist schon Tradition:
  Immer eine Wochenende nach dem die Ferien zu Ende sind startet der Ne
 umarkter Stadtlauf. Der wichtigste Lauf ist der Halbmarathon. 713 Star
 ter waren im letzten Jahr am Start und genossen die tolle Stimmung auf
  der Laufstrecke. Auch heuer ist der Start wieder am 16. September um 
 Punkt 10:00 Uhr in der Neumarkter Innenstadt.\nStart / Ziel:\n5\,5Km S
 chnupperlauf: 16. September 2011\, 9:50 Uhr\, Rathaus\, Innenstadt\, Z
 ielschluss 12 Uhr\nStartgeld:\nBis zum 11.07.2012  15\,50 Euro\nvom 12
 .07. bis 05.09.12  18\,50 Euro\nNachmeldung 06.09. bis 15.09.12  23\,5
 0 Euro\n10\,5Km Lauf: 16. September 2011\, 10 Uhr\, Rathaus\, Innensta
 dt\, Zielschluss 12 Uhr\nStartgeld:\n         Bis zum 11.07.2012  19\,
 50 Euro\nvom 12.07. bis 05.09.12  22\,50 Euro\nNachmeldung 06.09. bis 
 15.09.12  27\,50 Euro\n\nHalbmarathon: 16. September 2011\, 10 Uhr\, R
 athaus\, Innenstadt\, Zielschluss 12.40 Uhr\nStartgeld:\nBis zum 11.07
 .2012  25\,50 Euro\nvom 12.07. bis 05.09.12  27\,50 Euro\nNachmeldung 
 06.09. bis 15.09.12  32\,50 Euro\n\nLeistungen:\nWas man alles für sei
 n Startgeld bekommt:\n\n	Funktions T-Shirt als Finishergeschenk\n	Fini
 shermedaille\n	Startnummer mit persönlichen Vornamen\n	Informationszei
 tschrift mit allen Startern\n	Gutschein für die Kloß mit Soß Party am 
 Samstag\n	Gutschein für einen freien Eintritt im Freibad\n	Nettozeitme
 ssung mittels Chips mit Einzelwertung\, Klassenwertung und Teamwertung
 \n	Abgesperrte Strecke mit großen Kilometertafeln\n	Musik an vielen St
 ellen\n	Kostenlose Teilnahme am Samstagprogramm mit Livemusik\n	Ärztli
 che Versorgung mit drei Notärzten und vielen Sanitätern auf der Streck
 e und im Zielbereich\n	Verpflegung auf der Strecke mit Wasser und ISO\
 n	\nVerpflegung im Zielbereich mit Wasser\, ISO\; Cola und Früchten\n	
 Dusch- und Massagemöglichkeit nach dem Lauf\n	Rahmenprogramm für Groß 
 und Klein\n	Urkunde\, Ergebnisheft im Internet zum runterladen\n	Und n
 atürlich einen perfekt organisierten Ablauf\n\nWertungen:\nEinzelwertu
 ng\, Stadtmeister/Stadtmeisterin\, Mannschaftswertung (5 Läufer bilden
  eine Mannschaft\, bitte auf identische Mannschaftsnamen im Meldeformu
 lar achten).\n\nFlyer zum 12. Neumarkter Stadtlauf:\n\nFolgt\, sobald 
 verfügbar\n\nWeitere Info's und Onlineanmeldung beim Veranstalter: Sta
 dtlauf Neumarkt e.V.
X-ALT-DESC;FMTTYPE=text/html:<p>(Quelle: <a href=http://stadtlauf-neum
 arkt.de target=_blank>Neumarkter Stadtlauf</a> )</p>\n<p>Es ist schon 
 Tradition: Immer eine Wochenende nach dem die Ferien zu Ende sind star
 tet der Neumarkter Stadtlauf. Der wichtigste Lauf ist der Halbmarathon
 . 713 Starter waren im letzten Jahr am Start und genossen die tolle St
 immung auf der Laufstrecke. Auch heuer ist der Start wieder am 16. Sep
 tember um Punkt 10:00 Uhr in der Neumarkter Innenstadt.</p>\n<h3><span
  style=font-size: small\;>Start / Ziel:</span></h3>\n<p><span style=te
 xt-decoration: underline\;>5\,5Km Schnupperlauf: </span>16. September 
 2011\, 9:50 Uhr\, Rathaus\, Innenstadt\, Zielschluss 12 Uhr</p>\n<p st
 yle=padding-left: 30px\;>Startgeld:</p>\n<p style=padding-left: 30px\;
 >Bis zum 11.07.2012  15\,50 Euro<br>\nvom 12.07. bis 05.09.12  18\,50 
 Euro<br>\nNachmeldung 06.09. bis 15.09.12  23\,50 Euro</p>\n<p>10\,5Km
  Lauf: 16. September 2011\, 10 Uhr\, Rathaus\, Innenstadt\, Zielschlus
 s 12 Uhr</p>\n<p style=padding-left: 30px\;>Startgeld:</p>\n<p>       
   Bis zum 11.07.2012  19\,50 Euro<br>\nvom 12.07. bis 05.09.12  22\,50
  Euro<br>\nNachmeldung 06.09. bis 15.09.12  27\,50 Euro</p>\n<p>Halbma
 rathon: 16. September 2011\, 10 Uhr\, Rathaus\, Innenstadt\, Zielschlu
 ss 12.40 Uhr</p>\n<p style=padding-left: 30px\;>Startgeld:</p>\n<p sty
 le=padding-left: 30px\;>Bis zum 11.07.2012  25\,50 Euro<br>\nvom 12.07
 . bis 05.09.12  27\,50 Euro<br>\nNachmeldung 06.09. bis 15.09.12  32\,
 50 Euro</p>\n<h3>Leistungen:</h3>\n<p>Was man alles für sein Startgeld
  bekommt:</p>\n<ul>\n<li>Funktions T-Shirt als Finishergeschenk</li>\n
 <li>Finishermedaille</li>\n<li>Startnummer mit persönlichen Vornamen</
 li>\n<li>Informationszeitschrift mit allen Startern</li>\n<li>Gutschei
 n für die &#8222\;Kloß mit Soß Party&#8220\; am Samstag</li>\n<li>Guts
 chein für einen freien Eintritt im Freibad</li>\n<li>Nettozeitmessung 
 mittels Chips mit Einzelwertung\, Klassenwertung und Teamwertung</li>\
 n<li>Abgesperrte Strecke mit großen Kilometertafeln</li>\n<li>Musik an
  vielen Stellen</li>\n<li>Kostenlose Teilnahme am Samstagprogramm mit 
 Livemusik</li>\n<li>Ärztliche Versorgung mit drei Notärzten und vielen
  Sanitätern auf der Strecke und im Zielbereich</li>\n<li>Verpflegung a
 uf der Strecke mit Wasser und ISO</li>\n<li>\n<div>Verpflegung im Ziel
 bereich mit Wasser\, ISO\; Cola und Früchten</div>\n</li>\n<li>Dusch- 
 und Massagemöglichkeit nach dem Lauf</li>\n<li>Rahmenprogramm für Groß
  und Klein</li>\n<li>Urkunde\, Ergebnisheft im Internet zum runterlade
 n</li>\n<li>Und natürlich einen perfekt organisierten Ablauf</li>\n</u
 l>\n<h3><strong>Wertungen:</strong></h3>\n<p>Einzelwertung\, Stadtmeis
 ter/Stadtmeisterin\, Mannschaftswertung (5 Läufer bilden eine Mannscha
 ft\, bitte auf identische Mannschaftsnamen im Meldeformular achten).</
 p>\n<p>Flyer zum 12. Neumarkter Stadtlauf:</p>\n<p>Folgt\, sobald verf
 ügbar</p>\n<p>Weitere Info&#8217\;s und Onlineanmeldung beim Veranstal
 ter: <a href=http://www.stadtlauf-neumarkt.de target=_blank>Stadtlauf 
 Neumarkt e.V.</a></p>\n
URL:https://www.runningsocks.de/wordpress/terminkalender/eventsinglepa
 ge/?event_id=125&lang=de
ATTACH:https://www.runningsocks.de/wordpress/terminkalender/eventsingl
 epage/?event_id=125&lang=de
LOCATION:Rathaus Neumarkt\, Rathaus\, Neumarkt
END:VEVENT
END:VCALENDAR
