BEGIN:VCALENDAR
VERSION:2.0
METHOD:PUBLISH
PRODID:-//hacksw/handcal//NONSGML v1.0//EN
BEGIN:VEVENT
DTSTAMP:20260419T165615Z
DTSTART:20120922T073300Z
DTEND:20120922T083300Z
UID:20120922T073300Z-20120922T083300Z-126@www.runningsocks.de
SUMMARY:2. Jeam Beam Wolfsman Run & Rock
DESCRIPTION:Vergesst alles\, was Ihr bisher gemacht habt! Jetzt gibt e
 s den Wolfsman.\nEs gilt einen Parcours mit einer Länge von 10 Kilomet
 ern und etlichen Hindernissen zu bewältigen\, wobei das Gelände\, die 
 'Wolfsschlucht'\, an und für sich schon eine besondere Herausforderung
  ist. Dabei dürfen die 'Wölfe' keine Scheu vor schlammigen Schuhen\, g
 roßen Erdhügeln\, kaltem Wasser etc. haben.\nJeder kämpft für sich sel
 bst oder tritt als 5er-Wolfsrudel gemeinsam an.\nEs ist ein Event\, de
 r (Extrem)-Sport und Fun vereint\, da der schwierige Parcours von JEDE
 RMANN zu bewältigen ist. Es bedarf einer Ausdauer für einen 10 Kilomet
 er Querfeldeinlauf und der BEREITSCHAFT NIE AUFZUGEBEN. \nDie Devise l
 autet: 'DURCHHALTEN'. Nur wer den Parcours vollständig meistert\, darf
  sich als echter 'Wolfsman' bezeichnen und sich die wolfsharte Trophäe
  um den Hals hängen.\nNach dem Run folgt gleich im Anschluss der Rock.
  Bei der Party können die Leistungen bis Mitternacht gefeiert werden.\
 nNie war Erwachsensein schöner! Heul halt!\nTeilnehmerbeitrag:\n\n\n	f
 ür einen Wolf als Einzelstarter 39\,99 €\n	für ein Wolfsrudel\, besteh
 end aus 5 Wölfen/Startern je Wolf/Starter 36\,99 €\n(5 Wölfe. Nicht me
 hr. Nicht weniger)\n\ninkl. 19 % Mehrwertsteuer.\n\nAblauf:\n\n	12.00-
 15.00 Uhr Abholung der Startunterlagen am Wolfsman Infocounter\n	16.00
  Uhr Start der Leitwölfe\n	16.15 Uhr Start der Wolfsrudel\n	19.30 Uhr 
 Schließung des Parcours\n	20.00 Uhr  Siegerehrung im Rockzelt/Verlosun
 g attraktiver Gewinne unter allen Startern\n\nTeilnehmerlimit:\n\n\n	S
 tarterfeld mit 800 Wölfen\n\nLeistungen:\n\n	Die Startnummer\n	Einen L
 eih-Transponder zur Zeitnahme\n	Einen Voucher zum Deponieren eines Gep
 äckstücks während des Laufs\n	Getränke während des Laufs (Alkoholfreie
 s Bier von Wolfshöher)\n	Einen Starterbeutel mit Give-Aways der Sponso
 ren\n	Die Startnummer gilt als Los für attraktive Gewinne von Sponsore
 n\n	Duschmöglichkeit für 'Warmduscher' beim Verein ASV Weinzierlein (n
 ur ein paar Minuten zu Fuß vom Veranstaltungsgelände entfernt)\n	Eine 
 Urkunde zum kostenlosen download\n	Ein Zieleinlaufvideo zum kostenlose
 n download\n	Wolfsman-Trophäe!\nFür die tatsächlichen Finisher im Ziel
 bereich gibt es eine ‚Wolfsman-Kette‘\; gefertigt aus hochwertigem Sta
 hl\; inkl. schwarzem Lederband -mit der Möglichkeit\, den Wunschnamen 
 kostenlos auf der Rückseite einlasern zu lassen.  Gesponsert von Firma
  INDUL\n\nAlle weiteren Info's udn Online Anmeldung direkt beim Verans
 talter: Jeam Beam Wolfsman - Run & Rock
X-ALT-DESC;FMTTYPE=text/html:<p style=text-align: center\;>Vergesst al
 les\, was Ihr bisher gemacht habt! Jetzt gibt es den Wolfsman.</p>\n<p
  style=text-align: justify\;>Es gilt einen Parcours mit einer Länge vo
 n 10 Kilometern und etlichen Hindernissen zu bewältigen\, wobei das Ge
 lände\, die &#8218\;Wolfsschlucht&#8216\;\, an und für sich schon eine
  besondere Herausforderung ist. Dabei dürfen die &#8218\;Wölfe&#8216\;
  keine Scheu vor schlammigen Schuhen\, großen Erdhügeln\, kaltem Wasse
 r etc. haben.</p>\n<p style=text-align: justify\;>Jeder kämpft für sic
 h selbst oder tritt als 5er-Wolfsrudel gemeinsam an.</p>\n<p style=tex
 t-align: justify\;>Es ist ein Event\, der (Extrem)<strong>-Sport und F
 un</strong> vereint\, da der schwierige Parcours von <strong>JEDERMANN
  </strong>zu bewältigen ist. Es bedarf einer Ausdauer für einen 10 Kil
 ometer Querfeldeinlauf und der <strong>BEREITSCHAFT NIE AUFZUGEBEN. </
 strong></p>\n<p style=text-align: justify\;>Die Devise lautet: &#8218\
 ;<strong>DURCHHALTEN</strong>&#8218\;. Nur wer den Parcours vollständi
 g meistert\, darf sich als echter &#8218\;Wolfsman&#8216\; bezeichnen 
 und sich die wolfsharte Trophäe um den Hals hängen.</p>\n<p style=text
 -align: justify\;>Nach dem Run folgt gleich im Anschluss der Rock. Bei
  der Party können die Leistungen bis Mitternacht gefeiert werden.</p>\
 n<p style=text-align: justify\;>Nie war Erwachsensein schöner! Heul ha
 lt!</p>\n<p style=text-align: justify\;><strong>Teilnehmerbeitrag:</st
 rong></p>\n<ul>\n<li>für einen Wolf als Einzelstarter 39\,99 €</li>\n<
 li>für ein Wolfsrudel\, bestehend aus 5 Wölfen/Startern je Wolf/Starte
 r 36\,99 €<br>\n(5 Wölfe. Nicht mehr. Nicht weniger)</li>\n</ul>\n<p>i
 nkl. 19 % Mehrwertsteuer.</p>\n<p><span style=text-decoration: underli
 ne\;><strong>Ablauf:</strong></span></p>\n<ul>\n<li>12.00-15.00 Uhr Ab
 holung der Startunterlagen am Wolfsman Infocounter</li>\n<li><strong>1
 6.00 Uhr Start der Leitwölfe</strong></li>\n<li><strong>16.15 Uhr Star
 t der Wolfsrudel</strong></li>\n<li>19.30 Uhr Schließung des Parcours<
 /li>\n<li>20.00 Uhr  Siegerehrung im Rockzelt/Verlosung attraktiver Ge
 winne unter allen Startern</li>\n</ul>\n<p style=text-align: justify\;
 ><strong>Teilnehmerlimit:</strong></p>\n<ul>\n<li>Starterfeld mit 800 
 Wölfen</li>\n</ul>\n<p><span style=text-decoration: underline\;><stron
 g>Leistungen:</strong></span></p>\n<ul>\n<li>Die Startnummer</li>\n<li
 >Einen Leih-Transponder zur Zeitnahme</li>\n<li>Einen Voucher zum Depo
 nieren eines Gepäckstücks während des Laufs</li>\n<li>Getränke während
  des Laufs (Alkoholfreies Bier von Wolfshöher)</li>\n<li>Einen Starter
 beutel mit <strong>Give-Aways</strong> der Sponsoren</li>\n<li>Die Sta
 rtnummer gilt als Los für attraktive <strong>Gewinne </strong>von Spon
 soren</li>\n<li>Duschmöglichkeit für &#8218\;Warmduscher&#8216\; beim 
 Verein ASV Weinzierlein (nur ein paar Minuten zu Fuß vom Veranstaltung
 sgelände entfernt)</li>\n<li>Eine Urkunde zum kostenlosen download</li
 >\n<li>Ein Zieleinlaufvideo zum kostenlosen download</li>\n<li>Wolfsma
 n-Trophäe!<br>\nFür die tatsächlichen Finisher im Zielbereich gibt es 
 eine <strong>‚Wolfsman-Kette‘\; gefertigt aus hochwertigem Stahl\; ink
 l. schwarzem Lederband </strong>-mit der Möglichkeit\, den <strong>Wun
 schnamen </strong>kostenlos auf der Rückseite einlasern zu lassen.  Ge
 sponsert von Firma <a title=Öffnet externen Link in neuem Fenster href
 =http://www.indul.de/ target=_blank>INDUL</a></li>\n</ul>\n<p>Alle wei
 teren Info&#8217\;s udn Online Anmeldung direkt beim Veranstalter: <a 
 href=http://www.wolfsman.de/startseite.html target=_blank>Jeam Beam Wo
 lfsman &#8211\; Run &amp\; Rock</a></p>\n
URL:https://www.runningsocks.de/wordpress/terminkalender/eventsinglepa
 ge/?event_id=126&lang=de
ATTACH:https://www.runningsocks.de/wordpress/terminkalender/eventsingl
 epage/?event_id=126&lang=de
LOCATION:Sandgrube Zirndorf\, Rangaustraße 60\, Leichendorf
END:VEVENT
END:VCALENDAR
