BEGIN:VCALENDAR
VERSION:2.0
METHOD:PUBLISH
PRODID:-//hacksw/handcal//NONSGML v1.0//EN
BEGIN:VEVENT
DTSTAMP:20260419T165616Z
DTSTART:20120324T120000Z
DTEND:20120324T160000Z
UID:20120324T120000Z-20120324T160000Z-127@www.runningsocks.de
SUMMARY:12. Erlanger Winterwaldlauf
DESCRIPTION:Strecke:\n\nEbene Rundkurse durch Waldgebiet Brucker Lache
  auf gut belaufbaren Waldwegen mit km-Schildern\; Start und Ziel am Pf
 arrzentrum St. Marien\n\nStreckenlängen:\n\n5\,0 oder 10 km Walking bz
 w. Nordic Walking für Frauen und Männer ohne weitere Wertung - Sponsor
  SBK\n\n1\,0 km-Lauf für Kinder der Klassen U10 (Jahrgang 2003) und jü
 nger ohne Mannschaftswertungen\n- Sponsor John(ny) Stackmann\n\n1\,7 k
 m-Lauf für Kinder der Klassen M/W10 (Jahrgang 2002) bis U16 (Jahrgang 
 1997) ohne Mannschaftswertungen\n- Sponsor John(ny) Stackmann\n\n10\,0
  km-Lauf Einzel-5-Jahreswertung: Männer M20\, M30\, M35 u.s.w. bis M75
  und älter sowie männliche Jugend U20 und U18\; Frauen W20\, W30\, W35
  u.s.w. bis W70 und älter sowie weibliche Jugend U20 und U18\; 5er-Man
 nschaftswertungen gemeinsam für Männer und Frauen\; Einzel-Meisterscha
 ftswertung für Siemens-Mitarbeiter\, Siemens-Beteiligungen und Mitglie
 der von Siemens-Sportgemeinschaften - Sponsor Siemens AG\n\n2x 5 km St
 affellauf für Frauen\, Männer und gemischte (Mixed-) Staffeln\; ohne A
 ltersklassen-Wertung - Sponsor Eisert\n\n15\,0 km Lauf Einzel-5-Jahres
 wertung: Männer M20\, M30\, M35 u.s.w. bis M75 und älter sowie männlic
 he Jugend U20 und U18\; Frauen W20\, W30\, W35 u.s.w. bis W70 und älte
 r sowie weibliche Jugend U20 und U18\; 5er-Mannschaftswertungen gemein
 sam für Männer und Frauen - Sponsor Sparkasse Erlangen\nDer 15-km-Lauf
  wird als 2. Lauf des Bayern Lauf-Cup 2012 des BLV gewertet.\n\nStartz
 eiten:\n10:30 Uhr 5 km oder 10 km Walking bzw. Nordic Walking\;\n12:30
  Uhr 1\,7-km-Lauf für Schüler\;\n13:00 Uhr 10-km-Lauf und Staffeln mit
  Zielschluss 14:30 Uhr\;\n15:00 Uhr 15-km-Lauf mit Zielschluss 17:00 U
 hr\n\nStartgebühren:\n\nwerden eingezogen oder sind (auch für Anmeldun
 gen per Post) am 23.3. (Abholung bei Eisert) bzw. am 24.3. bis eine St
 unde vor dem Start mit 2 € Nachmeldegebühr zu bezahlen sofern das Teil
 nehmer-Limit noch nicht erreicht ist.\n\n	10km: 10 €\, Jugendliche 6 €
 \n	15Km: 12 € \, Jugendliche 6 €\n	2x 5 km: 14 €\n	Walking: 4 €\n	Kind
 er: 2 €\n\nNachmeldungen 2 €. Bei frühzeitiger Anmeldung bis 3. März w
 ird ein Bonus von 2 € gewährt (10 km-Lauf\, 2x 5km und 15 km-Lauf)!\n\
 nAktuelle Info's sowie Online anmeldung auf der Seite des Veranstalter
 s: SGS Leichtathletik\n\nTeilnehmerlimit: 1200\nMeldeschluß für Online
 anmeldung: 17.03.2012\n\n 
X-ALT-DESC;FMTTYPE=text/html:<p><span style=text-decoration: underline
 \;><strong>Strecke:</strong></span><br>\n<br>\nEbene Rundkurse durch W
 aldgebiet &#8222\;Brucker Lache&#8220\; auf gut belaufbaren Waldwegen 
 mit km-Schildern\; Start und Ziel am Pfarrzentrum St. Marien</p>\n<p><
 span style=text-decoration: underline\;><strong>Streckenlängen:</stron
 g></span></p>\n<p><strong>5\,0 oder 10 km</strong> Walking bzw. Nordic
  Walking für Frauen und Männer ohne weitere Wertung &#8211\; Sponsor S
 BK</p>\n<p><strong>1\,0 km-Lauf</strong> für Kinder der Klassen U10 (J
 ahrgang 2003) und jünger ohne Mannschaftswertungen<br>\n&#8211\; Spons
 or John(ny) Stackmann</p>\n<p><strong>1\,7 km-Lauf</strong> für Kinder
  der Klassen M/W10 (Jahrgang 2002) bis U16 (Jahrgang 1997) ohne Mannsc
 haftswertungen<br>\n&#8211\; Sponsor John(ny) Stackmann</p>\n<p><stron
 g>10\,0 km-Lauf</strong> Einzel-5-Jahreswertung: Männer M20\, M30\, M3
 5 u.s.w. bis M75 und älter sowie männliche Jugend U20 und U18\; Frauen
  W20\, W30\, W35 u.s.w. bis W70 und älter sowie weibliche Jugend U20 u
 nd U18\; 5er-Mannschaftswertungen gemeinsam für Männer und Frauen\; Ei
 nzel-Meisterschaftswertung für Siemens-Mitarbeiter\, Siemens-Beteiligu
 ngen und Mitglieder von Siemens-Sportgemeinschaften &#8211\; Sponsor S
 iemens AG</p>\n<p><strong>2x 5 km Staffellauf</strong> für Frauen\, Mä
 nner und gemischte (Mixed-) Staffeln\; ohne Altersklassen-Wertung &#82
 11\; Sponsor Eisert</p>\n<p>1<strong>5\,0 km Lauf</strong> Einzel-5-Ja
 hreswertung: Männer M20\, M30\, M35 u.s.w. bis M75 und älter sowie män
 nliche Jugend U20 und U18\; Frauen W20\, W30\, W35 u.s.w. bis W70 und 
 älter sowie weibliche Jugend U20 und U18\; 5er-Mannschaftswertungen ge
 meinsam für Männer und Frauen &#8211\; Sponsor Sparkasse Erlangen<br>\
 nDer 15-km-Lauf wird als 2. Lauf des <a href=http://www.winterwaldlauf
 .de/auswald.htm#blc>Bayern Lauf-Cup 2012 des BLV</a> gewertet.</p>\n<p
 ><span style=text-decoration: underline\;><strong>Startzeiten:</strong
 ></span><br>\n10:30 Uhr 5 km oder 10 km Walking bzw. Nordic Walking\;<
 br>\n12:30 Uhr 1\,7-km-Lauf für Schüler\;<br>\n13:00 Uhr 10-km-Lauf un
 d Staffeln mit Zielschluss 14:30 Uhr\;<br>\n15:00 Uhr 15-km-Lauf mit Z
 ielschluss 17:00 Uhr</p>\n<p><span style=text-decoration: underline\;>
 <strong>Startgebühren:</strong></span><br>\n<br>\nwerden eingezogen od
 er sind (auch für Anmeldungen per Post) am 23.3. (Abholung bei Eisert)
  bzw. am 24.3. bis eine Stunde vor dem Start mit 2 € Nachmeldegebühr z
 u bezahlen sofern das Teilnehmer-Limit noch nicht erreicht ist.</p>\n<
 ul>\n<li>10km: 10 €\, Jugendliche 6 €</li>\n<li>15Km: 12 € \, Jugendli
 che 6 €</li>\n<li>2x 5 km: 14 €</li>\n<li>Walking: 4 €</li>\n<li>Kinde
 r: 2 €</li>\n</ul>\n<p>Nachmeldungen 2 €. Bei frühzeitiger Anmeldung b
 is 3. März wird ein Bonus von 2 € gewährt (10 km-Lauf\, 2x 5km und 15 
 km-Lauf)!</p>\n<p><span style=font-size: small\;>Aktuelle Info&#8217\;
 s sowie Online anmeldung auf der Seite des Veranstalters: <a href=http
 ://www.winterwaldlauf.de/ target=_blank>SGS Leichtathletik</a></span><
 /p>\n<p><span style=font-size: small\;>Teilnehmerlimit: 1200<br>\nMeld
 eschluß für Onlineanmeldung: 17.03.2012</span><br>\n<br>\n&nbsp\;</p>\
 n<p><span style=font-family: Arial\; font-size: x-small\;><br>\n</span
 ></p>\n
URL:https://www.runningsocks.de/wordpress/terminkalender/eventsinglepa
 ge/?event_id=127&lang=de
ATTACH:https://www.runningsocks.de/wordpress/terminkalender/eventsingl
 epage/?event_id=127&lang=de
LOCATION:Grundschule an der Brucker Lache\, Zeißstraße 51\, Erlangen
END:VEVENT
END:VCALENDAR
