BEGIN:VCALENDAR
VERSION:2.0
METHOD:PUBLISH
PRODID:-//hacksw/handcal//NONSGML v1.0//EN
BEGIN:VEVENT
DTSTAMP:20260419T165232Z
DTSTART:20120715T080000Z
DTEND:20120715T110000Z
UID:20120715T080000Z-20120715T110000Z-128@www.runningsocks.de
SUMMARY:24. Bauzi's Birkensee Triathlon
DESCRIPTION:24. Bauzi's Birkensee Triathlon\nEndlich\, nach 2-jähriger
  Abstinenz findet heuer wieder der Birkensee Traithlon statt.\n400 m -
  20 km - 5 km\n\n\n	Schwimmen: Birkensee\n	Rad: 1x rund um den Moritzb
 erg (sh. Ausschreibung)\n	Laufen: Pendelstrecke\, Birkensee - Richtung
  Fuchsmühle und zurück\n\nStartgebühr: 25 €\n\nNachmeldegebühr: 5€\n\n
 Teilnehmerlimit: 300\n\nAnmeldeschluß: 01.07.2012\nAusschreibung:\n[wp
 filebase tag=file path='triathlon/bauzis-birkensee/_20120715/20120715_
 Ausschreibung_BirkenseeTriathlon.pdf' /]\nWeitere Info's und Anmeldung
  beim Veranstalter: Finish-Line\, Onlineanmeldung über SAS Zeitsysteme
X-ALT-DESC;FMTTYPE=text/html:<p style=text-align: center\;><strong>24.
  Bauzi&#8217\;s Birkensee Triathlon</strong></p>\n<p style=text-align:
  center\;>Endlich\, nach 2-jähriger Abstinenz findet heuer wieder der 
 Birkensee Traithlon statt.</p>\n<p style=text-align: justify\;>400 m &
 #8211\; 20 km &#8211\; 5 km</p>\n<ul>\n<li style=text-align: justify\;
 >Schwimmen: Birkensee</li>\n<li style=text-align: justify\;>Rad: 1x ru
 nd um den Moritzberg (sh. Ausschreibung)</li>\n<li style=text-align: j
 ustify\;>Laufen: Pendelstrecke\, Birkensee &#8211\; Richtung Fuchsmühl
 e und zurück</li>\n</ul>\n<p>Startgebühr: 25 €</p>\n<p>Nachmeldegebühr
 : 5€</p>\n<p>Teilnehmerlimit: 300</p>\n<p>Anmeldeschluß: 01.07.2012</p
 >\n<p style=text-align: justify\;>Ausschreibung:</p>\n<p style=text-al
 ign: justify\;>[wpfilebase tag=file path=&#8217\;triathlon/bauzis-birk
 ensee/_20120715/20120715_Ausschreibung_BirkenseeTriathlon.pdf&#8216\; 
 /]</p>\n<p style=text-align: justify\;>Weitere Info&#8217\;s und Anmel
 dung beim Veranstalter: <a href=http://www.finish-line.de/wettkaempfe-
 ausschreibungen.htm target=_blank>Finish-Line</a>\, Onlineanmeldung üb
 er <a href=https://www.sas-online.net/sas_voranmeldungen/voranmeldunge
 n.php?ID=105&amp\;start=1 target=_blank>SAS Zeitsysteme</a></p>\n
URL:https://www.runningsocks.de/wordpress/terminkalender/eventsinglepa
 ge/?event_id=128&lang=de
ATTACH:https://www.runningsocks.de/wordpress/terminkalender/eventsingl
 epage/?event_id=128&lang=de
LOCATION:Birkensee - Röthenbach\, Birkensee\, Röthenbach
END:VEVENT
END:VCALENDAR
