BEGIN:VCALENDAR
VERSION:2.0
METHOD:PUBLISH
PRODID:-//hacksw/handcal//NONSGML v1.0//EN
BEGIN:VEVENT
DTSTAMP:20260419T165530Z
DTSTART:20120325T073000Z
DTEND:20120325T100000Z
UID:20120325T073000Z-20120325T100000Z-129@www.runningsocks.de
SUMMARY:3. Run & Bike Nürnberg
DESCRIPTION:Auf geht's zum 3. Run & Bike am Tiergarten.\n\nZwei Läufer
  teilen sich ein Fahrrad. Dabei darf der Abstand zwischen dem Läufer u
 nd dem Radfahrer niemals mehr als 10 Meter betragen. Das “Paar” kann s
 ich beliebig jederzeit abwechseln.\n\nGestartet wird als gemeinsam um 
 10Uhr am Tiergarten Nürnberg. Jedes Team besteht aus zwei Teilnehmern.
  Anfangs absolviert jeder Teilnehmer eine 400 Meter lange Laufstrecke 
 und schlägt anschließend seinen Teamkameraden ab der dann dieselbe Str
 ecke läuft. Sobald der zweite (eine Bitte an alle Frauen\, fühlt euch 
 nicht vernachlässigt wenn wir jetzt mal nur die männliche Anrede benut
 zen) wieder da ist\, wartet sein Partner schon auf dem Mountain- oder 
 Crossbike auf ihn. Gemeinsam legen beide dann los und begeben sich auf
  die Rennstrecke. Dabei geht es zu zweit auf Wanderwegen und kleineren
  Pfaden durch den Wald.\n\nJedes Team darf nur ein Rad benutzen\, d.h.
  dass jeweils einer läuft während der andere sich auf dem Rad erholt u
 nd nebenher fährt. Beide dürfen nur maximal 10 Meter entfernt voneinan
 der sein. Die Sache hat natürlich noch einen Haken! Am schnellsten abs
 olviert man den Parkours nämlich indem sich beide mit dem Laufen abwec
 hseln.\n\nDie Teams absolvieren dabei zwei Runden (17km) auf der norma
 len Distanz und auf der Schnupperdistanz für Anfänger nur eine Runde (
 8\,5km). Gleichzeitig gibt es auch noch mixed Staffeln und reine Fraue
 n-Staffeln\, wenn ihr also zusammen mit eurer Freundin oder Freund an 
 den Start gehen wollt\, kein Problem.\n\nBei allen Wettkampf steht nat
 ürlich zuallererst der Spaß im Vordergrund und die schöne Zeit die wir
  spätestens nach Zieleinlauf alle haben werden \;) Der Wettkampf an si
 ch stellt den Teamgedanken in den Vordergrund\, der leider viel zu oft
  bei anderen Triathlon- und Ausdauerevents zu kurz kommt!\n\nAm Ende g
 ibt es noch ein Verleihung mit (wir arbeiten daran) Preisen für jeden 
 Teilnehmer\, außerdem natürlich ein leckeres Kuchenbuffet!\n\nWeitere 
 Infos und Anmeldung beim Veranstalter: www.fun-race.org
X-ALT-DESC;FMTTYPE=text/html:<p>Auf geht&#8217\;s zum 3. Run &amp\; Bi
 ke am Tiergarten.</p>\n<p>Zwei Läufer teilen sich ein Fahrrad. Dabei d
 arf der Abstand zwischen dem Läufer und dem Radfahrer niemals mehr als
  10 Meter betragen. Das “Paar” kann sich beliebig jederzeit abwechseln
 .</p>\n<p>Gestartet wird als gemeinsam um 10Uhr am Tiergarten Nürnberg
 . Jedes Team besteht aus zwei Teilnehmern. Anfangs absolviert jeder Te
 ilnehmer eine 400 Meter lange Laufstrecke und schlägt anschließend sei
 nen Teamkameraden ab der dann dieselbe Strecke läuft. Sobald der zweit
 e (eine Bitte an alle Frauen\, fühlt euch nicht vernachlässigt wenn wi
 r jetzt mal nur die männliche Anrede benutzen) wieder da ist\, wartet 
 sein Partner schon auf dem Mountain- oder Crossbike auf ihn. Gemeinsam
  legen beide dann los und begeben sich auf die Rennstrecke. Dabei geht
  es zu zweit auf Wanderwegen und kleineren Pfaden durch den Wald.</p>\
 n<p>Jedes Team darf nur ein Rad benutzen\, d.h. dass jeweils einer läu
 ft während der andere sich auf dem Rad erholt und nebenher fährt. Beid
 e dürfen nur maximal 10 Meter entfernt voneinander sein. Die Sache hat
  natürlich noch einen Haken! Am schnellsten absolviert man den Parkour
 s nämlich indem sich beide mit dem Laufen abwechseln.</p>\n<p>Die Team
 s absolvieren dabei zwei Runden (17km) auf der normalen Distanz und au
 f der Schnupperdistanz für Anfänger nur eine Runde (8\,5km). Gleichzei
 tig gibt es auch noch mixed Staffeln und reine Frauen-Staffeln\, wenn 
 ihr also zusammen mit eurer Freundin oder Freund an den Start gehen wo
 llt\, kein Problem.</p>\n<p>Bei allen Wettkampf steht natürlich zualle
 rerst der Spaß im Vordergrund und die schöne Zeit die wir spätestens n
 ach Zieleinlauf alle haben werden \;) Der Wettkampf an sich stellt den
  Teamgedanken in den Vordergrund\, der leider viel zu oft bei anderen 
 Triathlon- und Ausdauerevents zu kurz kommt!</p>\n<p>Am Ende gibt es n
 och ein Verleihung mit (wir arbeiten daran) Preisen für jeden Teilnehm
 er\, außerdem natürlich ein leckeres Kuchenbuffet!</p>\n<p>Weitere Inf
 os und Anmeldung beim Veranstalter: <a href=http://www.fun-race.org/te
 rmine-ausschreibungen/ target=_blank>www.fun-race.org</a></p>\n
URL:https://www.runningsocks.de/wordpress/terminkalender/eventsinglepa
 ge/?event_id=129&lang=de
ATTACH:https://www.runningsocks.de/wordpress/terminkalender/eventsingl
 epage/?event_id=129&lang=de
LOCATION:Tiergarten\, am Tiergarten 30\, Nürnberg
END:VEVENT
END:VCALENDAR
