BEGIN:VCALENDAR
VERSION:2.0
METHOD:PUBLISH
PRODID:-//hacksw/handcal//NONSGML v1.0//EN
BEGIN:VEVENT
DTSTAMP:20260419T165349Z
DTSTART:20100327T113000Z
DTEND:20100327T150000Z
UID:20100327T113000Z-20100327T150000Z-13@www.runningsocks.de
SUMMARY:7. Stadtwaldlauf Fürth
DESCRIPTION:Schülerläufe:\n\n\n	Lauf 1 (Jahrgänge 2001 und jünger)\, 1
 \,5 Km Start: 12.45 Uhr\n	Lauf 2 (Jahrgänge 1999 und 2000)\, 1\,5 Km S
 tart: 13.00 Uhr\n	Lauf 3 (Jahrgänge 1995 - 98)\, 3\,0 Km Start: 13.20 
 Uhr\n\nHalbmarathon:\n\n\n	21\,1 Km Start: 12.30 Uhr\, Männer\, Frauen
  und Senioren (Altersklassenwertung nach DLV)\n\nStadtwaldlauf:\n\n\n	
 10 Km Start: 15.00 Uhr\, Männer\, Frauen\, Jugend A + B und Senioren (
 Altersklassenwertung nach DLV)\n\nAusschreibung: Stadtwaldlauf_2010\nW
 eitere Info's und Online Anmeldung auf der Seite des Veranstalters: ww
 w.lac-quelle.de
X-ALT-DESC;FMTTYPE=text/html:<p style=text-align: justify\;>Schülerläu
 fe:</p>\n<ul>\n<li style=text-align: left\;>Lauf 1 (Jahrgänge 2001 und
  jünger)\, 1\,5 Km Start: 12.45 Uhr</li>\n<li style=text-align: left\;
 >Lauf 2 (Jahrgänge 1999 und 2000)\, 1\,5 Km Start: 13.00 Uhr</li>\n<li
  style=text-align: left\;>Lauf 3 (Jahrgänge 1995 &#8211\; 98)\, 3\,0 K
 m Start: 13.20 Uhr</li>\n</ul>\n<p style=text-align: left\;>Halbmarath
 on:</p>\n<ul style=text-align: left\;>\n<li>21\,1 Km Start: 12.30 Uhr\
 , Männer\, Frauen und Senioren (Altersklassenwertung nach DLV)</li>\n<
 /ul>\n<p style=text-align: left\;>Stadtwaldlauf:</p>\n<ul>\n<li style=
 text-align: left\;>10 Km Start: 15.00 Uhr\, Männer\, Frauen\, Jugend A
  + B und Senioren (Altersklassenwertung nach DLV)</li>\n</ul>\n<p styl
 e=text-align: left\;>Ausschreibung: <a href=https://www.runningsocks.d
 e/wordpress/wp-content/uploads/2010/03/waldlaufausschreibung_2010.pdf>
 Stadtwaldlauf_2010</a></p>\n<p style=text-align: left\;>Weitere Info&#
 8217\;s und Online Anmeldung auf der Seite des Veranstalters: <a href=
 http://www.lac-quelle.de/index.php?option=com_content&amp\;task=view&a
 mp\;id=22&amp\;Itemid=33 target=_blank>www.lac-quelle.de</a></p>\n
URL:https://www.runningsocks.de/wordpress/terminkalender/eventsinglepa
 ge/?event_id=13&lang=de
ATTACH:https://www.runningsocks.de/wordpress/terminkalender/eventsingl
 epage/?event_id=13&lang=de
LOCATION:TV Fürth 1860 e.V\, Coubertinstraße 2\, Fürth\,
END:VEVENT
END:VCALENDAR
