BEGIN:VCALENDAR
VERSION:2.0
METHOD:PUBLISH
PRODID:-//hacksw/handcal//NONSGML v1.0//EN
BEGIN:VEVENT
DTSTAMP:20260419T165616Z
DTSTART:20120620T160000Z
DTEND:20120620T180000Z
UID:20120620T160000Z-20120620T180000Z-130@www.runningsocks.de
SUMMARY:9. FunRun Südwest
DESCRIPTION:Nicht zu lang und nicht zu kurz!\n9\,9 km Streckenlänge – 
 für Wenigläufer eine gut schaffbare Herausforderung\, für Vielläufer e
 in willkommenes Training. Umso mehr bei dem reizvollen Streckenverlauf
  über Asphalt\, Schotter- und Feldwege.\nLos geht’s vom Südwestpark au
 s Richtung Gebersdorf. Im Wiesengrund führt die Strecke immer der Redn
 itz entlang gen Fürth. Nach einer Kehrtwende heißt es dann an den grün
 en Uferzonen neben dem Rhein-Main-Donau-Kanal: Endspurt zurück bis zum
  Südwestpark!\nFür ausreichend Verpflegungsposten entlang der Strecke 
 ist selbstverständlich gesorgt.\n\nDie wichtigsten Fakten:\n\n	Termin:
  20. Juni 2012\n	Start/Ziel: im Südwestpark\n	Strecke Läufer/Nordic Wa
 lker:\n9\,9 km (über Gebersdorf die Rednitz entlang Richtung Fürth\, a
 m Ufer des Main-Donau-Kanals zurück zum Südwestpark)\n	Strecke Kinder 
 (4 bis 6 Jahre):\neine Runde durch den Südwestpark\n	Strecke Schüler (
 7 bis 14 Jahre):\neine Runde durch den Südwestpark\n\nAlle Startzeiten
 :\n\n	ab 15:00 Uhr: Nachmeldung und Abholung der Starterunterlagen im 
 Start-/Zielbereich\n	18.00 Uhr: Start auf dem Kurs für Kids\n	18.15 Uh
 r: Start Schülerlauf\n	18.30 Uhr: Start Fun Runner & Walker\n	20:30 Uh
 r: Zieleinlauf\n	20:30 Uhr: Siegerehrung\n\nIn der Startgebühr inbegri
 ffen:\n\n	hochwertiges Funktionsshirt (solange Vorrat reicht)\n	Transp
 onder-Zeitmessung\n	Dusch- und Umkleidemöglichkeiten\n	Verpflegungspos
 ten auf der Strecke\n	Urkunde (als Online-Ausdruck)\n	Parkplätze in de
 n Parkhäusern\n\nAnmeldungen und Startgebühren:\n\n\n\n\n\nFrühbucherp
 reis (bis 30.04.)\n\nNormaler Preis\n\n\n\n\nEinzelläufer Erwachsen\n1
 0 €\n12 €\n\n\nGruppe Erwachsen\n8 €\n10 €\n\n\nEinzelläufer/Gruppe Ki
 nd/Schüler\nkostenlos\n4 €\n\n\n\n\n\nAnmeldung vor Ort\nam 20. Juni 2
 012 ab 15 Uhr\n\n\nONLINE-Anmeldeschluss\nist Sonntag\, der 10.06.2012
 .\n\nWeitere Info's beim Veranstalter: SÜD-WEST-PARK Management GmbH s
 owie Online Anmeldungen\n\nAlle Info's ©FunRun Südwest\n\n\n\nInformat
 ion zur Anmeldung für alle SUN LäuferInnen:\nDie Gruppenanmeldung wird
 /kann wieder durch mich (Frank H.W. ) durchgeführt. Wer sich für diese
 n Lauf interessiert und anmelden möchte bitte folgendermaßen vorgehen:
 \n\nIn das Feld Name bitte Vorname und Nachname eintragen.\n\nIn das F
 eld E-Mail die priv. oder geschäftl. Emailadresse eingeben.\n\nIn das 
 Feld Phone Number die priv. oder geschäftl. Telefonnummer eingeben.\n\
 nBei Seats immer nur 1 auswählen.\n\nIn das Feld Comment die Daten für
 :\n\n	Geschlecht\,(M/W)\n	Jahrgang (19xx)\n	T-Shirt Größe (XXS - XL)\n
 \nin verständlicher Form eingeben. \n\nBevor man den Button Teilnahmea
 nfrage absenden klickt\, den angezeigten Code in das Feld eintragen.\n
 \nDas war's. Nach einigen Augenblicken taucht euer Name unter bisher g
 emeldet auf. Die weiteren Daten sind nur für mich sichtbar. Diese werd
 e für die Gruppenanmeldung auf der Homepage des Veranstalters benötigt
 . Anmeldeschluß auf dieser Seite ist ebenfalls der 10.06.2012.
X-ALT-DESC;FMTTYPE=text/html:<h2>Nicht zu lang und nicht zu kurz!</h2>
 \n<p style=text-align: justify\;>9\,9 km Streckenlänge – für Wenigläuf
 er eine gut schaffbare Herausforderung\, für Vielläufer ein willkommen
 es Training. Umso mehr bei dem reizvollen Streckenverlauf über Asphalt
 \, Schotter- und Feldwege.<br>\nLos geht’s vom Südwestpark aus Richtun
 g Gebersdorf. Im Wiesengrund führt die Strecke immer der Rednitz entla
 ng gen Fürth. Nach einer Kehrtwende heißt es dann an den grünen Uferzo
 nen neben dem Rhein-Main-Donau-Kanal: Endspurt zurück bis zum Südwestp
 ark!</p>\n<p>Für ausreichend Verpflegungsposten entlang der Strecke is
 t selbstverständlich gesorgt.<br>\n<strong></strong></p>\n<h3><strong>
 Die wichtigsten Fakten:</strong></h3>\n<ul>\n<li><strong>Termin:</stro
 ng> 20. Juni 2012</li>\n<li><strong>Start/Ziel:</strong> im Südwestpar
 k</li>\n<li><strong>Strecke Läufer/Nordic Walker:</strong><br>\n9\,9 k
 m (über Gebersdorf die Rednitz entlang Richtung Fürth\, am Ufer des Ma
 in-Donau-Kanals zurück zum Südwestpark)</li>\n<li><strong>Strecke Kind
 er (4 bis 6 Jahre):</strong><br>\neine Runde durch den Südwestpark</li
 >\n<li><strong>Strecke Schüler (7 bis 14 Jahre):</strong><br>\neine Ru
 nde durch den Südwestpark</li>\n</ul>\n<h3>Alle Startzeiten:</h3>\n<ul
 >\n<li>ab 15:00 Uhr: Nachmeldung und Abholung der Starterunterlagen im
  Start-/Zielbereich</li>\n<li>18.00 Uhr: Start auf dem Kurs für Kids</
 li>\n<li>18.15 Uhr: Start Schülerlauf</li>\n<li>18.30 Uhr: Start Fun R
 unner &amp\; Walker</li>\n<li>20:30 Uhr: Zieleinlauf</li>\n<li>20:30 U
 hr: Siegerehrung</li>\n</ul>\n<h3 id=c47><strong>In der Startgebühr in
 begriffen:</strong></h3>\n<ul>\n<li>hochwertiges Funktionsshirt (solan
 ge Vorrat reicht)</li>\n<li>Transponder-Zeitmessung</li>\n<li>Dusch- u
 nd Umkleidemöglichkeiten</li>\n<li>Verpflegungsposten auf der Strecke<
 /li>\n<li>Urkunde (als Online-Ausdruck)</li>\n<li>Parkplätze in den Pa
 rkhäusern</li>\n</ul>\n<h3>Anmeldungen und Startgebühren:</h3>\n<table
 >\n<thead>\n<tr><th scope=col rowspan=1 colspan=1></th>\n<th scope=col
  rowspan=1 colspan=1><strong><br>\nFrühbucherpreis (bis 30.04.)</stron
 g></th>\n<th scope=col rowspan=1 colspan=1><strong><br>\nNormaler Prei
 s</strong></th></tr>\n</thead>\n<tbody>\n<tr><td><strong>Einzelläufer 
 Erwachsen</strong></td>\n<td>10 €</td>\n<td>12 €</td></tr>\n<tr><td><s
 trong>Gruppe Erwachsen</strong></td>\n<td>8 €</td>\n<td>10 €</td></tr>
 \n<tr><td><strong>Einzelläufer/Gruppe Kind/Schüler</strong></td>\n<td>
 kostenlos</td>\n<td>4 €</td></tr>\n</tbody>\n</table>\n<div id=c110>\n
 <p><strong>Anmeldung vor Ort</strong><br>\nam 20. Juni 2012 ab 15 Uhr<
 /p>\n</div>\n<p><strong>ONLINE-Anmeldeschluss</strong><br>\nist Sonnta
 g\, der 10.06.2012.</p>\n<p>Weitere Info&#8217\;s beim Veranstalter: <
 a href=http://www.funrunsuedwest.de/ target=_blank>SÜD-WEST-PARK Manag
 ement GmbH</a> sowie Online <a href=http://www.funrunsuedwest.de/anmel
 dung.html target=_blank>Anmeldungen</a></p>\n<p>Alle Info&#8217\;s <a 
 href=http://www.funrunsuedwest.de/ target=_blank>©FunRun Südwest</a></
 p>\n<hr style=height: 1px\; width: 640px\; size=1 />\n<h3><span style=
 text-decoration: underline\;><strong>Information zur Anmeldung für all
 e SUN LäuferInnen:</strong></span></h3>\n<p>Die Gruppenanmeldung wird/
 kann wieder durch mich (Frank H.W. ) durchgeführt. Wer sich für diesen
  Lauf interessiert und anmelden möchte bitte folgendermaßen vorgehen:<
 /p>\n<p>In das Feld <em>Name</em> bitte <strong>Vorname und Nachname</
 strong> eintragen.</p>\n<p>In das Feld <em>E-Mail</em> die <span style
 =text-decoration: underline\;><strong>priv. oder geschäftl. Emailadres
 se</strong></span> eingeben.</p>\n<p>In das Feld <em>Phone Number</em>
  die <strong>priv. oder geschäftl. Telefonnummer</strong> eingeben<str
 ong>.</strong><br>\n<br>\nBei <em>Seats </em>immer nur <strong>1</stro
 ng> auswählen<strong>.</strong><br>\n<br>\nIn das Feld Comment die Dat
 en für:</p>\n<ul>\n<li>Geschlecht\,(<strong>M/W</strong>)</li>\n<li>Ja
 hrgang (<strong>19xx</strong>)</li>\n<li>T-Shirt Größe (<strong>XXS &#
 8211\; XL</strong>)</li>\n</ul>\n<p>in verständlicher Form eingeben.<s
 trong> </strong><br>\n<br>\nBevor man den Button &#8222\;<strong>Teiln
 ahmeanfrage absenden</strong>&#8220\; klickt<strong>\, </strong>den an
 gezeigten <strong>Code </strong>in das Feld eintragen<strong>.</strong
 ><br>\n<br>\nDas war&#8217\;s. Nach einigen Augenblicken taucht euer N
 ame unter &#8222\;<strong>bisher gemeldet</strong>&#8220\; auf. Die we
 iteren Daten sind nur für mich sichtbar. Diese werde für die Gruppenan
 meldung auf der Homepage des Veranstalters benötigt. Anmeldeschluß auf
  dieser Seite ist ebenfalls der 10.06.2012.</p>\n
URL:https://www.runningsocks.de/wordpress/terminkalender/eventsinglepa
 ge/?event_id=130&lang=de
ATTACH:https://www.runningsocks.de/wordpress/terminkalender/eventsingl
 epage/?event_id=130&lang=de
LOCATION:Südwestpark\, Südwestpark 41\, Nürnberg
END:VEVENT
END:VCALENDAR
