BEGIN:VCALENDAR
VERSION:2.0
METHOD:PUBLISH
PRODID:-//hacksw/handcal//NONSGML v1.0//EN
BEGIN:VEVENT
DTSTAMP:20260419T165351Z
DTSTART:20120325T080000Z
DTEND:20120325T100000Z
UID:20120325T080000Z-20120325T100000Z-131@www.runningsocks.de
SUMMARY:11. Pühlheimer Frühlingslauf
DESCRIPTION:Start: \n\n\n	10:00 Uhr    Läufer/Walker / Nordic Walker\n
 \nStrecken:\n\n\n	5\,96 Km mit langer Steigung\n	12\,65 Km (nur für ge
 übte Läufer\, stärkere Steigung)\n\nStartgeld: \n\n	Erwachsene: 7\,00 
 €\n	Jugendliche ab 14J: 3\,00 €\n	Kinder bis 13J: 0 €\n\nAnmeldeschluß
 : \n\n	23.03.2012\n	Nachmeldungen am 25.03.2012: 2\,00 €\n\nPreise: \n
 \n	Jeder Läufer bekommt eine Urkunde\n	.. und die „Besten einen Sachpr
 eis\n\nWeitere Infos und Online Anmeldung auf der Seite des Veranstalt
 ers: Lauftreff Altdorf
X-ALT-DESC;FMTTYPE=text/html:<p style=text-align: justify\;><strong>St
 art: </strong></p>\n<ul>\n<li style=text-align: left\;>10:00 Uhr    Lä
 ufer/Walker / Nordic Walker</li>\n</ul>\n<p style=text-align: justify\
 ;><strong>Strecken:</strong></p>\n<ul>\n<li style=text-align: left\;>5
 \,96 Km mit langer Steigung</li>\n<li style=text-align: left\;>12\,65 
 Km (nur für geübte Läufer\, stärkere Steigung)</li>\n</ul>\n<p><strong
 >Startgeld: </strong></p>\n<ul>\n<li>Erwachsene: 7\,00 €</li>\n<li>Jug
 endliche ab 14J: 3\,00 €</li>\n<li>Kinder bis 13J: 0 €</li>\n</ul>\n<p
 ><strong>Anmeldeschluß: </strong></p>\n<ul>\n<li>23.03.2012</li>\n<li>
 Nachmeldungen am 25.03.2012: 2\,00 €</li>\n</ul>\n<p><strong>Preise: <
 /strong></p>\n<ul>\n<li>Jeder Läufer bekommt eine Urkunde</li>\n<li>..
  und die „Besten&#8220\; einen Sachpreis</li>\n</ul>\n<p style=text-al
 ign: left\;>Weitere Infos und <a href=http://my1.raceresult.com/detail
 s/index.php?page=2&amp\;eventid=8949&amp\;lang=de target=_blank>Online
  Anmeldung</a> auf der Seite des Veranstalters: <a href=http://www.man
 fred-hajek.de/Lauftreff/Puehlheim/puehlheim.htm target=_blank>Lauftref
 f Altdorf</a></p>\n
URL:https://www.runningsocks.de/wordpress/terminkalender/eventsinglepa
 ge/?event_id=131&lang=de
ATTACH:https://www.runningsocks.de/wordpress/terminkalender/eventsingl
 epage/?event_id=131&lang=de
LOCATION:Feuerwehrhaus\, Pühlheim\, Pühlheim\, Pühlheim
END:VEVENT
END:VCALENDAR
