BEGIN:VCALENDAR
VERSION:2.0
METHOD:PUBLISH
PRODID:-//hacksw/handcal//NONSGML v1.0//EN
BEGIN:VEVENT
DTSTAMP:20260419T165351Z
DTSTART:20120701T060000Z
DTEND:20120701T083000Z
UID:20120701T060000Z-20120701T083000Z-132@www.runningsocks.de
SUMMARY:25. Wallenstein-Halbmarathon
DESCRIPTION:Es ist wieder soweit -der 25. Wallenstein-Halbmarathon sow
 ie der 12 km-Lauf stehen an!\nJubiläums-Wallenstein-Halbmarathon des T
 V 1881 Altdorf\nFreuen Sie sich auf einen spannenden und anspruchsvoll
 en Halbmarathon. Die hügelige Strecke\, teilweise über Feld- und Waldw
 ege\, ist für Läufer eine wahre Herausforderung. Für die Einsteiger gi
 bt es einen 12 km Lauf\, der vor dem hügeligen Streckenteil (in Schlei
 fmühle) wieder zurück nach Altdorf führt.\n\nStart und Ziel:\n\n	Haupt
 schule Altdorf\, Schulstrasse\, 90518 Altdorf\n\nLäufe:\n\n	Halbmarath
 on\, ca. 21200 m\n	12 km - Lauf\, ca. 12400 m\n\nPreise:\n\n	Jeweils d
 ie Sieger bei den Damen und den Herren erhalten bei der Siegerehrung e
 inen Pokal\; Medaillen gibt es für die Altersklassenbesten und die sch
 nellste Damen- und Herrenmannschaft jedes Laufes.\n\nStart\,- Nachmeld
 egebühr\nHalbmarathon:\n\n\n\n	Die Frühbuchergebühr bis 31.04.2012 bet
 rägt 16 €.\n	Vom 01.05. bis zum 24.06.2012 kostet die Anmeldung 20 €.\
 n	Letzte Nachmeldungen sind nur am 30.06. von 15:00 Uhr bis 17:00 Uhr 
 bzw. am Starttag von 06:30 Uhr bis 07:30 Uhr an der Hauptschule möglic
 h. Die Nachmeldegebühr beträgt 25 €.\n\n\n 12 km - Lauf:\n\n\n\n	Die F
 rühbuchergebühr bis 31.04.2012 beträgt 14 €.\n	Vom 01.05. bis zum 24.0
 6.2012 kostet die Anmeldung 18 €.\n	Letzte Nachmeldungen sind nur am 3
 0.06. von 15:00 Uhr bis 17:00 Uhr bzw. am Starttag von 06:30 Uhr bis 0
 7:30 Uhr an der Hauptschule möglich. Die Nachmeldegebühr beträgt 23 €!
 \n\n\n Für Anmeldungen per Fax oder Post erheben wir 1 € Zuschlag.\nSt
 artnummernausgabe:\n\n	Samstag 30.06.2012: 15:00 - 17:00 Uhr\n	Sonntag
  01.07.2012: 06:30 - 07:30 Uhr (bitte Sicherheitsnadeln selbst mitbrin
 gen)\n\nStart:\n\n	08:00 Uhr\n\nZielschluss:\n\n	10:30 Uhr\; Der Veran
 stalter behält sich vor\, langsamere Teilnehmer aus dem Rennen zu nehm
 en\n\n \n\nAlle weiteren aktuellen Informationen sowie Online Anmeldun
 g unter: Wallenstein Halbmarathon\n\n 
X-ALT-DESC;FMTTYPE=text/html:<p style=text-align: center\;><strong>Es 
 ist wieder soweit -der 25. Wallenstein-Halbmarathon sowie der 12 km-La
 uf stehen an!</strong></p>\n<p style=text-align: center\;><span style=
 font-family: Verdana\; font-size: small\;><strong>Jubiläums-Wallenstei
 n-Halbmarathon des TV 1881 Altdorf</strong></span></p>\n<p>Freuen Sie 
 sich auf einen spannenden und anspruchsvollen Halbmarathon. Die hügeli
 ge Strecke\, teilweise über Feld- und Waldwege\, ist für Läufer eine w
 ahre Herausforderung. Für die Einsteiger gibt es einen 12 km Lauf\, de
 r vor dem hügeligen Streckenteil (in Schleifmühle) wieder zurück nach 
 Altdorf führt.</p>\n<p><span style=text-decoration: underline\;><stron
 g>Start und Ziel:</strong></span></p>\n<ul>\n<li>Hauptschule Altdorf\,
  Schulstrasse\, 90518 Altdorf</li>\n</ul>\n<p><span style=text-decorat
 ion: underline\;><strong>Läufe:</strong></span></p>\n<ul>\n<li>Halbmar
 athon\, ca. 21200 m</li>\n<li>12 km &#8211\; Lauf\, ca. 12400 m</li>\n
 </ul>\n<p><span style=text-decoration: underline\;><strong>Preise:</st
 rong></span></p>\n<ul>\n<li>Jeweils die Sieger bei den Damen und den H
 erren erhalten bei der Siegerehrung einen Pokal\; Medaillen gibt es fü
 r die Altersklassenbesten und die schnellste Damen- und Herrenmannscha
 ft jedes Laufes.</li>\n</ul>\n<p><span style=text-decoration: underlin
 e\;><strong>Start\,- Nachmeldegebühr</strong></span></p>\n<p style=pad
 ding-left: 60px\; align=left><span style=text-decoration: underline\;>
 Halbmarathon:</span></p>\n<blockquote>\n<ul>\n<li>Die Frühbuchergebühr
  bis 31.04.2012 beträgt 16 €.</li>\n<li>Vom 01.05. bis zum 24.06.2012 
 kostet die Anmeldung 20 €.</li>\n<li>Letzte Nachmeldungen sind nur am 
 30.06. von 15:00 Uhr bis 17:00 Uhr bzw. am Starttag von 06:30 Uhr bis 
 07:30 Uhr an der Hauptschule möglich. Die Nachmeldegebühr beträgt 25 €
 .</li>\n</ul>\n</blockquote>\n<p style=padding-left: 60px\; align=left
 > <span style=text-decoration: underline\;>12 km &#8211\; Lauf:</span>
 </p>\n<blockquote>\n<ul>\n<li>Die Frühbuchergebühr bis 31.04.2012 betr
 ägt 14 €.</li>\n<li>Vom 01.05. bis zum 24.06.2012 kostet die Anmeldung
  18 €.</li>\n<li>Letzte Nachmeldungen sind nur am 30.06. von 15:00 Uhr
  bis 17:00 Uhr bzw. am Starttag von 06:30 Uhr bis 07:30 Uhr an der Hau
 ptschule möglich. Die Nachmeldegebühr beträgt 23 €!</li>\n</ul>\n</blo
 ckquote>\n<p style=padding-left: 60px\; align=left> <strong>Für Anmeld
 ungen per Fax oder Post erheben wir 1 € Zuschlag.</strong></p>\n<p><sp
 an style=text-decoration: underline\;><strong>Startnummernausgabe:</st
 rong></span></p>\n<ul>\n<li>Samstag 30.06.2012: 15:00 &#8211\; 17:00 U
 hr</li>\n<li>Sonntag 01.07.2012: 06:30 &#8211\; 07:30 Uhr (bitte Siche
 rheitsnadeln selbst mitbringen)</li>\n</ul>\n<p><span style=text-decor
 ation: underline\;><strong>Start:</strong></span></p>\n<ul>\n<li>08:00
  Uhr</li>\n</ul>\n<p><span style=text-decoration: underline\;><strong>
 Zielschluss</strong></span>:</p>\n<ul>\n<li>10:30 Uhr\; Der Veranstalt
 er behält sich vor\, langsamere Teilnehmer aus dem Rennen zu nehmen</l
 i>\n</ul>\n<p>&nbsp\;</p>\n<p>Alle weiteren aktuellen Informationen so
 wie Online Anmeldung unter: <strong><a href=http://www.wallenstein-hal
 bmarathon.com/index.htm>Wallenstein Halbmarathon</a></strong></p>\n<p 
 style=text-align: left\;>\n<p>&nbsp\;</p>\n
URL:https://www.runningsocks.de/wordpress/terminkalender/eventsinglepa
 ge/?event_id=132&lang=de
ATTACH:https://www.runningsocks.de/wordpress/terminkalender/eventsingl
 epage/?event_id=132&lang=de
LOCATION:Hauptschule Altdorf\, Schulstrasse 6\, Altdorf
END:VEVENT
END:VCALENDAR
