BEGIN:VCALENDAR
VERSION:2.0
METHOD:PUBLISH
PRODID:-//hacksw/handcal//NONSGML v1.0//EN
BEGIN:VEVENT
DTSTAMP:20260419T165734Z
DTSTART:20120501T080000Z
DTEND:20120501T110000Z
UID:20120501T080000Z-20120501T110000Z-133@www.runningsocks.de
SUMMARY:5. Moritzberglauf
DESCRIPTION:Der Moritzberglauf ist die Herausforderung für Läufer( inn
 en) der 10-km-Distanz und findet traditionell am 1. Mai statt. Zwische
  Start und Ziel sind 363 Höhenmeter zu überwinden. Details sh. Ausschr
 eibung.\n\nAusschreibung:\n\n[wpfilebase tag=file path='lauf/moritzber
 lauf/_20120501/20120501_Moritzberglauf_Ausschreibung.pdf' /]\n\nStart:
  \n\nAn der Tennishalle Süd\, 10:00\n\nZiel:\n\nMoritzberg\n\nDistanz:
 \n\n10Km\, Berglauf\, 363HM\n\nWeitere Info's und Online-Anmeldung bei
 m Veranstalter: Skiclub Lauf\n\nHistorie:\n\nZur Geschichte des Moritz
 berglaufes. Entstehung des Moritzberglaufes (Quelle: www.skiclub-lauf.
 de)\nDer Moritzberg bei Wikipedia. Der Berggasthof auf dem Moritzberg.
X-ALT-DESC;FMTTYPE=text/html:<p>Der Moritzberglauf ist die Herausforde
 rung für Läufer( innen) der 10-km-Distanz und findet traditionell am 1
 . Mai statt. Zwische Start und Ziel sind 363 Höhenmeter zu überwinden.
  Details sh. Ausschreibung.</p>\n<p><strong>Ausschreibung:</strong><br
 >\n<br>\n[wpfilebase tag=file path=&#8217\;lauf/moritzberlauf/_2012050
 1/20120501_Moritzberglauf_Ausschreibung.pdf&#8216\; /]</p>\n<p><strong
 >Start: </strong><br>\n<br>\nAn der &#8222\;Tennishalle Süd&#8220\;\, 
 10:00</p>\n<p><strong>Ziel:</strong><br>\n<br>\nMoritzberg</p>\n<p><st
 rong>Distanz:</strong><br>\n<br>\n10Km\, Berglauf\, 363HM</p>\n<p>Weit
 ere Info&#8217\;s und <a href=http://www.skiclub-lauf.de/anmeldung2012
 .html target=_blank>Online-Anmeldung</a> beim Veranstalter: <a href=ht
 tp://www.skiclub-lauf.de/derham.html target=_blank>Skiclub Lauf</a></p
 >\n<p><strong>Historie:</strong><br>\n<br>\nZur Geschichte des Moritzb
 erglaufes. <a href=https://www.runningsocks.de/wordpress/wp-content/up
 loads/2010/04/Geschichte_Moritzberglauf.pdf>Entstehung des Moritzbergl
 aufes</a> (Quelle: www.skiclub-lauf.de)</p>\n<p style=text-align: just
 ify\;>Der Moritzberg bei <a href=http://de.wikipedia.org/wiki/Moritzbe
 rg_(Frankenalb) target=_blank>Wikipedia</a>. Der <a href=http://www.be
 rggasthof-moritzberg.de/ target=_blank>Berggasthof</a> auf dem Moritzb
 erg.</p>\n
URL:https://www.runningsocks.de/wordpress/terminkalender/eventsinglepa
 ge/?event_id=133&lang=de
ATTACH:https://www.runningsocks.de/wordpress/terminkalender/eventsingl
 epage/?event_id=133&lang=de
LOCATION:Moritzberg\, Moritzberg\, Lauf
END:VEVENT
END:VCALENDAR
