BEGIN:VCALENDAR
VERSION:2.0
METHOD:PUBLISH
PRODID:-//hacksw/handcal//NONSGML v1.0//EN
BEGIN:VEVENT
DTSTAMP:20260419T165505Z
DTSTART:20130505T133000Z
DTEND:20130505T153000Z
UID:20130505T133000Z-20130505T153000Z-135@www.runningsocks.de
SUMMARY:6. Weltkulturerbe Lauf Bamberg
DESCRIPTION:Kurzinfo zum 6. Weltkulturerbe Lauf Bamberg\, 05.05.2011:\
 n\nDie Spannung steigt\, der Ruhepuls auch\, freudige Erwartung macht 
 sich breit. Lange\, bevor die Teilnehmerinnen und Teilnehmer des Weltk
 ulturerbelaufs 2013 an den Start gehen\, breitet sich in Bamberg wiede
 r das Lauffieber aus. Wer sich von diesem sympathischen und gesundheit
 lich unbedenklichen Zustand anstecken lassen möchte\, sollte sich den 
 5. Mai 2013 dick im Kalender anstreichen. Zum 6. Mal veranstaltet der 
 gemeinnützige Weltkulturerbelauf Bamberg e.V. mit Unterstützung von ru
 nd 1300 Helfern dieses sportliche und gesellschaftliche Großereignis.\
 nWettbewerbe\n\n\n\nBöhnlein-Bambinilauf  Kindergartenkinder zwischen 
 vier und sechs Jahren)\n800 m\n\n\n\nFuchs-Schülerlauf Grundschüler de
 r 1. und 2. Klasse\n1\,6 km\n\n\n\nFuchs-Schülerlauf Grundschüler der 
 3. und 4. Klasse\n1\,6 km\n\n\n\nBambados-LaufSchüler der 5. mit 13. K
 lasse\n4\,1 km\n\n\n\nwieland-Lauf2004 und älter\n4\,4 km\n\n\n\nBrose
 -Lauf1997 und älter\n10\,9 km\n\n\n\nSparkassen-Lauf1995 und älter\n21
 \,1 km\n\n\n\nStreckenbeschaffenheit\nDie Laufstrecken führen teilweis
 e über Asphalt-\, Pflaster-\, Schotter-\, Sand- und Waldwege. Bedingt 
 durch die engen Gassen der Altstadt müssen einige rechtwinklige Abbieg
 ungen gelaufen werden. Besonders beim Sparkassen-Lauf sind anspruchsvo
 lle Steigungen und Gefälle zu bewältigen.\nHöhenmeter\n\n\n\nBöhnlein-
 Bambinilauf\nflach\n\n\nFuchs-Schülerläufe\nflach\n\n\nBambados-Lauf \
 nca. 30 Höhenmeter\n\n\nwieland-Lauf \nca. 35 Höhenmeter\n\n\nBrose-La
 uf \nca. 75 Höhenmeter\n\n\nSparkassen-Lauf \nca. 280 Höhenmeter\n\n\n
 \nStart/Ziel\nDer Start erfolgt am Markusplatz\, Ziel ist der Maximili
 ansplatz\n\nAusnahme: Böhnlein-Bambinilauf. Hier ist der Start an der 
 Ecke Franz-Ludwig-Straße/Grüner Markt\, das Ziel ist der Maximilianspl
 atz.\nStartzeiten 5. Mai 2013\n\n\n\nBöhnlein-Bambinilauf \n11:30 Uhr\
 n\n\nFuchs-Schülerlauf (1. und 2. Klasse) \n12:00 Uhr\n\n\nFuchs-Schül
 erlauf (3. und 4. Klasse) \n12:30 Uhr\n\n\nBambados-Lauf \n13:00 Uhr\n
 \n\nwieland-Lauf \n14:00 Uhr\n\n\nBrose-Lauf \n14:30 Uhr\n\n\nSparkass
 en-Lauf \n15:30 Uhr\n\n\n\nStartgeld und Anmeldefristen\n\n\n\nBöhnlei
 n-Bambinilauf\nAnmeldung zwischen 04.02.2013 - 24.03.2013 über den Kin
 dergarten\n5\,- €\n\n\nFuchs-Schülerlauf:  1. und 2. KlassenFuchs-Schü
 lerlauf:  3. und 4. KlassenBambados-Lauf:      5. Klassen und höher\nA
 nmeldung zwischen 01.10.2012 - 08.03.2013 über die Schulen\n8\,- €\n\n
 \nwieland-Lauf \nAnmeldung bis 31.12.2012\n15\,- €\n\n\n\nAnmeldung bi
 s 22.03.2013\n25\,- €\n\n\nBrose-Lauf \nAnmeldung bis 31.12.2012\n23\,
 - €\n\n\n\nAnmeldung bis 22.03.2013\n33\,- €\n\n\nSparkassen-Lauf\nAnm
 eldung bis 31.12.2012\n33\,- €\n\n\n\nAnmeldung bis 22.03.2013\n43\,- 
 €\n\n\n\nWeitere Info's und Onlineanmeldung auf der Seite des Veransta
 lters: Bamberger Weltkulturerbe Lauf
X-ALT-DESC;FMTTYPE=text/html:<p>Kurzinfo zum 6. Weltkulturerbe Lauf Ba
 mberg\, 05.05.2011:</p>\n<p>Die Spannung steigt\, der Ruhepuls auch\, 
 freudige Erwartung macht sich breit. Lange\, bevor die Teilnehmerinnen
  und Teilnehmer des Weltkulturerbelaufs 2013 an den Start gehen\, brei
 tet sich in Bamberg wieder das Lauffieber aus. Wer sich von diesem sym
 pathischen und gesundheitlich unbedenklichen Zustand anstecken lassen 
 möchte\, sollte sich den 5. Mai 2013 dick im Kalender anstreichen. Zum
  6. Mal veranstaltet der gemeinnützige &#8222\;Weltkulturerbelauf Bamb
 erg e.V.&#8220\; mit Unterstützung von rund 1300 Helfern dieses sportl
 iche und gesellschaftliche Großereignis.</p>\n<h3><strong>Wettbewerbe<
 /strong></h3>\n<table style=width: 679px\; border=0 cellspacing=1 cell
 padding=1>\n<tbody>\n<tr><td><strong><a href=http://www.weltkulturerbe
 lauf.de/article.php?id=132>Böhnlein-Bambinilauf</a> </strong><strong> 
 </strong>Kindergartenkinder zwischen vier und sechs Jahren)</td>\n<td>
 800 m</td>\n<td></td></tr>\n<tr><td><strong><a href=http://www.weltkul
 turerbelauf.de/article.php?id=203>Fuchs-Schülerlauf </a></strong>Grund
 schüler der 1. und 2. Klasse</td>\n<td>1\,6 km</td>\n<td></td></tr>\n<
 tr><td><strong><a href=http://www.weltkulturerbelauf.de/article.php?id
 =195>Fuchs-Schülerlauf </a></strong>Grundschüler der 3. und 4. Klasse<
 /td>\n<td>1\,6 km</td>\n<td></td></tr>\n<tr><td><strong><a href=http:/
 /www.weltkulturerbelauf.de/article.php?id=192>Bambados-Lauf</a></stron
 g>Schüler der 5. mit 13. Klasse</td>\n<td>4\,1 km</td>\n<td></td></tr>
 \n<tr><td><strong><a href=http://www.weltkulturerbelauf.de/article.php
 ?id=190>wieland-Lauf</a></strong>2004 und älter</td>\n<td>4\,4 km</td>
 \n<td></td></tr>\n<tr><td><strong><a href=http://www.weltkulturerbelau
 f.de/article.php?id=175>Brose-Lauf</a></strong>1997 und älter</td>\n<t
 d>10\,9 km</td>\n<td></td></tr>\n<tr><td><strong><a href=http://www.we
 ltkulturerbelauf.de/article.php?id=181>Sparkassen-Lauf</a></strong>199
 5 und älter</td>\n<td>21\,1 km</td></tr>\n</tbody>\n</table>\n<h3>Stre
 ckenbeschaffenheit</h3>\n<p>Die Laufstrecken führen teilweise über Asp
 halt-\, Pflaster-\, Schotter-\, Sand- und Waldwege. Bedingt durch die 
 engen Gassen der Altstadt müssen einige rechtwinklige Abbiegungen gela
 ufen werden. Besonders beim <a href=http://www.weltkulturerbelauf.de/a
 rticle.php?id=181>Sparkassen-Lauf </a>sind anspruchsvolle Steigungen u
 nd Gefälle zu bewältigen.</p>\n<h3>Höhenmeter</h3>\n<table style=width
 : 100%\; border=0 cellspacing=1 cellpadding=1>\n<tbody>\n<tr><td><a hr
 ef=http://www.weltkulturerbelauf.de/article.php?id=132>Böhnlein-Bambin
 ilauf</a></td>\n<td>flach</td></tr>\n<tr><td><a href=http://www.weltku
 lturerbelauf.de/article.php?id=195>Fuchs-Schülerläufe</a></td>\n<td>fl
 ach</td></tr>\n<tr><td><a href=http://www.weltkulturerbelauf.de/articl
 e.php?id=192>Bambados-Lauf </a></td>\n<td>ca. 30 Höhenmeter</td></tr>\
 n<tr><td><a href=http://www.weltkulturerbelauf.de/article.php?id=190>w
 ieland-Lauf </a></td>\n<td>ca. 35 Höhenmeter</td></tr>\n<tr><td><a hre
 f=http://www.weltkulturerbelauf.de/article.php?id=175>Brose-Lauf </a><
 /td>\n<td>ca. 75 Höhenmeter</td></tr>\n<tr><td><a href=http://www.welt
 kulturerbelauf.de/article.php?id=181>Sparkassen-Lauf </a></td>\n<td>ca
 . 280 Höhenmeter</td></tr>\n</tbody>\n</table>\n<h3>Start/Ziel</h3>\n<
 p>Der Start erfolgt am Markusplatz\, Ziel ist der Maximiliansplatz</p>
 \n<p>Ausnahme: <a href=http://www.weltkulturerbelauf.de/article.php?id
 =132>Böhnlein-Bambinilauf</a>. Hier ist der Start an der Ecke Franz-Lu
 dwig-Straße/Grüner Markt\, das Ziel ist der Maximiliansplatz.</p>\n<h3
 >Startzeiten 5. Mai 2013</h3>\n<table border=0 cellspacing=1 cellpaddi
 ng=1>\n<tbody>\n<tr><td><a href=http://www.weltkulturerbelauf.de/artic
 le.php?id=132>Böhnlein-Bambinilauf </a></td>\n<td>11:30 Uhr</td></tr>\
 n<tr><td><a href=http://www.weltkulturerbelauf.de/article.php?id=203>F
 uchs-Schülerlauf (1. und 2. Klasse) </a></td>\n<td>12:00 Uhr</td></tr>
 \n<tr><td><a href=http://www.weltkulturerbelauf.de/article.php?id=195>
 Fuchs-Schülerlauf (3. und 4. Klasse) </a></td>\n<td>12:30 Uhr</td></tr
 >\n<tr><td><a href=http://www.weltkulturerbelauf.de/article.php?id=192
 >Bambados-Lauf </a></td>\n<td>13:00 Uhr</td></tr>\n<tr><td><a href=htt
 p://www.weltkulturerbelauf.de/article.php?id=190>wieland-Lauf </a></td
 >\n<td>14:00 Uhr</td></tr>\n<tr><td><a href=http://www.weltkulturerbel
 auf.de/article.php?id=175>Brose-Lauf </a></td>\n<td>14:30 Uhr</td></tr
 >\n<tr><td><a href=http://www.weltkulturerbelauf.de/article.php?id=181
 >Sparkassen-Lauf </a></td>\n<td>15:30 Uhr</td></tr>\n</tbody>\n</table
 >\n<h3>Startgeld und Anmeldefristen</h3>\n<table style=width: 679px\; 
 border=0 cellspacing=1 cellpadding=1>\n<tbody>\n<tr><td><a href=http:/
 /www.weltkulturerbelauf.de/article.php?id=132>Böhnlein-Bambinilauf</a>
 </td>\n<td>Anmeldung zwischen 04.02.2013 &#8211\; 24.03.2013 über den 
 Kindergarten</td>\n<td>5\,- €</td></tr>\n<tr><td><a href=http://www.we
 ltkulturerbelauf.de/article.php?id=203>Fuchs-Schülerlauf:  1. und 2. K
 lassen</a><a href=http://www.weltkulturerbelauf.de/article.php?id=195>
 Fuchs-Schülerlauf:  3. und 4. Klassen</a><a href=http://www.weltkultur
 erbelauf.de/article.php?id=192>Bambados-Lauf:      5. Klassen und höhe
 r</a></td>\n<td>Anmeldung zwischen 01.10.2012 &#8211\; 08.03.2013 über
  die Schulen</td>\n<td>8\,- €</td></tr>\n<tr><td><a href=http://www.we
 ltkulturerbelauf.de/article.php?id=190>wieland-Lauf </a></td>\n<td>Anm
 eldung bis 31.12.2012</td>\n<td>15\,- €</td></tr>\n<tr><td></td>\n<td>
 Anmeldung bis 22.03.2013</td>\n<td>25\,- €</td></tr>\n<tr><td><a href=
 http://www.weltkulturerbelauf.de/article.php?id=175>Brose-Lauf </a></t
 d>\n<td>Anmeldung bis 31.12.2012</td>\n<td>23\,- €</td></tr>\n<tr><td>
 </td>\n<td>Anmeldung bis 22.03.2013</td>\n<td>33\,- €</td></tr>\n<tr><
 td><a href=http://www.weltkulturerbelauf.de/article.php?id=181>Sparkas
 sen-Lauf</a></td>\n<td>Anmeldung bis 31.12.2012</td>\n<td>33\,- €</td>
 </tr>\n<tr><td></td>\n<td>Anmeldung bis 22.03.2013</td>\n<td>43\,- €</
 td></tr>\n</tbody>\n</table>\n<p>Weitere Info&#8217\;s und Onlineanmel
 dung auf der Seite des Veranstalters: <a href=http://www.weltkulturerb
 elauf.de/ target=_blank>Bamberger Weltkulturerbe Lauf</a></p>\n
URL:https://www.runningsocks.de/wordpress/terminkalender/eventsinglepa
 ge/?event_id=135&lang=de
ATTACH:https://www.runningsocks.de/wordpress/terminkalender/eventsingl
 epage/?event_id=135&lang=de
LOCATION:Bamberg\, Markusplatz\, Markusplatz\, Bamberg
END:VEVENT
END:VCALENDAR
