BEGIN:VCALENDAR
VERSION:2.0
METHOD:PUBLISH
PRODID:-//hacksw/handcal//NONSGML v1.0//EN
BEGIN:VEVENT
DTSTAMP:20260419T165531Z
DTSTART:20121110T100000Z
DTEND:20121110T160000Z
UID:20121110T100000Z-20121110T160000Z-139@www.runningsocks.de
SUMMARY:9. Zeiler Waldmarathon
DESCRIPTION:Die Herausforderung im Naturpark Haßberge \n\nTermin: Sams
 tag\, 10.. November 2012\n\n\nOrt: Zeil am Main\n\nStart und Ziel: Set
 zbachbrunnen im Laufpark Zeil\n\nStreckenbeschreibung: Anspruchsvoller
  Kurs durch den Naturpark Haßberge im Laufpark Zeil auf fast durchgehe
 nd befestigten Waldwegen. Über den Schlossberg und die Bischofsheimer 
 Höhe führt die Strecke Richtung Jägerhäuschen zum Geisgrabenbrunnen. N
 ach dem Passieren der „Sieben Seen“ und des Bischofsheimer Sees verläu
 ft die Strecke über den Fitnesspfad zurück zum Ziel am Setzbachbrunnen
 . Es gibt zwei Straßenüberquerungen auf der Halbmarathonstrecke. Es gi
 lt die Straßenverkehrsordnung. Den Anweisungen der Streckenposten ist 
 Folge zu leisten.\n\nVerpflegungsstellen: Alle 5 km mit Mineralwasser\
 , Tee\, Isogetränk\, Göller-Max-Energydrink\, Cola\, Malzbier\, Banane
 n\, Müsliriegeln\, Cräcker\, Kuchen.\n\nHöhenmeter (HM): FLESSABANK-Ma
 rathon 840 HM\, FRÄNKISCHE-Halbmarathon 420 HM\n\nStartgebühren: \n\nF
 LESSABANK-Marathon: 24 € \n\nHalbmarathon: 15 € \n\nWalking/Nordic Wal
 king 21\,1 km: 11 € \n\nWalking/Nordic Walking 7\,5 km: 9 € \n\nStartn
 ummernausgabe: Rudolf-Winkler-Haus\, Freitag\, von 20.00 bis 22.00 Uhr
  und am Wettkampftag ab 7:30 Uhr bis ca. 1 Std. vor Start des jeweilig
 en Laufes. Sicherheitsnadeln muss jeder bitte selbst mitbringen.\n\nMe
 ldeschluss: 04.11.2012\, 24:00.\n\n\nStartzeiten:\n\n\n\n10:00\nFLESSA
 BANK-Marathon\n42\,195 km \n\n\n10:15\nWalking/Nordic Walking\n21\,1 k
 m\n\n\n\n10:30\nWalking/Nordic Walking\n7\,5 km \n\n\n11:00\n\nFRÄNKIS
 CHE-Halbmarathon\n21\,1 km\n\n\n\n \n\nPreise und Auszeichnungen:\n- F
 LESSABANK-Marathon:\nJeder Teilnehmer erhält im Ziel eine Medaille\, b
 ei Abgabe der Startnummer im Rudolf-Winkler-Haus eine Flasche Marathon
 wein und hat freien Eintritt ins Zeiler Hallenbad. Die drei schnellste
 n Männer und Frauen erhalten Sachpreise und Gutscheine\, ebenso alle A
 ltersklassensieger (5-Jahreswertung).\n\n-FRÄNKISCHE-Halbmarathon:\nJe
 der Teilnehmer erhält im Ziel eine Medaille\, bei Abgabe der Startnumm
 er im Rudolf-Winkler-Haus eine Flasche Marathonwein und hat freien Ein
 tritt ins Zeiler Hallenbad. Die drei schnellsten Männer und Frauen erh
 alten Sachpreise und Gutscheine\, ebenso alle Altersklassensieger (5-J
 ahreswertung).\n\n- Walking/Nordic Walking:\nJeder Teilnehmer erhält i
 m Ziel eine Medaille\, bei Abgabe der Startnummer im Rudolf-Winkler-Ha
 us eine Flasche Marathonwein und hat freien Eintritt ins Zeiler Hallen
 bad.\n\nTeamwertung FLESSABANK-Marathon und Halbmarathon: Die fünf tei
 lnehmerstärksten Gruppen oder Vereine (Männer und Frauen)\, erhalten:\
 n1. 30 Liter Bier und einen Schinken\n2. 25 Liter Bier und einen Schin
 ken\n3. 20 Liter Bier und einen Schinken\n4. 15 Liter Bier und fränkis
 che Hausmacherwurst\n5. 10 Liter Bier und fränkische Hausmacherwurst\n
 \n\n \n\nWeitere Details\, Info's und Online Anmeldung beim Veranstalt
 er: Zeiler Waldmarathon\n\nObige Daten © TV 1884 Zeil\, Lauf- und Leic
 htathletikabteilung „Rote Teufel“
X-ALT-DESC;FMTTYPE=text/html:<p style=text-align: center\;><span style
 =font-size: large\;>Die Herausforderung im Naturpark Haßberge </span><
 /p>\n<p><span style=font-size: x-small\;><br>\n<span style=font-size: 
 small\;><strong>Termin:</strong> Samstag\, 10.. November 2012<br>\n</s
 pan></span></p>\n<p><span style=font-size: small\;><strong>Ort:</stron
 g> Zeil am Main</span></p>\n<p><span style=font-size: small\;><strong>
 Start und Ziel:</strong> Setzbachbrunnen im Laufpark Zeil</span></p>\n
 <p><span style=font-size: small\;><strong>Streckenbeschreibung:</stron
 g> Anspruchsvoller Kurs durch den Naturpark Haßberge im Laufpark Zeil 
 auf fast durchgehend befestigten Waldwegen. Über den Schlossberg und d
 ie Bischofsheimer Höhe führt die Strecke Richtung Jägerhäuschen zum Ge
 isgrabenbrunnen. Nach dem Passieren der „Sieben Seen“ und des Bischofs
 heimer Sees verläuft die Strecke über den Fitnesspfad zurück zum Ziel 
 am Setzbachbrunnen. Es gibt zwei Straßenüberquerungen auf der Halbmara
 thonstrecke. Es gilt die Straßenverkehrsordnung. Den Anweisungen der S
 treckenposten ist Folge zu leisten.</span></p>\n<p><span style=font-si
 ze: small\;><strong>Verpflegungsstellen:</strong> Alle 5 km mit Minera
 lwasser\, Tee\, Isogetränk\, Göller-Max-Energydrink\, Cola\, Malzbier\
 , Bananen\, Müsliriegeln\, Cräcker\, Kuchen.</span></p>\n<p><span styl
 e=font-size: small\;><strong>Höhenmeter (HM):</strong> FLESSABANK-Mara
 thon 840 HM\, FRÄNKISCHE-Halbmarathon 420 HM</span></p>\n<p><span styl
 e=font-size: small\;><strong>Startgebühren:</strong> </span></p>\n<p><
 span style=font-size: small\;>FLESSABANK-Marathon: <strong>24 €</stron
 g> </span></p>\n<p><span style=font-size: small\;>Halbmarathon: <stron
 g>15 €</strong> </span></p>\n<p><span style=font-size: small\;>Walking
 /Nordic Walking 21\,1 km: <strong>11 € </strong></span></p>\n<p><span 
 style=font-size: small\;>Walking/Nordic Walking 7\,5 km: <strong>9 € <
 /strong></span></p>\n<p><span style=font-size: small\;><strong>Startnu
 mmernausgabe:</strong> Rudolf-Winkler-Haus\, Freitag\, von 20.00 bis 2
 2.00 Uhr und am Wettkampftag ab 7:30 Uhr bis ca. 1 Std. vor Start des 
 jeweiligen Laufes. Sicherheitsnadeln muss jeder bitte selbst mitbringe
 n.</span></p>\n<p><strong>Meldeschluss:</strong> 04.11.2012\, 24:00.<s
 pan style=font-family: Verdana\,Arial\,Helvetica\,sans-serif\;><span s
 tyle=font-size: x-small\;><br>\n</span></span></p>\n<p><span style=fon
 t-size: small\;><strong>Startzeiten:</strong></span></p>\n<table style
 =width: 404px\; height: 108px\; border=0>\n<tbody>\n<tr><td width=21%>
 <span style=font-size: small\;>10:00</span></td>\n<td width=49%><span 
 style=font-size: small\;>FLESSABANK-Marathon</span></td>\n<td width=30
 %><span style=font-size: small\;>42\,195 km </span></td></tr>\n<tr><td
 ><span style=font-size: small\;>10:15</span></td>\n<td><span style=fon
 t-size: small\;>Walking/Nordic Walking</span></td>\n<td><span style=fo
 nt-size: small\;>21\,1 km<br>\n</span></td></tr>\n<tr><td><span style=
 font-size: small\;>10:30</span></td>\n<td><span style=font-size: small
 \;>Walking/Nordic Walking</span></td>\n<td><span style=font-size: smal
 l\;>7\,5 km </span></td></tr>\n<tr><td><span style=font-size: small\;>
 11:00<br>\n</span></td>\n<td><span style=font-size: small\;>FRÄNKISCHE
 -Halbmarathon</span></td>\n<td><span style=font-size: small\;>21\,1 km
 </span></td></tr>\n</tbody>\n</table>\n<p>&nbsp\;</p>\n<p><span style=
 font-size: small\;><strong>Preise und Auszeichnungen:<br>\n</strong>&#
 8211\; FLESSABANK-Marathon:<br>\nJeder Teilnehmer erhält im Ziel eine 
 Medaille\, bei Abgabe der Startnummer im Rudolf-Winkler-Haus eine Flas
 che Marathonwein und hat freien Eintritt ins Zeiler Hallenbad. Die dre
 i schnellsten Männer und Frauen erhalten Sachpreise und Gutscheine\, e
 benso alle Altersklassensieger (5-Jahreswertung).</span></p>\n<p><span
  style=font-size: small\;>-FRÄNKISCHE-Halbmarathon:<br>\nJeder Teilneh
 mer erhält im Ziel eine Medaille\, bei Abgabe der Startnummer im Rudol
 f-Winkler-Haus eine Flasche Marathonwein und hat freien Eintritt ins Z
 eiler Hallenbad. Die drei schnellsten Männer und Frauen erhalten Sachp
 reise und Gutscheine\, ebenso alle Altersklassensieger (5-Jahreswertun
 g).</span></p>\n<p><span style=font-size: small\;>&#8211\; Walking/Nor
 dic Walking:<br>\nJeder Teilnehmer erhält im Ziel eine Medaille\, bei 
 Abgabe der Startnummer im Rudolf-Winkler-Haus eine Flasche Marathonwei
 n und hat freien Eintritt ins Zeiler Hallenbad.</span></p>\n<p><span s
 tyle=font-size: small\;><strong>Teamwertung </strong><strong>FLESSABAN
 K-</strong><strong>Marathon und Halbmarathon: </strong>Die fünf teilne
 hmerstärksten Gruppen oder Vereine (Männer und Frauen)\, erhalten:<br>
 \n1. 30 Liter Bier und einen Schinken<br>\n2. 25 Liter Bier und einen 
 Schinken<br>\n3. 20 Liter Bier und einen Schinken<br>\n4. 15 Liter Bie
 r und fränkische Hausmacherwurst<br>\n5. 10 Liter Bier und fränkische 
 Hausmacherwurst<br>\n</span><br>\n<br>\n&nbsp\;</p>\n<p><span style=fo
 nt-size: small\;>Weitere Details\, Info&#8217\;s und Online Anmeldung 
 beim Veranstalter: <a href=http://www.zeiler-waldmarathon.de/ target=_
 blank>Zeiler Waldmarathon</a></span></p>\n<p><span style=font-size: sm
 all\;>Obige Daten © TV 1884 Zeil\, Lauf- und Leichtathletikabteilung „
 Rote Teufel“<br>\n</span></p>\n
URL:https://www.runningsocks.de/wordpress/terminkalender/eventsinglepa
 ge/?event_id=139&lang=de
ATTACH:https://www.runningsocks.de/wordpress/terminkalender/eventsingl
 epage/?event_id=139&lang=de
LOCATION:Setzbachbrunnen im Laufpark Zeil\, Setzbachstraße\, Zeil am M
 ain
END:VEVENT
END:VCALENDAR
