BEGIN:VCALENDAR
VERSION:2.0
METHOD:PUBLISH
PRODID:-//hacksw/handcal//NONSGML v1.0//EN
BEGIN:VEVENT
DTSTAMP:20260419T165232Z
DTSTART:20100801T080000Z
DTEND:20100801T110000Z
UID:20100801T080000Z-20100801T110000Z-14@www.runningsocks.de
SUMMARY:2. Harakiri Berglauf
DESCRIPTION:Das offizielle Grand Prix Rennen wird nach den Statuten de
 r  International Association of Athletics Federations (IAAF) ausgetrag
 en.\nGestartet  wird der Berglauf im Zentrum von Mayrhofen. Die ersten
  Kilometer  werden die Athleten auf der Harakiri-Strecke des Run & Wal
 k  Parks absolvieren. Dieser wurde 2007 vom Mayrhofner Tourismusverban
 d in  Zusammenarbeit mit dem ehemaligen Berglauf-Juniorenweltmeister M
 arkus  Kröll geschaffen\, um den Gästen acht abwechslungsreiche Lauf- 
 und  Nordic Walking Trails rund um Mayrhofen anbieten zu können. Nach 
 dem  ansprechenden Abschnitt auf der Route des Run & Walk Parks werden
   sich die Favoriten beim steilen Anstieg hinauf zur kleinen Ortschaft
   Astegg erstmals bemerkbar machen und versuchen mit gezielten  Attack
 en die Konkurrenz hinter sich zu lassen. Das Ziel wird nach  einem seh
 r anspruchsvollen Lauf über 1.250 Höhenmeter der Gasthof  Gschößwand s
 ein\, welchen die Zuschauer über eine Bergfahrt mit der  Penkenbahn er
 reichen können.\nStereckeninfos:\nLänge: 10\,14 km\nHöhenmeter: 1260 m
 \nStartrunde (800 m)\nAsphalt (3180 m)\nSchotter\, Wanderweg (6160  m)
 \nStreckenprofil: Harakiri_Berglauf_Streckenverlauf\nAusschreibung/Fly
 er: Harakiri_Flyer_2010\nWeitere Info's und Onlineanmeldung beim Veran
 stalter: Harakiri Berglauf
X-ALT-DESC;FMTTYPE=text/html:<p style=text-align: justify\;>Das <stron
 g>offizielle Grand Prix Rennen</strong> wird nach den Statuten der  In
 ternational Association of Athletics Federations (IAAF) ausgetragen.</
 p>\n<p>Gestartet  wird der Berglauf im Zentrum von Mayrhofen. Die erst
 en Kilometer  werden die Athleten auf der <strong>Harakiri-Strecke</st
 rong> des Run &amp\; Walk  Parks absolvieren. Dieser wurde 2007 vom Ma
 yrhofner Tourismusverband in  Zusammenarbeit mit dem ehemaligen Bergla
 uf-Juniorenweltmeister Markus  Kröll geschaffen\, um den Gästen acht a
 bwechslungsreiche Lauf- und  Nordic Walking Trails rund um Mayrhofen a
 nbieten zu können. Nach dem  ansprechenden Abschnitt auf der Route des
  Run &amp\; Walk Parks werden  sich die Favoriten beim steilen Anstieg
  hinauf zur kleinen Ortschaft  Astegg erstmals bemerkbar machen und ve
 rsuchen mit gezielten  Attacken die Konkurrenz hinter sich zu lassen. 
 Das Ziel wird nach  einem sehr anspruchsvollen Lauf über 1.250 Höhenme
 ter der Gasthof  Gschößwand sein\, welchen die Zuschauer über eine Ber
 gfahrt mit der  Penkenbahn erreichen können.</p>\n<h3 style=text-align
 : left\;>Stereckeninfos:</h3>\n<p style=text-align: left\;><strong>Län
 ge:</strong> 10\,14 km<br>\n<strong>Höhenmeter:</strong> 1260 m<br>\n<
 strong>Startrunde</strong> (800 m)<br>\n<strong>Asphalt</strong> (3180
  m)<br>\n<strong>Schotter\, Wanderweg</strong> (6160  m)</p>\n<p style
 =text-align: left\;>Streckenprofil: <a href=https://www.runningsocks.d
 e/wordpress/wp-content/uploads/2010/03/Harakiri_Berglauf_2009_Strecken
 verlauf_01.pdf>Harakiri_Berglauf_Streckenverlauf</a></p>\n<p style=tex
 t-align: left\;>Ausschreibung/Flyer: <a href=https://www.runningsocks.
 de/wordpress/wp-content/uploads/2010/03/Harakiri_flyer_2010.pdf>Haraki
 ri_Flyer_2010</a></p>\n<p style=text-align: left\;>Weitere Info&#8217\
 ;s und Onlineanmeldung beim Veranstalter: <a href=http://www.mayrhofen
 -harakiri.com/ target=_blank>Harakiri Berglauf</a></p>\n
URL:https://www.runningsocks.de/wordpress/terminkalender/eventsinglepa
 ge/?event_id=14&lang=de
ATTACH:https://www.runningsocks.de/wordpress/terminkalender/eventsingl
 epage/?event_id=14&lang=de
LOCATION:Mayerhofen Zentrum\, Hauptstrasse\, Mayrhofen
END:VEVENT
END:VCALENDAR
