BEGIN:VCALENDAR
VERSION:2.0
METHOD:PUBLISH
PRODID:-//hacksw/handcal//NONSGML v1.0//EN
BEGIN:VEVENT
DTSTAMP:20260419T165515Z
DTSTART:20120526T130000Z
DTEND:20120526T153000Z
UID:20120526T130000Z-20120526T153000Z-140@www.runningsocks.de
SUMMARY:11. Leinburger KIRWA Lauf
DESCRIPTION:Wie jedes Jahr findet auch heuer am Pfingstsamstag den 26.
 05.2012\, der 11. Leinburger Kirwalauf statt.\n\nDie Anmeldung ist ab 
 sofort über untenstehende Adresse möglich.  Für aktuellste Information
 en bitte die Seite des Veranstalters\, TV-Leinburg aufrufen. Alle Date
 n\, Infos sowie ©pyright mit freundlicher Genehmigung von  TV-Leinburg
 \n\nUnd hier die wichtigsten Daten und Fakten:\n\nStart & Ziel:\n\nBra
 uereihof Bub / Leinburg\n\nLäufe und Startzeiten:\n\n	Kinderlauf 500 m
  Start: 15:00\n	Schülerlauf 1\,5 km Start: 15:30\n	Kirwalauf 10 km Sta
 rt: 16:00\n	Kirwalauf 5 km Start: 16:10\n	Nordic-Walking-Lauf 5 km Sta
 rt: 16:10\n\nKlasseneinteilung:\nKinderlauf = Mädchen/Jungen - Jahrgan
 g 2003 und jünger\nSchülerlauf = Schüler - Jahrgang 2002 bis 1999\nKir
 walauf = Jugendliche ab Jahrgang 1998\, Damen & Herren\nEs erfolgt kei
 ne spezielle Klassenwertung!\n\nPreise:\nDie 3 Schnellsten jedes Renne
 ns (Kirwalauf)\, weiblich & männlich\, erhalten Sachpreise. Zudem erfo
 lgt eine Sachpreisverlosung unter allen Teilnehmern.\n\n\nStartgeld:\n
 \n	Kinder-/ Schülerlauf      2\,00 EUR\n	Kirwalauf / Nordic-Walking  8
 \,00 EUR\n\nNachmeldegebühr nach dem 25.05.2012:\n\n	Kinder-/ Schülerl
 auf      2\,00 EUR\n	Kirwalauf / Nordic-Walking  2\,00 EUR\n\nStartnum
 mernausgabe:\n14:00  – 15:00 Uhr im Brauereihof\nSiegerehrung:\nca. 18
 :00 Uhr im Brauereihof\n\nAnmeldung  bis 25.05.2012 - 19:00 Uhr bei \n
 Franz Stieglbauer\nBachgasse 7\n91227 Leinburg\nFon:        09120 / 68
 29\neMail:     jugendbeauftragter.leinburg@gmx.de\n\nUnd danach noch e
 in Bierchen im Brauereihof Bub\, der bisher in der aktuellen Artikelse
 rie der Nürnberger Nachrichten  Tour de Bier noch nicht erwähnt wurde.
  Das muss sich ändern !!\n\nOder ihr besucht die Laufamholzer Kärwa\, 
 welche ebenfalls am Pfingstwochenende in Laufamholz stattfindet.
X-ALT-DESC;FMTTYPE=text/html:<p>Wie jedes Jahr findet auch heuer am Pf
 ingstsamstag den 26.05.2012\, der 11. Leinburger Kirwalauf statt.</p>\
 n<p>Die Anmeldung ist ab sofort über untenstehende Adresse möglich.  F
 ür aktuellste Informationen bitte die Seite des Veranstalters\, <a hre
 f=http://www.tvleinburg.de/skiabteilung/ target=_blank>TV-Leinburg</a>
  aufrufen. Alle Daten\, Infos sowie ©pyright mit freundlicher Genehmig
 ung von  <a href=http://www.tvleinburg.de/skiabteilung/ target=_blank>
 TV-Leinburg</a></p>\n<p>Und hier die wichtigsten Daten und Fakten:</p>
 \n<p><strong>Start &amp\; Ziel:</strong><br>\n<br>\nBrauereihof Bub / 
 Leinburg</p>\n<p><strong>Läufe und Startzeiten:</strong></p>\n<ul>\n<l
 i>Kinderlauf 500 m Start: 15:00</li>\n<li>Schülerlauf 1\,5 km Start: 1
 5:30</li>\n<li>Kirwalauf 10 km Start: 16:00</li>\n<li>Kirwalauf 5 km S
 tart: 16:10</li>\n<li>Nordic-Walking-Lauf 5 km Start: 16:10</li>\n</ul
 >\n<p><strong>Klasseneinteilung:</strong><br>\nKinderlauf = Mädchen/Ju
 ngen &#8211\; Jahrgang 2003 und jünger<br>\nSchülerlauf = Schüler &#82
 11\; Jahrgang 2002 bis 1999<br>\nKirwalauf = Jugendliche ab Jahrgang 1
 998\, Damen &amp\; Herren<br>\nEs erfolgt keine spezielle Klassenwertu
 ng!</p>\n<p><strong>Preise:</strong><br>\nDie 3 Schnellsten jedes Renn
 ens (Kirwalauf)\, weiblich &amp\; männlich\, erhalten Sachpreise. Zude
 m erfolgt eine Sachpreisverlosung unter allen Teilnehmern.<span style=
 font-family: Arial\,Helvetica\,sans-serif\; font-size: x-small\;><br>\
 n</span></p>\n<p><strong>Startgeld:</strong></p>\n<ul>\n<li>Kinder-/ S
 chülerlauf      2\,00 EUR</li>\n<li>Kirwalauf / Nordic-Walking  8\,00 
 EUR</li>\n</ul>\n<p>Nachmeldegebühr nach dem 25.05.2012:</p>\n<ul>\n<l
 i>Kinder-/ Schülerlauf      2\,00 EUR</li>\n<li>Kirwalauf / Nordic-Wal
 king  2\,00 EUR</li>\n</ul>\n<p><strong>Startnummernausgabe:</strong><
 br>\n14:00  – 15:00 Uhr im Brauereihof<br>\nSiegerehrung:<br>\nca. 18:
 00 Uhr im Brauereihof</p>\n<p><strong>Anmeldung  bis 25.05.2012 &#8211
 \; 19:00 Uhr bei </strong><br>\nFranz Stieglbauer<br>\nBachgasse 7<br>
 \n91227 Leinburg<br>\nFon:        09120 / 6829<br>\neMail:     jugendb
 eauftragter.leinburg@gmx.de</p>\n<p>Und danach noch ein Bierchen im <a
  href=http://www.leinburger-bier.de/ target=_blank>Brauereihof Bub\, <
 /a>der bisher in der aktuellen Artikelserie der Nürnberger Nachrichten
   &#8222\;<a href=http://www.nordbayern.de/service-freizeit/brauerei-g
 uide target=_blank>Tour de Bier</a>&#8220\; noch nicht erwähnt wurde. 
 Das muss sich ändern !!</p>\n<p>Oder ihr besucht die <a href=http://ww
 w.laufamholz.info/Veranstaltungen/Kirchweih/Flier.shtml target=_blank>
 Laufamholzer Kärwa</a>\, welche ebenfalls am Pfingstwochenende in Lauf
 amholz stattfindet.</p>\n
URL:https://www.runningsocks.de/wordpress/terminkalender/eventsinglepa
 ge/?event_id=140&lang=de
ATTACH:https://www.runningsocks.de/wordpress/terminkalender/eventsingl
 epage/?event_id=140&lang=de
LOCATION:Brauereihof Bub\, Marktplatz 14\, Leinburg
END:VEVENT
END:VCALENDAR
