BEGIN:VCALENDAR
VERSION:2.0
METHOD:PUBLISH
PRODID:-//hacksw/handcal//NONSGML v1.0//EN
BEGIN:VEVENT
DTSTAMP:20260419T165515Z
DTSTART:20100702T060000Z
DTEND:20100704T150000Z
UID:20100702T060000Z-20100704T150000Z-15@www.runningsocks.de
SUMMARY:2. Zillertal Bike Challenge
DESCRIPTION:Die Zillertal Bike Challenge ist ein  einzigartiges Etappe
 nrennen\, das sich von anderen Rennen dieser Art in  vielen Punkten ab
 hebt:\n\n\n	Zwei  Leistungskategorien stehen den Teilnehmern zur Auswa
 hl.\n	Die Kategorie „King of  the Mountain” und “Queen of the Mountain
 “  führt über 10.000 Hm und ca. 200 km.\n	\nDie Teilnehmer der Kategor
 ie „Prince  of the Mountain“ und „Princess of the Mountain“  dürfen di
 e Hilfe der Bergbahnen in Anspruch nehmen und  kürzen so die Distanz u
 m 5.000 Hm ab\, fahren aber auf derselben Strecke  wie die Teilnehmer 
 in den Kategorien „King“ und „Queen of the  Mountain“.\n\n\nWeitere In
 fo's und Online Anmeldung beim Veranstalter: www.zillertal-bikechallen
 ge.com
X-ALT-DESC;FMTTYPE=text/html:<p style=text-align: justify\;>Die Ziller
 tal Bike Challenge ist ein  einzigartiges Etappenrennen\, das sich von
  anderen Rennen dieser Art in  vielen Punkten abhebt:</p>\n<ul style=t
 ext-align: justify\;>\n<li><strong>Zwei  Leistungskategorien </strong>
 stehen den Teilnehmern zur Auswahl.</li>\n<li>Die Kategorie „<strong>K
 ing of  the Mountain</strong>” und “<strong>Queen of the Mountain</str
 ong>“  führt über 10.000 Hm und ca. 200 km.</li>\n<li>\n<p style=text-
 align: justify\;>Die Teilnehmer der Kategorie „<strong>Prince  of the 
 Mountain</strong>“ und „<strong>Princess of the Mountain</strong>“  dü
 rfen die Hilfe der <strong>Bergbahnen in Anspruch nehmen </strong>und 
  kürzen so die Distanz um 5.000 Hm ab\, fahren aber auf derselben Stre
 cke  wie die Teilnehmer in den Kategorien „King“ und „Queen of the  Mo
 untain“.</p>\n</li>\n</ul>\n<p style=text-align: justify\;>Weitere Inf
 o&#8217\;s und Online Anmeldung beim Veranstalter: <a href=http://www.
 zillertal-bikechallenge.com target=_blank>www.zillertal-bikechallenge.
 com</a></p>\n
URL:https://www.runningsocks.de/wordpress/terminkalender/eventsinglepa
 ge/?event_id=15&lang=de
ATTACH:https://www.runningsocks.de/wordpress/terminkalender/eventsingl
 epage/?event_id=15&lang=de
END:VEVENT
END:VCALENDAR
