BEGIN:VCALENDAR
VERSION:2.0
METHOD:PUBLISH
PRODID:-//hacksw/handcal//NONSGML v1.0//EN
BEGIN:VEVENT
DTSTAMP:20260419T165313Z
DTSTART:20100703T070000Z
DTEND:20100703T190000Z
UID:20100703T070000Z-20100703T190000Z-16@www.runningsocks.de
SUMMARY:12 Stunden MTB Rennen
DESCRIPTION:12 Stunden auf dem Mountainbike!\n\n\nAls Einzelfahrer ode
 r im Team! Egal ob Profi oder ambitionierte  Breitensportler - Der Spa
 ßfaktor steht im Vordergrund. Auf einem  abgesteckten Rundkurs fahren 
 die Mountainbikerinnen und Mountainbiker  innerhalb von 12 Stunden mög
 lichst viele Runden. Wer am meisten Runden  schafft ist Sieger.\n\nDie
  jährlich steigenden Teilnehmerzahlen beweisen es - diese Art von  Mou
 ntainbike Rennen wird immer beliebter. Auch einige Fahrer des RC  Schn
 aittachtal nehmen jährlich an 12 und 24 Stunden MTB Rennen  erfolgreic
 h teil und so fanden wir es an der Zeit auch bei uns in  Schnaittach i
 m Nürnberger Land ein 12-Stunden-Mountainbike-Rennen zu  veranstalten.
 \n\nWir laden alle Hobbybiker und Profibiker\, sowie alle Sportbegeist
 erte zu  diesem Event ein.\nWeitere Infos und Online Anmeldung beim Ve
 ranstalter: Radclub Schnaittachtal e.V.
X-ALT-DESC;FMTTYPE=text/html:<p><span style=font-size: x-small\;></p>\
 n<h3>12 Stunden auf dem Mountainbike!</h3>\n<p></span><br>\n<br>\nAls 
 Einzelfahrer oder im Team! Egal ob &#8222\;Profi&#8220\; oder ambition
 ierte  Breitensportler &#8211\; Der Spaßfaktor steht im Vordergrund. A
 uf einem  abgesteckten Rundkurs fahren die Mountainbikerinnen und Moun
 tainbiker  innerhalb von 12 Stunden möglichst viele Runden. Wer am mei
 sten Runden  schafft ist Sieger.</p>\n<p>Die jährlich steigenden Teiln
 ehmerzahlen beweisen es &#8211\; diese Art von  Mountainbike Rennen wi
 rd immer beliebter. Auch einige Fahrer des RC  Schnaittachtal nehmen j
 ährlich an 12 und 24 Stunden MTB Rennen  erfolgreich teil und so fande
 n wir es an der Zeit auch bei uns in  Schnaittach im Nürnberger Land e
 in 12-Stunden-Mountainbike-Rennen zu  veranstalten.</p>\n<p>Wir laden 
 alle Hobbybiker und Profibiker\, sowie alle Sportbegeisterte zu  diese
 m Event ein.</p>\n<p style=text-align: justify\;>Weitere Infos und Onl
 ine Anmeldung beim Veranstalter: <a href=http://www.12h-rc-schnaittach
 tal.de//cms/website.php?id=/de/index.htm target=_blank>Radclub Schnait
 tachtal e.V.</a></p>\n
URL:https://www.runningsocks.de/wordpress/terminkalender/eventsinglepa
 ge/?event_id=16&lang=de
ATTACH:https://www.runningsocks.de/wordpress/terminkalender/eventsingl
 epage/?event_id=16&lang=de
LOCATION:An der Alle / Badstraße\, Badstraße 4\, Schnaittach
END:VEVENT
END:VCALENDAR
