BEGIN:VCALENDAR
VERSION:2.0
METHOD:PUBLISH
PRODID:-//hacksw/handcal//NONSGML v1.0//EN
BEGIN:VEVENT
DTSTAMP:20260419T165617Z
DTSTART:20120901T120000Z
DTEND:20120901T160000Z
UID:20120901T120000Z-20120901T160000Z-167@www.runningsocks.de
SUMMARY:Radtreff RSG Leinburg
DESCRIPTION:Die RSG Leinburg trifft sich von März bis September immer 
 samstags um 14 Uhr am Kornmarkt. Interessierte Radsportler sind gerne 
 willkommen.
X-ALT-DESC;FMTTYPE=text/html:<p>Die RSG Leinburg trifft sich von März 
 bis September immer samstags um 14 Uhr am Kornmarkt. Interessierte Rad
 sportler sind gerne willkommen.</p>\n
URL:https://www.runningsocks.de/wordpress/terminkalender/eventsinglepa
 ge/?event_id=167&lang=de
ATTACH:https://www.runningsocks.de/wordpress/terminkalender/eventsingl
 epage/?event_id=167&lang=de
LOCATION:Moritzberg Apotheke\, Kornmarkt 1\, Leinburg
END:VEVENT
END:VCALENDAR
