BEGIN:VCALENDAR
VERSION:2.0
METHOD:PUBLISH
PRODID:-//hacksw/handcal//NONSGML v1.0//EN
BEGIN:VEVENT
DTSTAMP:20260419T165351Z
DTSTART:20100320T123000Z
DTEND:20100320T140000Z
UID:20100320T123000Z-20100320T140000Z-17@www.runningsocks.de
SUMMARY:Post-SV-Frühjahrslauf
DESCRIPTION:Strecken:\n\n\n	Kinderlauf 1\,1 km\n	Schülerlauf 2\,1 km\n
 	5- und 10-km-Lauf\n\nAusschreibung: Post SV Fruehjahrslauf\nWeitere I
 nfo's und Online Anmeldung beim Veranstalter: Post SV Triathlon
X-ALT-DESC;FMTTYPE=text/html:<p style=text-align: justify\;>Strecken:<
 /p>\n<ul>\n<li style=text-align: justify\;>Kinderlauf 1\,1 km</li>\n<l
 i style=text-align: justify\;>Schülerlauf 2\,1 km</li>\n<li style=text
 -align: justify\;>5- und 10-km-Lauf</li>\n</ul>\n<p style=text-align: 
 justify\;>Ausschreibung: <a href=https://www.runningsocks.de/wordpress
 /wp-content/uploads/2010/03/Fruehjahrslauf_A3.pdf>Post SV Fruehjahrsla
 uf</a></p>\n<p style=text-align: justify\;>Weitere Info&#8217\;s und O
 nline Anmeldung beim Veranstalter: <a href=http://postsv-triathlon.de/
  target=_blank>Post SV Triathlon</a></p>\n
URL:https://www.runningsocks.de/wordpress/terminkalender/eventsinglepa
 ge/?event_id=17&lang=de
ATTACH:https://www.runningsocks.de/wordpress/terminkalender/eventsingl
 epage/?event_id=17&lang=de
LOCATION:Volkspark Marienberg\, Volkspark Marienberg\, Nürnberg
END:VEVENT
END:VCALENDAR
