BEGIN:VCALENDAR
VERSION:2.0
METHOD:PUBLISH
PRODID:-//hacksw/handcal//NONSGML v1.0//EN
BEGIN:VEVENT
DTSTAMP:20260419T165512Z
DTSTART:20120721T110000Z
DTEND:20120721T130000Z
UID:20120721T110000Z-20120721T130000Z-172@www.runningsocks.de
SUMMARY:4. Anitas Swim & Run
DESCRIPTION:In Gedenken an die Vereinskollegin und Trainerin Anita Wie
 demann vom Team Klinikum\, die am 1. Juni 2009 bei einem Radunfall ums
  Leben gekommen ist\, veranstaltet das Team Klinikum Nürnberg e.V. sei
 tdem jedes Jahr „Anitas swim & run“.\n\nDie Strecken (400m Schwimmen &
  5 km) sind deshalb auch kurz gehalten\, so daß jeder daran teilnehmen
  kann\, natürlich auch jederzeit als Staffel. An diesem Tag steht für 
 alle das sportliche Miteinander im Mittelpunkt\, der Wettkampfcharakte
 r rückt daher auch etwas in den Hintergrund\, daher gibt es auch keine
  offizielle Zeitmessung. Die Zeitnahme führt jeder für sich selbst dur
 ch. Trotzdem werden die ersten drei Männer\, Frauen und Staffeln geehr
 t. (Quelle aller Infos: http://www.team-klinikum-nuernberg.de)\n\nStar
 t und Ziel: Birkensee bei Diepersdorf\n\nWeiter Infos und Anmeldung be
 im Veranstalter: Team Klinikum Nürnberg e.V.\n\nAktuelle Ausschreibung
 :\n\n[wpfilebase tag=file path='fun/swim-run/anitas-swim-run/20120721/
 DE_swim_and_run_flyer_2012_20120504160357.pdf' /]
X-ALT-DESC;FMTTYPE=text/html:<p>In Gedenken an die Vereinskollegin und
  Trainerin Anita Wiedemann vom Team Klinikum\, die am 1. Juni 2009 bei
  einem Radunfall ums Leben gekommen ist\, veranstaltet das Team Klinik
 um Nürnberg e.V. seitdem jedes Jahr „Anitas swim &amp\; run“.</p>\n<p>
 Die Strecken (400m Schwimmen &amp\; 5 km) sind deshalb auch kurz gehal
 ten\, so daß jeder daran teilnehmen kann\, natürlich auch jederzeit al
 s Staffel. An diesem Tag steht für alle das sportliche Miteinander im 
 Mittelpunkt\, der Wettkampfcharakter rückt daher auch etwas in den Hin
 tergrund\, daher gibt es auch keine offizielle Zeitmessung. Die Zeitna
 hme führt jeder für sich selbst durch. Trotzdem werden die ersten drei
  Männer\, Frauen und Staffeln geehrt. (Quelle aller Infos: http://www.
 team-klinikum-nuernberg.de)</p>\n<p><span style=text-decoration: under
 line\;>Start und Ziel:</span> Birkensee bei Diepersdorf</p>\n<p><span 
 style=text-decoration: underline\;>Weiter Infos und Anmeldung beim Ver
 anstalter:</span> <a href=http://team-klinikum-nuernberg.de/v03/pub/in
 dex.html?navID=de1&amp\;poolID=&amp\;detailID=340&amp\;page=1&amp\;suc
 htxt=&amp\;only=74&amp\;IDS=1jNGrcyL target=_blank>Team Klinikum Nürnb
 erg e.V.</a></p>\n<p><span style=text-decoration: underline\;>Aktuelle
  Ausschreibung:</span><br>\n<br>\n[wpfilebase tag=file path=&#8217\;fu
 n/swim-run/anitas-swim-run/20120721/DE_swim_and_run_flyer_2012_2012050
 4160357.pdf&#8216\; /]</p>\n
URL:https://www.runningsocks.de/wordpress/terminkalender/eventsinglepa
 ge/?event_id=172&lang=de
ATTACH:https://www.runningsocks.de/wordpress/terminkalender/eventsingl
 epage/?event_id=172&lang=de
LOCATION:Birkensee - Röthenbach\, Birkensee\, Röthenbach
END:VEVENT
END:VCALENDAR
