BEGIN:VCALENDAR
VERSION:2.0
METHOD:PUBLISH
PRODID:-//hacksw/handcal//NONSGML v1.0//EN
BEGIN:VEVENT
DTSTAMP:20260419T165732Z
DTSTART:20120819T070000Z
DTEND:20120819T110000Z
UID:20120819T070000Z-20120819T110000Z-173@www.runningsocks.de
SUMMARY:16. Finish Line Herbstlauf
DESCRIPTION:Strecken:\n\n10Km\, 21\,1Km\n\nStartgebühr:\n\n	10Km - 15 
 Euro\n	21\,1Km - 21 Euro\n	Nachmeldung\, ab 13.08.2012: 3 Euro\n\nAnme
 ldungen:\n\nbis 12.08.2012 - Online\n\n13.08.2012 - 18.08.2012 persönl
 ich oder telefonsich in den beiden Finish-Line läden (Nürnberg bzw. Fü
 rth).\n\nWeitere Infos siehe Flyer sowie Homepage des Veranstalters  F
 INISH-LINE.de. Online Anmeldung bei SAS- Zeitmesssysteme.\n\n[wpfileba
 se tag=file path='lauf/finish-line-herbstlauf/20120819/20120819_Finish
 Line-Herbstlauf_Ausschreibung.pdf' /]
X-ALT-DESC;FMTTYPE=text/html:<p><strong>Strecken:</strong><br>\n<br>\n
 10Km\, 21\,1Km</p>\n<p><strong>Startgebühr:</strong></p>\n<ul>\n<li>10
 Km &#8211\; 15 Euro</li>\n<li>21\,1Km &#8211\; 21 Euro</li>\n<li>Nachm
 eldung\, ab 13.08.2012: 3 Euro</li>\n</ul>\n<p><strong>Anmeldungen:</s
 trong><br>\n<br>\nbis 12.08.2012 &#8211\; Online</p>\n<p>13.08.2012 &#
 8211\; 18.08.2012 persönlich oder telefonsich in den beiden Finish-Lin
 e läden (Nürnberg bzw. Fürth).</p>\n<p>Weitere Infos siehe Flyer sowie
  Homepage des Veranstalters  <a href=http://www.finish-line.de/wettkae
 mpfe-ausschreibungen.htm target=_blank>FINISH-LINE.de</a>. Online Anme
 ldung bei <a href=https://www.sas-online.net/sas_voranmeldungen/voranm
 eldungen.php?ID=116&amp\;start=1 target=_blank>SAS- Zeitmesssysteme.</
 a></p>\n<p>[wpfilebase tag=file path=&#8217\;lauf/finish-line-herbstla
 uf/20120819/20120819_FinishLine-Herbstlauf_Ausschreibung.pdf&#8216\; /
 ]</p>\n
URL:https://www.runningsocks.de/wordpress/terminkalender/eventsinglepa
 ge/?event_id=173&lang=de
ATTACH:https://www.runningsocks.de/wordpress/terminkalender/eventsingl
 epage/?event_id=173&lang=de
LOCATION:Waldweg gegenüber Club Bad\, Valznerweiher Straße 200\, Nürnb
 erg
END:VEVENT
END:VCALENDAR
