BEGIN:VCALENDAR
VERSION:2.0
METHOD:PUBLISH
PRODID:-//hacksw/handcal//NONSGML v1.0//EN
BEGIN:VEVENT
DTSTAMP:20260419T165502Z
DTSTART:20120729T081500Z
DTEND:20120729T100000Z
UID:20120729T081500Z-20120729T100000Z-174@www.runningsocks.de
SUMMARY:4. Altenfurther Boulevard Lauf
DESCRIPTION:Die wichtigsten Info's in Kürze (Quelle: http://tka-triath
 lon.de)\n\nStart / Ziel:\n\nLöwenberger Str./Zähringer Str.\n\nStrecke
 n:\n\n	5Km ( Runden zu je 2\,5Km)\n	10Km (4 Runden zu je 2\,5Km)\n\nSt
 artgebühr:\n\n	5Km Lauf: 10 Euro\n	10Km Lauf: 15 Euro\n\nIncl. hochwer
 tigem Funktions-Teilnehmer-/Finishershirt bei Anmeldung bis zum 19.07.
 2012 bestellt werden\n\nTeilnehmerlimit:\n\n150 Starter/-innen auf bei
 den Distanzen\n\nAnmeldeschluß:\n\n27.07.2012 bzw. bis Teilnehmerlimit
  erreicht ist.\n\nAktuellste Informationen und Online Anmeldung beim V
 eranstalter: Team Königs Apotheke
X-ALT-DESC;FMTTYPE=text/html:<p>Die wichtigsten Info&#8217\;s in Kürze
  (Quelle: http://tka-triathlon.de)</p>\n<p><strong>Start / Ziel:</stro
 ng><br>\n<br>\nLöwenberger Str./Zähringer Str.</p>\n<p><strong>Strecke
 n:</strong></p>\n<ul>\n<li>5Km ( Runden zu je 2\,5Km)</li>\n<li>10Km (
 4 Runden zu je 2\,5Km)</li>\n</ul>\n<p><strong>Startgebühr:</strong></
 p>\n<ul>\n<li>5Km Lauf: 10 Euro</li>\n<li>10Km Lauf: 15 Euro</li>\n</u
 l>\n<p>Incl. hochwertigem Funktions-Teilnehmer-/Finishershirt bei Anme
 ldung bis zum 19.07.2012 bestellt werden</p>\n<p><strong>Teilnehmerlim
 it:</strong><br>\n<br>\n150 Starter/-innen auf beiden Distanzen</p>\n<
 p>Anmeldeschluß:</p>\n<p>27.07.2012 bzw. bis Teilnehmerlimit erreicht 
 ist.</p>\n<p>Aktuellste Informationen und Online Anmeldung beim Verans
 talter:<a href=http://tka-triathlon.de/hp/index.php/altenfurter-boulev
 ardlauf-2012 target=_blank> Team Königs Apotheke</a></p>\n
URL:https://www.runningsocks.de/wordpress/terminkalender/eventsinglepa
 ge/?event_id=174&lang=de
ATTACH:https://www.runningsocks.de/wordpress/terminkalender/eventsingl
 epage/?event_id=174&lang=de
LOCATION:Altenfurther Boulevard Lauf\, Löwenberger Straße\, Nürnberg
END:VEVENT
END:VCALENDAR
