BEGIN:VCALENDAR
VERSION:2.0
METHOD:PUBLISH
PRODID:-//hacksw/handcal//NONSGML v1.0//EN
BEGIN:VEVENT
DTSTAMP:20260419T165531Z
DTSTART:20120923T071500Z
DTEND:20120923T103000Z
UID:20120923T071500Z-20120923T103000Z-175@www.runningsocks.de
SUMMARY:20. Stadtlauf\, 10 Km von Röthenbach
DESCRIPTION:Der DAV Röthenbach organisiert und veranstaltet dieses Jah
 r zum 20. male die 10Km von Röthenbach. Angeboten werden die folgenden
  Strecken:\n\n\n\nLänge\nStartberechtigungen\nStartgebühren\n\n\n400 m
 \nBambini\n-\n\n\n2000m\nSchülerinnen & Schüler D\n3 EUR\n\n\n2000 m\n
 Schülerinnen & Schüler C\n3 EUR\n\n\n2000 m\nSchülerinnen & Schüler B\
 n3 EUR\n\n\n2000 m\nSchülerinnen & Schüler A\n3 EUR\n\n\n4600 m\nHobby
 lauf\n4 EUR\n\n\n10000 m\nJugend M AB / W AB\n5 EUR\n\n\n10000 m\nHaup
 klasse M / W 20\n8 EUR\n\n\n\nMeldeschluß: 19.09.2012\n\nNachmeldungen
 : am 23.09.2012 bis 1 Std. vor der Startzeit des jeweiligen Laufes.\n\
 nNachmeldegebühr: 2 EUR\n\nAnmeldungen: Per E-Mail\, Online oder per Ü
 berweisung.\n\nStartzeiten ca.:\n\n	09:15 Uhr Start Schüler- und Hobby
 lauflauf\n	10:15 Uhr Start Hauptlauf\n	 11:30 Uhr Start Bambinilauf\n\
 nAlle weiteren Infos\, Online-Anmeldung direkt beim Veranstalter: DAV-
 Röthenbach\n\nAusschreibung:\n\n[wpfilebase tag=file path='lauf/10km-v
 on-roethenbach/20120923/20120923_10KmRoethenbach_Ausschreibung.pdf' /]
X-ALT-DESC;FMTTYPE=text/html:<p>Der DAV Röthenbach organisiert und ver
 anstaltet dieses Jahr zum 20. male die &#8222\;10Km von Röthenbach&#82
 20\;. Angeboten werden die folgenden Strecken:</p>\n<table style=width
 : 500px\; border=0 align=center>\n<tbody>\n<tr><td style=text-align: c
 enter\;><strong>Länge</strong></td>\n<td style=text-align: center\;><s
 trong>Startberechtigungen</strong></td>\n<td style=text-align: center\
 ;><strong>Startgebühren</strong></td></tr>\n<tr><td style=text-align: 
 center\;>400 m</td>\n<td style=text-align: center\;>Bambini</td>\n<td 
 style=text-align: center\;>&#8211\;</td></tr>\n<tr><td style=text-alig
 n: center\;>2000m</td>\n<td style=text-align: center\;>Schülerinnen &a
 mp\; Schüler D</td>\n<td style=text-align: center\;>3 EUR</td></tr>\n<
 tr><td style=text-align: center\;>2000 m</td>\n<td style=text-align: c
 enter\;>Schülerinnen &amp\; Schüler C</td>\n<td style=text-align: cent
 er\;>3 EUR</td></tr>\n<tr><td style=text-align: center\;>2000 m</td>\n
 <td style=text-align: center\;>Schülerinnen &amp\; Schüler B</td>\n<td
  style=text-align: center\;>3 EUR</td></tr>\n<tr><td style=text-align:
  center\;>2000 m</td>\n<td style=text-align: center\;>Schülerinnen &am
 p\; Schüler A</td>\n<td style=text-align: center\;>3 EUR</td></tr>\n<t
 r><td style=text-align: center\;>4600 m</td>\n<td style=text-align: ce
 nter\;>Hobbylauf</td>\n<td style=text-align: center\;>4 EUR</td></tr>\
 n<tr><td style=text-align: center\;>10000 m</td>\n<td style=text-align
 : center\;>Jugend M AB / W AB</td>\n<td style=text-align: center\;>5 E
 UR</td></tr>\n<tr><td style=text-align: center\;>10000 m</td>\n<td sty
 le=text-align: center\;>Haupklasse M / W 20</td>\n<td style=text-align
 : center\;>8 EUR</td></tr>\n</tbody>\n</table>\n<p>Meldeschluß: 19.09.
 2012</p>\n<p>Nachmeldungen: am 23.09.2012 bis 1 Std. vor der Startzeit
  des jeweiligen Laufes.</p>\n<p>Nachmeldegebühr: 2 EUR</p>\n<p>Anmeldu
 ngen: Per E-Mail\, Online oder per Überweisung.</p>\n<p>Startzeiten ca
 .:</p>\n<ul>\n<li>09:15 Uhr Start Schüler- und Hobbylauflauf</li>\n<li
 >10:15 Uhr Start Hauptlauf</li>\n<li> 11:30 Uhr Start Bambinilauf</li>
 \n</ul>\n<p>Alle weiteren Infos\, Online-Anmeldung direkt beim Veranst
 alter: <a href=http://www.dav-roethenbach.de/index.php?option=com_cont
 ent&amp\;task=view&amp\;id=371&amp\;Itemid=273 target=_blank>DAV-Röthe
 nbach</a></p>\n<p>Ausschreibung:</p>\n<p>[wpfilebase tag=file path=&#8
 217\;lauf/10km-von-roethenbach/20120923/20120923_10KmRoethenbach_Aussc
 hreibung.pdf&#8216\; /]</p>\n
URL:https://www.runningsocks.de/wordpress/terminkalender/eventsinglepa
 ge/?event_id=175&lang=de
ATTACH:https://www.runningsocks.de/wordpress/terminkalender/eventsingl
 epage/?event_id=175&lang=de
LOCATION:10 Km von Röthenbach\, Bayernstraße\, Röthenbach a.d. Pegnitz
END:VEVENT
END:VCALENDAR
