BEGIN:VCALENDAR
VERSION:2.0
METHOD:PUBLISH
PRODID:-//hacksw/handcal//NONSGML v1.0//EN
BEGIN:VEVENT
DTSTAMP:20260419T165505Z
DTSTART:20120902T081500Z
DTEND:20120902T091500Z
UID:20120902T081500Z-20120902T091500Z-176@www.runningsocks.de
SUMMARY:3. Run & Bike beim Altstadtrennen Nürnberg
DESCRIPTION:Zum dritten Mal findet nun auf Grund des großen Erfolges a
 us den Vorjahren beim Altstadtrennen wieder ein Run and Bike statt. Lä
 ufer und Radfahrer teilen sich ein Fahrrad\, wobei der Abstand zwische
 n dem Läufer und dem Radfahrer nie mehr als 10 Meter betragen darf. Si
 e wechseln sich beliebig oft ab und legen dabei gemeinsam eine Strecke
  von bis zu 10 km zurück. Zwei Läufer teilen sich ein Fahrrad. (Quelle
 : www.radrennen.de)\n\nWie\, Wer\, Wann\, Wo? (Quelle:  fun-race.org )
 \n\n	Was und wie funktioniert Run and Bike?\n	Startberechtigung: Mitma
 chen kann jeder\n	Start: 10:15 Uhr\, Hauptmarkt\n	Ziel: Hauptmarkt\n\n
 Strecken:\n\n	Strecke: Altstadtrunde\, Länge: 3\,5 km\n	Streckenlänge:
  Fitness-Distanz: 3 Runden ca. 11 Km\n	Schnupper-Distanz: 2 Runden ca.
  7\,5 Km\n\nStartgeld:\n\n	bis 30.06.2012 : 20\,00 € pro Team\n	nach d
 em 30.06.2012 bis 30.08.2012 : 25\,00 € pro Team\n	Nachmeldung : 30\,0
 0 € pro Team\n\nReglement:\n\n	Run & Bike im Rahmen des Altstadtrennen
 s ist eine Volkslaufveranstaltung der besonderen Art. Jeweils ein Team
 mitglied läuft und der Partner fährt Rad. Beide können sich beliebig a
 bwechseln. Dabei darf der Abstand zwischen dem Läufer und dem Radfahre
 r nicht mehr als 10 Meter betragen\n\nAnmeldungen:\n\n	Anmeldungen: hi
 er geht's lang\n\n(Quelle: www.fun-race.org)
X-ALT-DESC;FMTTYPE=text/html:<p>Zum dritten Mal findet nun auf Grund d
 es großen Erfolges aus den Vorjahren beim Altstadtrennen wieder ein Ru
 n and Bike statt. Läufer und Radfahrer teilen sich ein Fahrrad\, wobei
  der Abstand zwischen dem Läufer und dem Radfahrer nie mehr als 10 Met
 er betragen darf. Sie wechseln sich beliebig oft ab und legen dabei ge
 meinsam eine Strecke von bis zu 10 km zurück. Zwei Läufer teilen sich 
 ein Fahrrad. (Quelle: <a href=http://www.nuernberg.de/internet/radrenn
 en/run_and_bike.html target=_blank>www.radrennen.de</a>)</p>\n<p>Wie\,
  Wer\, Wann\, Wo? (Quelle:  <a href=http://www.fun-race.org/termine-au
 sschreibungen/run-bike-492011-nuernberg/ target=_blank>fun-race.org</a
 > )</p>\n<ul>\n<li><a href=http://www.fun-race.org/termine-ausschreibu
 ngen/run-bike-1292010-nuernberg/die-details/ target=_blank>Was und wie
  funktioniert Run and Bike</a>?</li>\n<li>Startberechtigung: Mitmachen
  kann jeder</li>\n<li>Start: 10:15 Uhr\, Hauptmarkt</li>\n<li>Ziel: Ha
 uptmarkt</li>\n</ul>\n<p>Strecken:</p>\n<ul>\n<li>Strecke: Altstadtrun
 de\, Länge: 3\,5 km</li>\n<li>Streckenlänge: Fitness-Distanz: 3 Runden
  ca. 11 Km</li>\n<li>Schnupper-Distanz: 2 Runden ca. 7\,5 Km</li>\n</u
 l>\n<p>Startgeld:</p>\n<ul>\n<li>bis 30.06.2012 : 20\,00 € pro Team</l
 i>\n<li>nach dem 30.06.2012 bis 30.08.2012 : 25\,00 € pro Team</li>\n<
 li>Nachmeldung : 30\,00 € pro Team</li>\n</ul>\n<p>Reglement:</p>\n<ul
 >\n<li>Run &amp\; Bike im Rahmen des Altstadtrennens ist eine Volkslau
 fveranstaltung der besonderen Art. Jeweils ein Teammitglied läuft und 
 der Partner fährt Rad. Beide können sich beliebig abwechseln. Dabei da
 rf der Abstand zwischen dem Läufer und dem Radfahrer nicht mehr als 10
  Meter betragen</li>\n</ul>\n<p>Anmeldungen:</p>\n<ul>\n<li>Anmeldunge
 n: <a href=https://www.star-timing.de/index.php/events2012/run-and-bik
 e-altstadt-2012 target=_blank>hier geht&#8217\;s lang</a></li>\n</ul>\
 n<p>(Quelle: <a href=http://www.fun-race.org/termine-ausschreibungen/r
 un-bike-1292010-nuernberg/ target=_blank>www.fun-race.org</a>)</p>\n
URL:https://www.runningsocks.de/wordpress/terminkalender/eventsinglepa
 ge/?event_id=176&lang=de
ATTACH:https://www.runningsocks.de/wordpress/terminkalender/eventsingl
 epage/?event_id=176&lang=de
LOCATION:Hauptmarkt Nürnberg\, Hauptmarkt\, Nürnberg
END:VEVENT
END:VCALENDAR
