BEGIN:VCALENDAR
VERSION:2.0
METHOD:PUBLISH
PRODID:-//hacksw/handcal//NONSGML v1.0//EN
BEGIN:VEVENT
DTSTAMP:20260419T165232Z
DTSTART:20121231T120000Z
DTEND:20121231T140000Z
UID:20121231T120000Z-20121231T140000Z-178@www.runningsocks.de
SUMMARY:10. Nürnberger Silvesterlauf
DESCRIPTION:Liebe Läuferinnen und Läufer des letztjährigen Silvesterla
 ufs\, es ist wieder soweit. Seit 1. Oktober hat die Online-Anmeldung z
 um 10. Nürnberger Silvesterlauf geöffnet.\nBis 25.11.2012 gibt es Früh
 bucher Rabatte\, also schnell zuschlagen und nicht vergessen.  Erfahru
 ngsgemäß ist der Lauf schon vor Ende der Anmeldefrist ausgebucht. Zur 
 Jubiläumsausgabe wurde das Startplatzkontingent auf 1212 Startplätz er
 höht (sonst 1111).\n\nStart und Ziel:\n\nWie im letzten Jahr\,auf dem 
 großen Fußweg\, gegenüber dem Erfahrungsfeld der Sinne\n\nAktuelle Mel
 dedaten:\n\n	18.10.2012:  10Km Hauptlauf 563 Teilnehmer\n	18.10.2012: 
  5Km Hobbylauf 60 Teilnehmer\n	18.10.2012:  1600m Schüler 8 Teilnehmer
 \n	18.10.2012:  400m Bambini 11 Teilnehmer\n\nAnmelde\,- Startgebühren
 :\n\nFrühbucherrabatt bis 25.11.2012\n10 km Hauptlauf: 11 €\n5 km Hobb
 ylauf: 9 €\nBambini und Schülerlauf: 4 €\n\nNormalpreis ab 26.11.2012\
 n10 km Hauptlauf: 16 €\n5 km Hobbylauf: 11 €\nBambini und Schülerlauf:
  4 €\n\nNachmeldungen ab 27.12.2012\n(sofern noch Plätze vorhanden)\n1
 0 km Hauptlauf: 21 €\n5 km Hobbylauf: 13 €\nBambini und Schülerlauf: 4
  €\n\nEin Funktiosnshirt kann für 10 EUR zusätzlich bei der Anmeldung 
 bestellt werden (solange Vorrat reicht)\n\nGutmann Team Cup:\n\nAuch d
 ieses Jahr gibt es wieder den Gutmann Team Cup.  Beim 10-km-Hauptlauf 
 werden alle Teams gewertet\, die mit gleichem Vereins- oder Gruppennam
 en (bitte bei der Online-Anmeldung unbedingt auf gleiche Bezeichnung a
 chten!) eingetragen sind. Gewertet werden alle Teams mit den Zeiten de
 r fünf bestplatzierten Finisher. Die Wertung erfolgt immer als Mixed-W
 ertung\, d.h. es erfolgt keine getrennte Frauen- und Männerwertung.\n\
 nAusschreibung\, Veranstalter\, Anmeldung:\n\nAusschreibung\, Flyer:\n
 \n=> folgt\, sobald verfügbar\n\nWeitere\, aktuelle Info's und Anmeldu
 ng beim Veranstalter: Team Klinikum Nürnberg e. V.\n\nDirekt zur Onlin
 e-Anmeldung: Anmeldung
X-ALT-DESC;FMTTYPE=text/html:<p style=text-align: center\;>Liebe Läufe
 rinnen und Läufer des letztjährigen Silvesterlaufs\, es ist wieder sow
 eit. Seit 1. Oktober hat die Online-Anmeldung zum 10. Nürnberger Silve
 sterlauf geöffnet.</p>\n<p>Bis 25.11.2012 gibt es Frühbucher Rabatte\,
  also schnell zuschlagen und nicht vergessen.  Erfahrungsgemäß ist der
  Lauf schon vor Ende der Anmeldefrist ausgebucht. Zur Jubiläumsausgabe
  wurde das Startplatzkontingent auf 1212 Startplätz erhöht (sonst 1111
 ).</p>\n<p><span style=text-decoration: underline\;><strong>Start und 
 Ziel:</strong></span><br>\n<br>\nWie im letzten Jahr\,auf dem großen F
 ußweg\, gegenüber dem Erfahrungsfeld der Sinne</p>\n<p>Aktuelle Melded
 aten:</p>\n<ul>\n<li>18.10.2012:  10Km Hauptlauf 563 Teilnehmer</li>\n
 <li>18.10.2012:  5Km Hobbylauf 60 Teilnehmer</li>\n<li>18.10.2012:  16
 00m Schüler 8 Teilnehmer</li>\n<li>18.10.2012:  400m Bambini 11 Teilne
 hmer</li>\n</ul>\n<p><span style=text-decoration: underline\;><strong>
 Anmelde\,- Startgebühren:</strong></span></p>\n<p><strong>Frühbucherra
 batt bis 25.11.2012</strong><br>\n10 km Hauptlauf: 11 €<br>\n5 km Hobb
 ylauf: 9 €<br>\nBambini und Schülerlauf: 4 €</p>\n<p><strong>Normalpre
 is ab 26.11.2012<br>\n</strong>10 km Hauptlauf: 16 €<br>\n5 km Hobbyla
 uf: 11 €<br>\nBambini und Schülerlauf: 4 €</p>\n<p><strong>Nachmeldung
 en ab 27.12.2012<br>\n(sofern noch Plätze vorhanden)<br>\n</strong>10 
 km Hauptlauf: 21 €<br>\n5 km Hobbylauf: 13 €<br>\nBambini und Schülerl
 auf: 4 €</p>\n<p>Ein Funktiosnshirt kann für 10 EUR zusätzlich bei der
  Anmeldung bestellt werden (solange Vorrat reicht)</p>\n<p><span style
 =text-decoration: underline\;><strong>Gutmann Team Cup:</strong></span
 ><br>\n<br>\nAuch dieses Jahr gibt es wieder den Gutmann Team Cup.  Be
 im 10-km-Hauptlauf werden alle Teams gewertet\, die mit gleichem Verei
 ns- oder Gruppennamen (bitte bei der Online-Anmeldung unbedingt auf gl
 eiche Bezeichnung achten!) eingetragen sind. Gewertet werden alle Team
 s mit den Zeiten der fünf bestplatzierten Finisher. Die Wertung erfolg
 t immer als Mixed-Wertung\, d.h. es erfolgt keine getrennte Frauen- un
 d Männerwertung.</p>\n<p><strong><span style=text-decoration: underlin
 e\;>Ausschreibung\, Veranstalter\, Anmeldung:</span></strong><br>\n<br
 >\nAusschreibung\, Flyer:</p>\n<p>=&gt\; folgt\, sobald verfügbar</p>\
 n<p>Weitere\, aktuelle Info&#8217\;s und Anmeldung beim Veranstalter: 
 <a href=http://www.silvesterlauf-nuernberg.de/ target=_blank>Team Klin
 ikum Nürnberg e. V.</a></p>\n<p>Direkt zur Online-Anmeldung: <a href=h
 ttps://www.silvesterlauf-nuernberg.de/anmeldung.html target=_blank>Anm
 eldung</a></p>\n
URL:https://www.runningsocks.de/wordpress/terminkalender/eventsinglepa
 ge/?event_id=178&lang=de
ATTACH:https://www.runningsocks.de/wordpress/terminkalender/eventsingl
 epage/?event_id=178&lang=de
LOCATION:Wöhrder Wiese\, Wöhrder Wiese\, Nürnberg
END:VEVENT
END:VCALENDAR
