BEGIN:VCALENDAR
VERSION:2.0
METHOD:PUBLISH
PRODID:-//hacksw/handcal//NONSGML v1.0//EN
BEGIN:VEVENT
DTSTAMP:20260419T165352Z
DTSTART:20110501T080000Z
DTEND:20110501T110000Z
UID:20110501T080000Z-20110501T110000Z-18@www.runningsocks.de
SUMMARY:4. Moritzberglauf
DESCRIPTION:Der Moritzberglauf ist die Herausforderung für Läufer( inn
 en) der 10-km-Distanz und findet traditionell am 1. Mai statt. Zwische
  Start und Ziel sind 363 Höhenmeter zu überwinden. Details sh. Ausschr
 eibung.\n\nAusschreibung:\n\n[wpfilebase tag=file id=440]\n\nStart: \n
 \nAn der Tennishalle Süd\, 10:00\n\nZiel:\n\nMoritzberg\n\nDistanz:\n\
 n10Km\, Berglauf\, 363HM\n\nWeitere Info's beim Veranstalter: Skiclub 
 Lauf\n\nHistorie:\n\nZur Geschichte des Moritzberglaufes. Entstehung d
 es Moritzberglaufes (Quelle: www.skiclub-lauf.de)\nDer Moritzberg bei 
 Wikipedia. Der Berggasthof auf dem Moritzberg.
X-ALT-DESC;FMTTYPE=text/html:<p>Der Moritzberglauf ist die Herausforde
 rung für Läufer( innen) der 10-km-Distanz und findet traditionell am 1
 . Mai statt. Zwische Start und Ziel sind 363 Höhenmeter zu überwinden.
  Details sh. Ausschreibung.</p>\n<p><strong>Ausschreibung:</strong><br
 >\n<br>\n[wpfilebase tag=file id=440]</p>\n<p><strong>Start: </strong>
 <br>\n<br>\nAn der &#8222\;Tennishalle Süd&#8220\;\, 10:00</p>\n<p><st
 rong>Ziel:</strong><br>\n<br>\nMoritzberg</p>\n<p><strong>Distanz:</st
 rong><br>\n<br>\n10Km\, Berglauf\, 363HM</p>\n<p>Weitere Info&#8217\;s
  beim Veranstalter: <a href=http://www.skiclub-lauf.de/index.php?id=36
 4 target=_blank>Skiclub Lauf</a></p>\n<p><strong>Historie:</strong><br
 >\n<br>\nZur Geschichte des Moritzberglaufes. <a href=https://www.runn
 ingsocks.de/wordpress/wp-content/uploads/2010/04/Geschichte_Moritzberg
 lauf.pdf>Entstehung des Moritzberglaufes</a> (Quelle: www.skiclub-lauf
 .de)</p>\n<p style=text-align: justify\;>Der Moritzberg bei <a href=ht
 tp://de.wikipedia.org/wiki/Moritzberg_(Frankenalb) target=_blank>Wikip
 edia</a>. Der <a href=http://www.berggasthof-moritzberg.de/ target=_bl
 ank>Berggasthof</a> auf dem Moritzberg.</p>\n
URL:https://www.runningsocks.de/wordpress/terminkalender/eventsinglepa
 ge/?event_id=18&lang=de
ATTACH:https://www.runningsocks.de/wordpress/terminkalender/eventsingl
 epage/?event_id=18&lang=de
LOCATION:Moritzberg\, Moritzberg\, Lauf
END:VEVENT
END:VCALENDAR
