BEGIN:VCALENDAR
VERSION:2.0
METHOD:PUBLISH
PRODID:-//hacksw/handcal//NONSGML v1.0//EN
BEGIN:VEVENT
DTSTAMP:20260419T165413Z
DTSTART:20130406T103000Z
DTEND:20130406T140000Z
UID:20130406T103000Z-20130406T140000Z-181@www.runningsocks.de
SUMMARY:10. Stadtwaldlauf Fürth
DESCRIPTION:Anspruchvoller Halbmarathon im Fürther Stadtwald und rund 
 um die Veste\nStrecken: Halbmarathon - 10 km - Schülerläufe\n\nZeitpla
 n:\n11.00 Uhr Schülerlauf 3\,0 km\, Jrg. 1997-2000\n11.30 Uhr Schülerl
 auf 1\,5 km\, Jrg. 2001-2002\n11.45 Uhr Schülerlauf 1\,5 km\, Jrg. 200
 3 und jünger\n12.00 Uhr Bambini-Lauf 400 m\, Jrg. 2005 und jünger\n\na
 b 12.15 Uhr Siegerehrungen Schülerläufe\n\n13.00 Uhr Halbmarathon\, Jr
 g. 1996 und älter\n13.20 Uhr 10-km-Hauptlauf\, Jrg. 1996 und älter\n\n
 ab 15.00 Uhr Siegerehrungen Erwachsene\n\nTeilnahmegebühren:\nBambini-
 Lauf: kostenlos\nSchülerläufe: 4 Euro (plus 2 Euro bei Nachmeldung)\n1
 0-km-Hauptlauf: 15 Euro (plus 4 Euro bei Nachmeldung)\nHalbmarathon: 2
 0 Euro (plus 4 Euro bei Nachmeldung)\n\nStartunterlagenausgabe:\nvor O
 rt ab 10 Uhr bis jeweils 1 Stunde vor dem Start\nWeitere Info's und On
 line Anmeldung auf der Seite des Veranstalters: www.lac-quelle.de\nAus
 schreibung:\n[wpfilebase tag=file path='lauf/stadtwaldlauf-fuerth/2013
 0406/20130406_StadtwaldlaufFuerth_Ausschreibung.pdf' /]
X-ALT-DESC;FMTTYPE=text/html:<p style=text-align: center\;><strong>Ans
 pruchvoller Halbmarathon im Fürther Stadtwald und rund um die Veste</s
 trong></p>\n<p><strong>Strecken:</strong> Halbmarathon &#8211\; 10 km 
 &#8211\; Schülerläufe</p>\n<p><strong>Zeitplan:<br>\n</strong>11.00 Uh
 r Schülerlauf 3\,0 km\, Jrg. 1997-2000<br>\n11.30 Uhr Schülerlauf 1\,5
  km\, Jrg. 2001-2002<br>\n11.45 Uhr Schülerlauf 1\,5 km\, Jrg. 2003 un
 d jünger<br>\n12.00 Uhr Bambini-Lauf 400 m\, Jrg. 2005 und jünger</p>\
 n<p>ab 12.15 Uhr Siegerehrungen Schülerläufe</p>\n<p>13.00 Uhr Halbmar
 athon\, Jrg. 1996 und älter<br>\n13.20 Uhr 10-km-Hauptlauf\, Jrg. 1996
  und älter</p>\n<p>ab 15.00 Uhr Siegerehrungen Erwachsene</p>\n<p><str
 ong>Teilnahmegebühren:<br>\n</strong>Bambini-Lauf: kostenlos<br>\nSchü
 lerläufe: 4 Euro (plus 2 Euro bei Nachmeldung)<br>\n10-km-Hauptlauf: 1
 5 Euro (plus 4 Euro bei Nachmeldung)<br>\nHalbmarathon: 20 Euro (plus 
 4 Euro bei Nachmeldung)</p>\n<p><strong>Startunterlagenausgabe:<br>\n<
 /strong>vor Ort ab 10 Uhr bis jeweils 1 Stunde vor dem Start</p>\n<p s
 tyle=text-align: left\;>Weitere Info&#8217\;s und Online Anmeldung auf
  der Seite des Veranstalters: <a href=http://www.lacquelle.de/veransta
 ltungen/laufveranstaltungen/stadtwaldlauf target=_blank>www.lac-quelle
 .de</a></p>\n<p style=text-align: left\;><strong>Ausschreibung:</stron
 g></p>\n<p style=text-align: left\;>[wpfilebase tag=file path=&#8217\;
 lauf/stadtwaldlauf-fuerth/20130406/20130406_StadtwaldlaufFuerth_Aussch
 reibung.pdf&#8216\; /]</p>\n
URL:https://www.runningsocks.de/wordpress/terminkalender/eventsinglepa
 ge/?event_id=181&lang=de
ATTACH:https://www.runningsocks.de/wordpress/terminkalender/eventsingl
 epage/?event_id=181&lang=de
LOCATION:TV Fürth 1860 e.V\, Coubertinstraße 2\, Fürth\,
END:VEVENT
END:VCALENDAR
